BEGIN:VCALENDAR
PRODID:-//github.com/rianjs/ical.net//NONSGML ical.net 2.2//EN
VERSION:2.0
BEGIN:VEVENT
CATEGORIES:Activitats
CREATED;TZID=Europe/Madrid:20260423T231144
DESCRIPTION:<p><span style="font-size: 12px\; font-family: Arial\; color: 
 #7f7f7f\;"><strong>CODI CIRCULAR: 30/13<br />\n<br />\n<span style="text-
 decoration: underline\;">ITINERARI&nbsp\;<br />\n</span></strong></span><
 span style="font-size: 12px\; font-family: Arial\; color: #7f7f7f\;"><br 
 />\n09.45 h Sortida amb autocar des de Tortosa\, mercat del peix (M&Iacut
 e\;NIM 20 INSCRITS).<br />\n</span><span style="font-size: 12px\; font-fa
 mily: Arial\; color: #7f7f7f\;">11.00 h </span><strong style="color: #7f7
 f7f\; font-family: Arial\; font-size: 12px\;">Visita guiada Catedral de T
 arragona</strong><span style="font-size: 12px\; font-family: Arial\; colo
 r: #7f7f7f\;">\, punt de trobada al Portal del Roser</span><strong style=
 "color: #7f7f7f\; font-family: Arial\; font-size: 12px\;">.<br />\n</stro
 ng><span style="font-size: 12px\; font-family: Arial\; color: #7f7f7f\;">
 14.00 h Dinar </span><strong style="color: #7f7f7f\; font-family: Arial\;
  font-size: 12px\;">Restaurant LA CUINETA\, </strong><span style="font-si
 ze: 12px\; font-family: Arial\; color: #7f7f7f\;">situat a la Part Alta d
 e Tarragona.&ordm\;<br />\n</span><span style="font-size: 12px\; font-fam
 ily: Arial\; color: #7f7f7f\;">16.30 h </span><strong style="color: #7f7f
 7f\; font-family: Arial\; font-size: 12px\;">Visita guiada al Seminari\, 
 </strong><span style="font-size: 12px\; font-family: Arial\; color: #7f7f
 7f\;">recentment remodelat\,</span><strong style="color: #7f7f7f\; font-f
 amily: Arial\; font-size: 12px\;"> </strong><span style="font-size: 12px\
 ; font-family: Arial\; color: #7f7f7f\;">a c&agrave\;rrec de la Directora
 .<br />\n</span><span style="font-size: 12px\; font-family: Arial\; color
 : #7f7f7f\;">18.00 h Fi de la sortida.&nbsp\;<br />\n</span><strong style
 ="color: #7f7f7f\;"><span style="font-size: 12px\; font-family: Arial\;">
 <br />\nP</span><span style="font-size: 12px\; font-family: Arial\;">REU 
 col&middot\;legiats/ associats:</span></strong><span style="font-size: 12
 px\; font-family: Arial\; color: #7f7f7f\;"> 25 &euro\;<br />\n</span><st
 rong style="color: #7f7f7f\; font-family: Arial\; font-size: 12px\;">NENS
 :</strong><span style="font-size: 12px\; font-family: Arial\; color: #7f7
 f7f\;"> 15 &euro\; (fins els 12 anys)</span><strong style="color: #7f7f7f
 \; font-family: Arial\; font-size: 12px\;">&nbsp\; &nbsp\; &nbsp\; &nbsp\
 ; &nbsp\; &nbsp\; &nbsp\;&nbsp\;</strong></p>\n<p><span style="font-size:
  12px\; font-family: Arial\; color: #7f7f7f\;">(</span><strong style="col
 or: #7f7f7f\; font-family: Arial\; font-size: 12px\;">El preu inclou:</st
 rong><span style="font-size: 12px\; font-family: Arial\; color: #7f7f7f\;
 "> entrades\, guia\, transport i dinar)<br />\n</span><strong style="colo
 r: #7f7f7f\; font-family: Arial\; font-size: 12px\;"><br />\nNOTA</strong
 ><span style="font-size: 12px\; font-family: Arial\; color: #7f7f7f\;">: 
 el servei de l'autocar tindr&agrave\; un increment en el preu de 15 &euro
 \;.<br />\n</span><strong style="font-family: Arial\;"><span style="font-
 size: 12px\;"><br />\n<span style="color: #548dd4\;">\nLA CATEDRAL DE TAR
 RAGONA&nbsp\;<br />\n</span></span></strong><span style="font-size: 12px\
 ; font-family: Arial\; color: #7f7f7f\;"><br />\nLa Santa Esgl&eacute\;si
 a Catedral Bas&iacute\;lica Metropolitana i Primada de les Espanyes\, t&i
 acute\;tol oficial de la Catedral de Tarragona\, est&agrave\; dedicada a 
 santa Tecla i s&rsquo\;aixeca al lloc m&eacute\;s elevat de la ciutat. In
 iciada en el segle XII\, es va consagrar l&rsquo\;any 1331. Els seus fona
 ments i la seva&nbsp\;</span><a href="http://www.catedraldetarragona.com/
 ?page_id=780&amp\;lang=ca" title="Hist?ria de la Catedral" style="font-fa
 mily: Arial\; font-size: 12px\;"><span style="text-decoration: none\;">ev
 oluci&oacute\; hist&ograve\;rica</span></a><span style="font-size: 12px\;
  font-family: Arial\; color: #7f7f7f\;">&nbsp\;s&oacute\;n paral&middot\;
 lels a la hist&ograve\;ria de la ciutat.&nbsp\;</span></p>\n<p style="fon
 t-family: Arial\; text-align: justify\;"><span style="text-align: left\; 
 font-size: 12px\; color: #7f7f7f\;"><br />\nLa Catedral presenta planta b
 asilical\, amb tres naus amb els seus corresponents absis i transsepte. L
 a cap&ccedil\;alera de la Catedral respon a la tradici&oacute\; rom&agrav
 e\;nica\, amb arcs de mig punt\, i des del creuer evoluciona amb les t&eg
 rave\;cniques g&ograve\;tiques. Les naus es cobreixen amb voltes de creue
 ria sostingudes per pilars cruciformes amb columnes adossades i amb capit
 ells profusament decorats amb temes figurats i vegetals. La nau central f
 a 104 m de longitud per 16 d&rsquo\;amplada i t&eacute\; una al&ccedil\;a
 da de 26 m\, que arriben a ser 32 al centre del cimbori. Les naus lateral
 s fan 7\,23 m d&rsquo\;amplada.</span></p>\n<p> </p>\n<p style="text-alig
 n: justify\;"><span style="font-size: 12px\; font-family: Arial\; color: 
 #7f7f7f\;">M&eacute\;s informaci&oacute\;: </span><a href="http://www.cat
 edraldetarragona.com/" style="color: #7f7f7f\; font-family: Arial\; font-
 size: 12px\;">http://www.catedraldetarragona.com/</a></p>\n<div style="te
 xt-align: justify\;"><strong style="text-align: left\; font-family: Arial
 \;"><span style="color: #548dd4\;"><br />\n<span style="font-size: 13px\;
 ">\nEL SEMINARI DE TARRAGONA</span></span></strong><span style="font-size
 : 12px\; font-family: Arial\; color: #7f7f7f\;"><br />\n<br />\nUbicat al
  costat de l&rsquo\;arxiu Dioces&agrave\;\, del Palau Arquebisbal\, de la
  Catedral\, Museu Dioces&agrave\; i del Museu B&iacute\;blic\, ens trobem
  davant la reforma d&rsquo\;un edifici amb un gran respecte per la tradic
 i&oacute\; hist&ograve\;rica. Se situa a l&rsquo\;Acr&ograve\;poli de Tar
 ragona formant part del conjunt hist&ograve\;ric d&rsquo\;aquesta ciutat\
 , reconegut per la Unesco l&rsquo\;any 2000. L&rsquo\;esgl&eacute\;sia lo
 cal de Tarragona ofereix un valu&oacute\;s espai per al di&agrave\;leg am
 b la cultura\, la societat\, un lloc al servei de l&rsquo\;home del segle
  XXI.La rehabilitaci&oacute\; i modernitzaci&oacute\; de l&rsquo\;edifici
  de 7.000 m&sup2\;\, degut al seu deteriorament amb el pas dels anys\, ha
  perm&egrave\;s que el Seminari obri les seves portes com a Centre Tarrac
 onense.</span> <br />\n<p><span style="font-size: 12px\; font-family: Ari
 al\; color: #7f7f7f\;">\n<br />\nL&rsquo\;edifici actual fou constru&iuml
 \;t l&rsquo\;any 1883. Un espai ubicat El Seminari de Tarragona\, institu
 ci&oacute\; fundada en el segle XVI\, l&rsquo\;any 1883 va traslladar la 
 seva seu de la Rambla Vella al carrer Sant Pau. El nou edifici es va edif
 icar a inst&agrave\;ncies de l&rsquo\;arquebisbe Benet Vilamitjana i Vila
  (1879-1888)\, i la seva construcci&oacute\; va finalitzar el 1886. L&rsq
 uo\;arquitecte August Font i Carreras (1846-1924)\, deixeble d&rsquo\;Eli
 es Rogent\, va dissenyar un monumental conjunt neog&ograve\;tic articulat
  al voltant de dos claustres i centrat per la capella <br />\n<br />\nL&r
 squo\;edifici del Seminari &eacute\;s tamb&eacute\; seu de la resid&egrav
 e\;ncia sacerdotal\, el Seminari Menor\, les noves instal&middot\;lacions
  de l&rsquo\;Institut Superior de Ci&egrave\;ncies Religioses\, la Biblio
 teca del Seminari Pontifici amb m&eacute\;s de 100.000 volums amb un espa
 i obert a la ciutat\, i tindran la seu les delegacions de Pastoral de jov
 entut\, Apostolat seglar\, Catequesi\, Ensenyament i Animaci&oacute\; b&i
 acute\;blica de l&rsquo\;Arquebisbat.</span><span style="font-size: 12px\
 ; font-family: Arial\; color: #7f7f7f\;"> <br />\n<br />\nL&rsquo\;arqueb
 isbat obra a la ciutat un valios&iacute\;ssim patrimoni pr&agrave\;cticam
 ent desconegut. Un espai que ens remunta al segle II en la visualitzaci&o
 acute\; de la muralla romana\, amb la Capella de Sant Pau\, que commemora
  la predicaci&oacute\; de l&rsquo\;ap&ograve\;stol que recull la tradici&
 oacute\; a Tarragona i l&rsquo\;obertura al p&uacute\;blic de la gran Bib
 lioteca del Seminari Pontifici que acollir&agrave\; m&eacute\;s de 100.00
 0 volums\, entre els quals trobem nombrosos incunables\, i que ofereix un
  important fons bibliogr&agrave\;fic i documental que es remunta al segle
  XIII.</span></p>\n</div>
DTEND;TZID=Europe/Madrid:20130323T180000
DTSTAMP:20260423T211144Z
DTSTART;TZID=Europe/Madrid:20130323T110000
LOCATION:https://www.enginyerstarragona.cat/agenda/details/970/970-sortida
 -amb-dinar-catedral-de-tarragona-i-el
SEQUENCE:0
SUMMARY:Sortida amb dinar: CATEDRAL DE TARRAGONA I EL SEMINARI (RECENTMENT
  REMODELATS)
UID:ET_Activitat_970
URL:https://www.enginyerstarragona.cathttps://www.enginyerstarragona.cat/a
 genda/details/970/970-sortida-amb-dinar-catedral-de-tarragona-i-el
END:VEVENT
END:VCALENDAR
