BEGIN:VCALENDAR
PRODID:-//github.com/rianjs/ical.net//NONSGML ical.net 2.2//EN
VERSION:2.0
BEGIN:VEVENT
CATEGORIES:Emmagatzematge de productes qu?mics
CREATED;TZID=Europe/Madrid:20260420T194653
DESCRIPTION:<p style="margin: 0cm 0cm 0.0001pt\; text-align: justify\;"><s
 pan style="font-size: 12px\; font-family: arial\; color: #333333\;">\n</s
 pan></p>\n<p style="text-align: justify\;"><span style="font-size: 12px\;
  font-family: arial\; color: #7f7f7f\;"><strong>CODI CIRCULAR: 99/12</str
 ong><br />\n</span></p>\n<p style="text-align: justify\;"><span style="fo
 nt-size: 12px\; font-family: arial\; color: #7f7f7f\;">Aquest curs est&ag
 rave\; enfocat amb l'objectiu de donar a con&egrave\;ixer a trav&eacute\;
 s de casos pr&agrave\;ctics la sistem&agrave\;tica d'operaci&oacute\; del
 s programes t&egrave\;cnics CE3X.</span></p>\n<p style="text-align: justi
 fy\;"><span style="font-size: 12px\; font-family: arial\; color: #7f7f7f\
 ;"></span><span style="font-size: 12px\; font-family: arial\; color: #7f7
 f7f\;"><strong>DIRIGIT A:</strong> tot aquell que vulgui realitzar certif
 icacions energ&egrave\;tiques d'edificis.</span></p>\n<p style="text-alig
 n: justify\;"><span style="font-size: 12px\; font-family: arial\; color: 
 #7f7f7f\;"><strong>PROGRAMA DEL CURS (12h):</strong> s'adjunta.</span></p
 >\n<p style="text-align: justify\;"><span style="font-size: 12px\; font-f
 amily: arial\; color: #7f7f7f\;"><strong>PROFESSORAT:</strong> Xavier Soc
 ias Julbe\, Secretari T&egrave\;cnic del CETIT. T&egrave\;cnic acreditat 
 per IDAE.</span></p>\n<p style="text-align: justify\;">  </p>\n<p style="
 text-align: justify\;"><span style="font-size: 12px\; font-family: arial\
 ; color: #7f7f7f\;"><strong>PREU: </strong>100 &nbsp\;&euro\;</span></p>\
 n<p style="text-align: justify\;"><span style="font-size: 12px\; font-fam
 ily: arial\; color: #7f7f7f\;"><strong><span style="background-image: non
 e\; background-attachment: scroll\; background-color: #d9d9d9\; backgroun
 d-position: 0% 0%\; background-repeat: repeat repeat\;">COL&middot\;LEGIA
 TS / ASSOCIATS:</span></strong><span style="background-image: none\; back
 ground-attachment: scroll\; background-color: #d9d9d9\; background-positi
 on: 0% 0%\; background-repeat: repeat repeat\;"> 70 &euro\;</span></span>
 </p>\n<p style="background-image: none\; background-attachment: scroll\; 
 background-color: #d9d9d9\; text-align: justify\; background-position: 0%
  0%\; background-repeat: repeat repeat\;"><span style="font-size: 12px\; 
 font-family: arial\; color: #7f7f7f\;"><strong>BONIFICACI&Oacute\; A TRAV
 &Eacute\;S DE LA FTFE:</strong> 100 % </span></p>\n<p style="text-align: 
 justify\;"><span style="font-size: 12px\; font-family: arial\; color: #7f
 7f7f\;"><strong>CALENDARI:</strong> &nbsp\;18\, 19 i 20 de desembre\, de 
 les 10.00 a les 14.00 hores</span></p>\n<p style="text-align: justify\;">
 <span style="font-size: 12px\; font-family: arial\; color: #7f7f7f\;"><st
 rong>DOCUMENTACI&Oacute\;: </strong>es lliurar&agrave\; documentaci&oacut
 e\; de seguiment del curs.<strong> </strong></span></p>\n<p style="text-a
 lign: justify\;"><span style="font-size: 12px\; font-family: arial\; colo
 r: #7f7f7f\;"><strong>LLOC: </strong>Avinguda de Roma\, 7 de Tarragona.</
 span></p>\n<p style="text-align: justify\;"><span style="font-size: 12px\
 ; font-family: arial\; color: #7f7f7f\;"><strong>NOMBRE M&Iacute\;NIM / M
 &Agrave\;XIM D&rsquo\;ASSISTENTS: </strong>20/25</span></p>\n<p style="te
 xt-align: justify\;"><span style="font-size: 11pt\; font-family: arial\; 
 color: #7f7f7f\;">  </span></p>\n<p style="text-align: justify\;"><span s
 tyle="font-size: 12px\; font-family: arial\; color: #7f7f7f\;"><strong>CE
 RTIFICACI&Oacute\;: </strong>es lliurar&agrave\; un certificat d'acredita
 ci&oacute\; i assist&egrave\;ncia a la finalitzaci&oacute\; de la formaci
 &oacute\;. Aquells que sol&middot\;licitin bonificar el cus a trav&eacute
 \;s de la <em>Fundaci&oacute\; Tripartita</em><em> para la Formaci&oacute
 \;n en el Empleo\, </em>tamb&eacute\; tindran un certificat em&egrave\;s 
 per la <em>FTFE.</em></span></p>\n<p style="margin: 0cm 0cm 0.0001pt\; te
 xt-align: justify\;"><span style="font-size: 12px\; font-family: arial\; 
 color: #7f7f7f\;"><strong>ACREDITACI&Oacute\; PROFESSIONAL DPC DEL COGITI
 : </strong>aquesta formaci&oacute\; &eacute\;s competent per acreditar da
 vant del COGITI la teva formaci&oacute\;.</span></p>\n<p style="margin: 0
 cm 0cm 0.0001pt\; text-align: justify\;"><span style="font-size: 12px\; f
 ont-family: arial\; color: #7f7f7f\;">Mes informaci&oacute\;: <a href="ht
 tp://www.acreditacioncogitidpc.es/">http://www.acreditacioncogitidpc.es</
 a></span></p>\n<p style="text-align: justify\;"><span style="font-size: 1
 2px\; font-family: arial\; color: #7f7f7f\;"><strong>FORMA DE PAGAMENT:</
 strong> Transfer&egrave\;ncia banc&agrave\;ria o ingr&eacute\;s en efecti
 u al n&uacute\;mero de compte 2013.3074.67.0210965978 de Catalunya Caixa 
 (cal indicar al document justificatiu de pagament el nom de la<span style
 ="text-decoration: underline\;"> persona assistent i el nom de l&rsquo\;a
 ctivitat</span>) <span style="text-align: justify\; background-color: #ff
 ffff\; font-size: 12px\; font-family: arial\; color: #7f7f7f\;"><strong><
 br />\n</strong></span></span></p>\n<p style="text-align: justify\;"><spa
 n style="font-size: 12px\; font-family: arial\; color: #7f7f7f\;"><span s
 tyle="text-align: justify\; background-color: #ffffff\; font-size: 12px\;
  font-family: arial\; color: #7f7f7f\;"><strong>PROCEDIMENT PER BONIFICAR
  EL CURS A TRAV&Eacute\;S DE LA FUNDACI&Oacute\;N TRIPARTITA PARA LA FORM
 ACI&Oacute\;N EN EL EMPLEO I EL FONDO SOCIAL EUROPEO:</strong></span><spa
 n style="font-size: 12px\;">\n</span><span style="text-align: justify\; b
 ackground-color: #ffffff\;"><span style="font-size: 12px\; font-family: a
 rial\;"><br />\n<br />\n<span style="font-size: 12px\; color: #7f7f7f\;">
 DESCARREGA'T\,&nbsp\;DES\nD'AQUESTA MATEIXA P&Agrave\;GINA\,&nbsp\;TOTS E
 LS IMPRESOS (Adhesi&oacute\; al conveni\,\ninformaci&oacute\; al RLT\, co
 mprom&iacute\;s del participant i certificat de costos) i\nsegueix els se
 g&uuml\;ents passos i normes:<br />\n<br />\n</span><span style="font-siz
 e: 12px\; color: #7f7f7f\;">Per poder gestionar la bonificaci&oacute\;&nb
 sp\;a trav&eacute\;s&nbsp\;</span></span><span style="font-size: 12px\;">
 \n<span style="font-size: 12px\; font-family: arial\;"><em style="color: 
 #7f7f7f\;">Fundaci&oacute\;n Tripartita Para la Formaci&oacute\;n en el E
 mpleo</em><span style="font-size: 12px\; color: #7f7f7f\;">&nbsp\;a\ntrav
 &eacute\;s&nbsp\;dels pagaments&nbsp\;a la Seguretat Social en el TC2\, s
 'haur&agrave\; de\ncomplimentar&nbsp\;els tots els impresos que s'adjunte
 n.&nbsp\;Ser&agrave\; requisit\nindispensable que TOTS estiguin firmats y
  complimentats&nbsp\;amb bol&iacute\;graf de\ncolor BLAU\, y que la firma
 &nbsp\;sigui ORIGINAL.</span><br />\n<br />\n<span style="font-size: 12px
 \; color: #7f7f7f\;">Si ho prefereix\,&nbsp\;ho pot adelantar per correo&
 nbsp\;electr&ograve\;nic (</span></span>\n<span style="font-size: 12px\; 
 font-family: arial\;"><a style="color: #7f7f7f\;" href="mailto:formacio@c
 etit.org">formacio@cetit.org</a><span style="font-size: 12px\; color: #7f
 7f7f\;">) amb el comprom&iacute\;s que els ORIGINALS&nbsp\;</span><span s
 tyle="font-size: 12px\; color: #7f7f7f\;">com a molt tard el primer dia d
 e clase els presenti.<br />\n<br />\n</span><span style="font-size: 12px\
 ; color: #ff0000\;"><strong>&Uacute\;L</strong><span style="font-weight: 
 bold\; font-size: 12px\;">TIM DIA DE LLIURAMENT DELS IMPRESOS: 7&nbsp\;di
 es naturals abans de l'inici del curs</span></span></span></span></span><
 br />\n</span></p>\n<strong> </strong>\n<p>&nbsp\;</p>\n<p>&nbsp\;</p>\n<
 strong><span style="font-size: 11pt\; color: #333333\;"></span></strong><
 span style="font-size: 11pt\; color: #333333\;"></span>\n<p>&nbsp\;</p>
DTEND;TZID=Europe/Madrid:20121220T140000
DTSTAMP:20260420T174653Z
DTSTART;TZID=Europe/Madrid:20121218T100000
LOCATION:https://www.enginyerstarragona.cat/agenda/details/948/948-curs-bo
 nificat-sobre-certificacio-energetica
SEQUENCE:0
SUMMARY:Curs BONIFICAT sobre CERTIFICACI? ENERG?TICA D'EDIFICIS CE3X
UID:ET_Activitat_948
URL:https://www.enginyerstarragona.cathttps://www.enginyerstarragona.cat/a
 genda/details/948/948-curs-bonificat-sobre-certificacio-energetica
END:VEVENT
END:VCALENDAR
