BEGIN:VCALENDAR
PRODID:-//github.com/rianjs/ical.net//NONSGML ical.net 2.2//EN
VERSION:2.0
BEGIN:VEVENT
CATEGORIES:Activitats
CREATED;TZID=Europe/Madrid:20260420T172157
DESCRIPTION:<b>CODI CIRCULAR:02/11A</b><br><b>ORGANITZA:AETIGT</b><br><br>
 L'AETIGT organitza un una jornada t?cnica sobre <b>EL NOU DECRET 82/2010 
 de 29 de juny\, DE PLANS D'AUTOPROTECCI?</b> dirigida a t?cnics responsab
 les de la redacci? de plans d'autoprotecci? i responsables de prevenci? d
 e riscos i seguretat.<br><br>\nL'<b>objectiu </b>de la jornada ?s con?ixe
 r els aspectes principals del Decret\, instal'lacions i centres afectats\
 , cat?leg d'activitats i ?ndex del pla. <br><br>\n<b>CONTINGUT DE LA CONF
 ER?NCIA:</b><br><br>\n1.	Objectius.<br>\n2.	?mbit d'aplicaci?.<br>\n3.	Ap
 ortacions del decret: <br>\na.	Obligacions.<br>\nb.	Requisits.<br>\nc.	Pr
 ocediment administratiu.<br>\nd.	T?cnics competents.<br>\ne.	Mitjans.<br>
 <br>\n\n<b>PREU:</b> 12 ?  (NO ASSOCIATS NI COL'LEGIATS).<br><br>\n\n<b>C
 ALENDARI:</b> 24 de gener de 2011 a les 19 hores.<br><br>\n\n<b>PONENT:</
 b> Joan Carles Franc?s Tudel\, Responsable de Seguretat Civil dels Servei
 s Territorials de Protecci? Civil a Tarragona.<br><br>\n\n<b>LLOC: </b>A 
 la seu del CETIT\, Av. de Roma\, 7 de Tarragona i transm?s per videoconfe
 r?ncia a les instal'lacions de les Terres de l'Ebre\, carrer Mercaders\, 
 2 de Tortosa.<br><br>\n\n<b>CONFIRMACI? D'ASSIST?NCIA:</b> a l'administra
 ci? del Col'legi al 977 251 877 o a trav?s de l'adre?a electr?nica formac
 io@cetit.org.<br><br>\n\n\n\n\n\n\n\n\n\n\n\n\n<b>TERMINI D'INSCRIPCI?: <
 /b>fins completar-se l'aforament m?xim de la Sala d'Actes.<br><br>\n\n<b>
 INSCRIPCI? GRATU?TA </b>
DTEND;TZID=Europe/Madrid;VALUE=DATE:20110124
DTSTAMP:20260420T152157Z
DTSTART;TZID=Europe/Madrid;VALUE=DATE:20110124
LOCATION:https://www.enginyerstarragona.cat/agenda/details/799/799-jornada
 -tecnica-sobre-el-nou-decret-822010-de
SEQUENCE:0
SUMMARY:Jornada t?cnica sobre EL NOU DECRET 82/2010 de 29 de juny\, DE PLA
 NS D'AUTOPROTECCI?
UID:ET_Activitat_799
URL:https://www.enginyerstarragona.cathttps://www.enginyerstarragona.cat/a
 genda/details/799/799-jornada-tecnica-sobre-el-nou-decret-822010-de
END:VEVENT
END:VCALENDAR
