BEGIN:VCALENDAR
PRODID:-//github.com/rianjs/ical.net//NONSGML ical.net 2.2//EN
VERSION:2.0
BEGIN:VEVENT
CATEGORIES:Activitats
CREATED;TZID=Europe/Madrid:20260419T155514
DESCRIPTION:El proper mes de gener tindr? inici un curs d'angl?s\, amb <b>
 professorat de l'Escola Oficial d'Idiomes</b>\, <b>de dos nivells\, indep
 endents un de l'altre</b>\, l'objectiu del qual  ?s que l'alumne pugui ap
 rendre i practicar les estructures gramaticals de la llengua anglesa que 
 correspongui\, segons el seu nivell. <br><br>\n<b>NIVELL A. Correspon a u
 n nivell baix.</b><br><br>\n'	Utilitzar l'angl?s. Fer adonar a l'alumne q
 ue l'angl?s no ?s una llengua dif?cil de dominar. Poder parlar (speaking)
 \, poder entendre (listening)\, llegir (reading) i escriure (writing) a u
 n nivell B1\, nivell a marc europeu.<br><br>\n<b>NIVELL B. Correspon a un
  nivell alt.</b><br><br>\n'	Parlar el quasi RECORDAT angl?s ja apr?s i fe
 r-lo ?til per treballar i viatjar. Poder parlar (speaking)\, poder entend
 re (listening)\, llegir (reading) i escriure (writing) a un nivell B2\, n
 ivell a marc europeu.<br><br>\nAmb aquest curs es pret?n que l'alumne es 
 pugui sentir preparat per continuar i estudiar l'idioma amb l'objectiu d'
 obtenir el nivell m?s alt\, corresponent al nivell a marc europeu\, a l'E
 scola Oficial d'Idiomes.<br><br>\n\n<b>Dirigit a</b> tots aquells que vul
 guin divertir-se i a la vegada\, adquirir una eina essencial de la nostra
  societat moderna\, una utilitzaci? bona i competent de la llengua angles
 a.<br><br>\n\n<b>PROGRAMA:</b> material interessant i estimulant per dese
 nvolupar el coneixement de l'alumne i la utilitzaci? de les quatre tasque
 s\, parlar\, llegir\, escoltar (entendre) i escriure.<br><br>\n\nEl ?writ
 ing?\, ?s a dir\, escriure\, ser? una activitat de deures per casa\, per 
 aquells que ho vulguin fer.<br><br>\n\n<b>DURADA:</b> 50  hores aproximad
 ament\, cada nivell.<br><br>\n\n<b>PROVA DE NIVELL:</b> es far? una prova
  de nivell (oral i escrita) per determinar els grups\, que tindr? lloc el
  16 de desembre de 2010 a les 16 hores.<br><br>\n\n<b>CALENDARI:</b> de g
 ener a juny de 2011\, dimarts i dijous de 15 a 17 hores.<br>\nNivell A. D
 imarts i dijous de 15 a 16 h<br>\nNivell B. Dimarts i dijous de 16 a 17 h
 <br><br>\n\nEntenem que els horaris poden ser incompatibles amb la feina\
 , per? ?s la ?nica possibilitat que ens han ofert per aquest curs escolar
 . De cara a l'any seg?ent es mirar? d'organitzar els cursos en horari de 
 tarda\, per tal de facilitar-vos l'assist?ncia. <br><br>\n<b>\nPROFESSOR:
  </b>John Butler\, angl?s natiu amb experi?ncia de m?s de 25 anys al m?n 
 de l'educaci?\, 20 dels quals a la Escola Oficial d'Idiomes de Tarragona\
 , com a professor d'estudiants i professors.<br><br>\n\n<b>PREU:</b> 160 
 ? a l'hora de fer la inscripci?. 50 ?/ mes\, de gener a juny de 2011 que 
 es carregar? al compte\, que haureu de facilitar a l'hora de fer la inscr
 ipci?. <br><br>\n\nSi resten places es podran inscriure persones no vincu
 lades al CETIT.<br><br>\n\n\n\n\n\n\n<b>\n*** FORMACI? SUVENCIONADA A TRA
 V?S DE LA FUNDACI? TRIPARTITA\, SEGONS EL CR?DIT DE LA SEVA EMPRESA ***</
 b><br><br>\nFORMACI? SUBVENCIONADA per treballadors del r?gim general ( e
 xclosos aut?noms i ETT)<br>\nNou servei gratu?t de la gesti? del cr?dit a
 nual de les empreses per a la formaci? dels seus treballadors.<br><br>\n\
 n\n\n		\n\n\n\n\n\n<b>CONTACTA'NS I T'INFORMAREM\, ?S GRATU?T!</b><br>\n\
 n\n<b>CERTIFICACI?</b>: el CETIT lliurar? un certificat d'assist?ncia al 
 curs pr?via sol'licitud del participant. Assist?ncia m?nima obligat?ria d
 el 80 % de les hores lectives. <br><br>\n\nEls certificats emesos per la 
 Fundaci?n Tripartita para la Formaci?n de Empleo\, s'emetran autom?ticame
 nt sense sol'licitud pr?via. Assist?ncia m?nima obligat?ria del 80 % de l
 es hores lectives.<br><br>\n<b>\nLLOC:</b> Avinguda de Roma\, 7 de Tarrag
 ona. <br><br>\n\n<b>NOMBRE M?NIM / M?XIM D'ASSISTENTS:</b> 15/ 25<br><br>
 \n\n<b>FORMA DE PAGAMENT:</b> Transfer?ncia banc?ria o ingr?s en efectiu 
 al n?mero de compte 2073.0074.34.0110965962 de la Caixa de Tarragona(cal 
 indicar al document justificatiu de pagament el nom de la persona assiste
 nt i el nom de l'activitat). <br><br>\n\nEn efectiu o cobrament a trav?s 
 del seu n?mero de compte\, que haur? de facilitar a l'hora de fer la insc
 ripci?.<br><br>\n\n<b>CONFIRMACI? D'ASSIST?NCIA:</b> a l'administraci? de
 l Col'legi al 977 251 877 o 902 076 777 o a trav?s de l'adre?a electr?nic
 a formacio@cetit.org.<br><br>\n\n<b>TERMINI D'INSCRIPCI? I DE PAGAMENT: <
 /b>9 de desembre de 2010 o fins completar-se el nombre m?xim d'inscripcio
 ns si ?s abans del termini.\n
DTEND;TZID=Europe/Madrid;VALUE=DATE:20110115
DTSTAMP:20260419T135514Z
DTSTART;TZID=Europe/Madrid;VALUE=DATE:20110114
LOCATION:https://www.enginyerstarragona.cat/agenda/details/793/793-curs-an
 gles
SEQUENCE:0
SUMMARY:Curs ANGLES
UID:ET_Activitat_793
URL:https://www.enginyerstarragona.cathttps://www.enginyerstarragona.cat/a
 genda/details/793/793-curs-angles
END:VEVENT
END:VCALENDAR
