BEGIN:VCALENDAR
PRODID:-//github.com/rianjs/ical.net//NONSGML ical.net 2.2//EN
VERSION:2.0
BEGIN:VEVENT
CATEGORIES:Activitats
CREATED;TZID=Europe/Madrid:20260425T184802
DESCRIPTION:<b>CODI CIRCULAR: 68/08</b><br><br>El soroll pot provocar als 
 usuaris dels edificis risc de mol?sties i malalties si les caracter?stiqu
 es del projecte\, la construcci?\, l'?s i el manteniment no ?s l'adequat.
 <br><br>\nEl soroll s'ha de limitar\, per tant els edificis s'hauran de p
 rojectar\, construir i mantenir de forma adequada per reduir la transmiss
 i? del soroll. <br><br>\n<b>OBJECTIU </b>del curs:<br><br>\n- Con?ixer le
 s exig?ncies del CTE-DB-HR  i les difer?ncies principals amb la NBE-CA-88
 .<br>\n- Con?ixer les exig?ncies de les Ordenances Municipals de Soroll i
  Vibracions (ac?stica a l'edificaci?).<br>\n- Aprendre a utilitzar les du
 es opcions de disseny i dimensionat del CTE DB-HR: opci? simplificada i o
 pci? general (UNE-EN 12354).<br>\n- Con?ixer la metodologia de les mesure
 s d'a?llament ac?stic in situ.<br>\n- Con?ixer els sistemes constructius 
 adequats.<br>\n- Con?ixer els errors t?pics d'execuci? i saber corregir-l
 os.<br>\n- Veure casos reals d'a?llament ac?stic.<br><br>\n<b>DIRIGIT </b
 >a tots els t?cnics que intervinguin en el proc?s constructiu de l'edific
 aci?.<br><br>\n\n<b>DATES I HORARI: </b>dilluns\, 10 de novembre de 18 a 
 21 hores.<br>\n<br>\n\n\n<b>Programa del curs:</b><br>\n\n1.	Assajos d'a?
 llament ac?stic in situ: metodologia. <br>\n\n2.	Marc normatiu: <br>\n\na
 .	Ordenances Municipals.<br>\n\nb.	Nou CTE DB HR: exig?ncies\, disseny i 
 dimensionat.<br>\n\n3.	Solucions constructives i execuci?.<br>\n\n4.	Assa
 jos d'a?llament ac?stic in situ: resultats.<br>\n<br>\n\n\n<b>DOCUMENTACI
 ?: </b>es lliurar? documentaci? de seguiment del curs.<br>\n<br>\n\n\n<b>
 PROFESSOR: </b>Rub?n L?pez Tortosa\, Enginyer T?cnic en Telecomunicaci?\,
  Imatge i so. Responsable de l'?rea d'ac?stica de la Unitat de Negoci de 
 Construcci? d'ATISAE\, a Barcelona.<br>\n<br>\n\n\n<b>CERTIFICACI?:</b> e
 s lliurar? un certificat d'assist?ncia al curs. Assist?ncia m?nima obliga
 t?ria del 80 % de les hores lectives.<br>\n<br>\n\n\n<b>LLOC</b>: Avingud
 a de Roma\, 7 de Tarragona.<br>\n<br>\n\n\n<b>PREU COL?LEGIAT/ NO COL?LEG
 IAT: </b> 35/ 45 ?<br>\n<br>\n\n<b>\nNOMBRE M?NIM/ M?XIM D'ASSISTENTS: </
 b>10/ 40<br><br>\n\n<b>***NOTA***: </b>Abans de fer el pagament cal verif
 icar si resten places. No es considerar? ferma la inscripci? si el pagame
 nt no es fa efectiu abans del termini. <br>\n<br>\n\n\n<b>FORMA DE PAGAME
 NT:</b> Transfer?ncia banc?ria o ingr?s en efectiu al n?mero de compte 20
 73.0074.34.0110965962 de la Caixa de Tarragona\, (cal indicar al document
  justificatiu de pagament el nom de la persona assistent i el nom de l'ac
 tivitat).<br>\n<br>\n\n\n<b>CONFIRMACI? D'ASSIST?NCIA:</b> a l'administra
 ci? del Col?legi al 977 251 877 o 902 076 777 o a trav?s de l'adre?a elec
 tr?nica formacio@cetit.org.<br><br>\n\n<b>TERMINI D'INSCRIPCI?: </b>3 de 
 novembre de 2008 o fins completar-se el nombre m?xim d'assistents si ?s a
 bans del termini.\n
DTEND;TZID=Europe/Madrid;VALUE=DATE:20081110
DTSTAMP:20260425T164802Z
DTSTART;TZID=Europe/Madrid;VALUE=DATE:20081109
LOCATION:https://www.enginyerstarragona.cat/agenda/details/663/663-curs-so
 bre-acustica-a-ledificacio
SEQUENCE:0
SUMMARY:Curs sobre AC?STICA A L'EDIFICACI?
UID:ET_Activitat_663
URL:https://www.enginyerstarragona.cathttps://www.enginyerstarragona.cat/a
 genda/details/663/663-curs-sobre-acustica-a-ledificacio
END:VEVENT
END:VCALENDAR
