BEGIN:VCALENDAR
PRODID:-//github.com/rianjs/ical.net//NONSGML ical.net 2.2//EN
VERSION:2.0
BEGIN:VEVENT
CATEGORIES:Activitats
CREATED;TZID=Europe/Madrid:20260421T075421
DESCRIPTION:Amb motiu de la 177 Edici? de la fira agr?cola\, ramadera i in
 dustrial de M?ra la Nova s'organitza\, com cada any\, una confer?ncia\, a
 questa versar? sobre energies renovables.<br><br>\n<b>DATA DE REALITZACI?
 :</b> 24 d'octubre de 2008 (divendres).<br><br>\n<b>PONENTS: </b>Joan Gab
 riel Talarn Maig? i Rafel Cornet Torta\, Enginyers T?cnics Industrials.<b
 r><br>\n<b>LLOC DE REALITZACI?: </b>Sal? d'Actes de l'Ajuntament de Mora 
 la Nova\, c. Major\, 88.<br><br>\n<b>HORARI: </b>19 hores.<br><br>\n<b>IN
 SCRIPCI? GRATU?TA.</b>
DTEND;TZID=Europe/Madrid;VALUE=DATE:20081024
DTSTAMP:20260421T055421Z
DTSTART;TZID=Europe/Madrid;VALUE=DATE:20081023
LOCATION:https://www.enginyerstarragona.cat/agenda/details/661/661-confere
 ncia-energia-solar-fotovoltaica-parcs
SEQUENCE:0
SUMMARY:Confer?ncia ENERGIA SOLAR FOTOVOLTAICA. PARCS SOLARS.
UID:ET_Activitat_661
URL:https://www.enginyerstarragona.cathttps://www.enginyerstarragona.cat/a
 genda/details/661/661-conferencia-energia-solar-fotovoltaica-parcs
END:VEVENT
END:VCALENDAR
