BEGIN:VCALENDAR
PRODID:-//github.com/rianjs/ical.net//NONSGML ical.net 2.2//EN
VERSION:2.0
BEGIN:VEVENT
CATEGORIES:Activitats
CREATED;TZID=Europe/Madrid:20260420T035135
DESCRIPTION:Amb motiu de la 176 Edici? de la fira agr?cola\, ramadera i in
 dustrial de M?ra la Nova s'organitza\, com cada any\, una confer?ncia\, a
 questa versar? sobre <b>"L'ORDE DEL TEMPLE I LA SEVA ARQUITECTURA"</b>.<b
 r><br>\n\n<b>DATA DE REALITZACI?:</b> 27 d'octubre de 2007 (dissabte).<br
 ><br>\n\n<b>PONENT:</b> Sr. Josep Giron?s Desc?rrega\, Escriptor.<br><br>
 \n\n<b>LLOC DE REALITZACI?:</b> Sal? d'Actes de l'Ajuntament de Mora la N
 ova\, c. Major\, 88.<br><br>\n\n<b>HORARI: </b>19 hores.<br><br>\n\n<b>IN
 SCRIPCI? GRATU?TA.</b><br><br>\n\n<b>CONFIRMACI? D'ASSIST?NCIA:</b> ?s ne
 cessari confirmar l'assist?ncia\, a l'administraci? del Col?legi al  tel.
  977 251 877 o 902 076 777 o a trav?s de l'adre?a electr?nica formacio@ce
 tit.org.\n\n
DTEND;TZID=Europe/Madrid;VALUE=DATE:20071027
DTSTAMP:20260420T015135Z
DTSTART;TZID=Europe/Madrid;VALUE=DATE:20071026
LOCATION:https://www.enginyerstarragona.cat/agenda/details/559/559-confere
 ncia-lorde-del-temple-i-la-seva-arquit
SEQUENCE:0
SUMMARY:Confer?ncia L'ORDE DEL TEMPLE I LA SEVA ARQUITECTURA
UID:ET_Activitat_559
URL:https://www.enginyerstarragona.cathttps://www.enginyerstarragona.cat/a
 genda/details/559/559-conferencia-lorde-del-temple-i-la-seva-arquit
END:VEVENT
END:VCALENDAR
