BEGIN:VCALENDAR
PRODID:-//github.com/rianjs/ical.net//NONSGML ical.net 2.2//EN
VERSION:2.0
BEGIN:VEVENT
CATEGORIES:Activitats
CREATED;TZID=Europe/Madrid:20260424T211321
DESCRIPTION:<b>RECEPCI? DE MATERIALS\, CONTROL D'EXECUCI? I OBRA ACABADA. 
 </b><br><br>\n\nOrganitza el Col?legi d'Aparelladors i Arquitectes T?cnic
 s de Tarragona. <br><br>\n\nEl Codi T?cnic de l'Edificaci? ha introduit d
 es de la seva entrada en vigor uns par?metres de qualitat exhaustius i qu
 e van des de la  recepci? de materials equips i sistemes fins a l'edifici
  acabat. A la vegada\, i pel que fa a la recepci? de materials\, fa exten
 siu el control a qualsevol material que s'incorpori a l'edifici de manera
  permanent i detalla la documentaci? que el justificar?. Tota aquesta inf
 ormaci? constitueix el Pla de Control de Qualitat i forma part del projec
 te. <br><br>\n\n<b>DATES: </b>25 de setembre de 2007.<br>\n<b>HORARI:</b>
  de 17 a 20 hores.<br>\n<b>PREU: </b><br>\nCol?legiats del Col?legi d'Apa
 relladors i Arquitectes T?cnics de Tarragona: Gratu?t. <br>\nNo col?legia
 ts: 10 ?<br>\n<b>LLOC: </b>Rambla President Francesc Maci?\, 6 de Tarrago
 na. Tel?fon 977 212 799.\n\n
DTEND;TZID=Europe/Madrid;VALUE=DATE:20070925
DTSTAMP:20260424T191321Z
DTSTART;TZID=Europe/Madrid;VALUE=DATE:20070924
LOCATION:https://www.enginyerstarragona.cat/agenda/details/541/541-nou-cod
 i-tecnic-protocol-i-verificacions-per
SEQUENCE:0
SUMMARY:NOU CODI T?CNIC. PROTOCOL I VERIFICACIONS PER A LA REALITZACI? DE 
 CONTROL DE QUALITAT.
UID:ET_Activitat_541
URL:https://www.enginyerstarragona.cathttps://www.enginyerstarragona.cat/a
 genda/details/541/541-nou-codi-tecnic-protocol-i-verificacions-per
END:VEVENT
END:VCALENDAR
