BEGIN:VCALENDAR
PRODID:-//github.com/rianjs/ical.net//NONSGML ical.net 2.2//EN
VERSION:2.0
BEGIN:VEVENT
CATEGORIES:Activitats
CREATED;TZID=Europe/Madrid:20260424T135329
DESCRIPTION:S'ha organitzat una jornada t?cnica sobre SOLUCIONS EN BAIXA T
 ENSI? I CONTROL\, que portar? a terme l'empresa Schneider Electric Espa?a
 \, S.A.\, aportant solucions a les necessitats del sector el?ctric.<br><b
 r>\n<b>\nPROGRAMA DE LA JORNADA:</b><br>\n\n	18.30 h	Presentaci? SCHNEIDE
 R ELECTRIC ESPA?A i benvinguda.<br>\n		<b>Ponent: </b>Jaume Bori\, Enginy
 er Industrial\, responsable del departament de prescripci?.<br>\n	18.45 h
 	Control i gesti? eficient de motors.<br>\n		<b>Ponent:</b> Ram?n Solaz\,
  Enginyer Industrial.<br>\n	19.30 h 	Els camins cap a la gesti? integral 
 en l'edificaci?.<br>\n		<b>Ponent: </b>Jose Luis Rance\, Enginyer Industr
 ial.<br>\n	20.15 h	Esquemes de distribuci? en instal?lacions de baixa ten
 si?.<br>\n		<b>Ponent: </b>Carles Navarro\, Enginyer Industrial.<br><br>\
 n\n**Al finalitzar l'acte s'oferir? un aperitiu.<br><br>\n\nTots els pone
 nts pertanyen a l'empresa SCHNEIDER EL?CTRIC ESPA?A S.A. i s?n especialis
 tes en la seva mat?ria.<br><br>\n	\n<b>DOCUMENTACI?: </b>cat?legs relacio
 nats amb les pon?ncies\, biblioteca digital en suport CD (cat?legs\, tari
 fes i documents t?cnics sobre distribuci? el?ctrica en B.T. i constituent
 s de control industrial i variadors de velocitat electr?nics) i manual te
 ?ric pr?ctic d'instal?lacions en B.T.(volum 1) suport CD.\n<br><br>\n<b>D
 ATA: </b>15 de mar? de 2007.<br>\n<b>LLOC DE REALITZACI?: </b>A la seu de
 l CETIT\, Av. de Roma\, 7 de Tarragona i transm?s per videoconfer?ncia a 
 les instal?lacions de les Terres de l'Ebre\, carrer Mercaders\, 2 de Tort
 osa.<br><br>\n\n<b>CONFIRMACI? D'ASSIST?NCIA: </b>?s necessari confirmar 
 l'assist?ncia a l'administraci? del Col?legi al 977 251 877 o 902 076 777
  o a trav?s de l'adre?a electr?nica formacio@cetit.org.<br><br>\n\n<b>TER
 MINI D'INSCRIPCI?: </b>12 de mar? de 2007 o fins completar-se l'aforament
  m?xim de la Sala d'Actes.<br><br>\n\n<b>INSCRIPCI? GRATU?TA.</b>
DTEND;TZID=Europe/Madrid;VALUE=DATE:20070315
DTSTAMP:20260424T115329Z
DTSTART;TZID=Europe/Madrid;VALUE=DATE:20070314
LOCATION:https://www.enginyerstarragona.cat/agenda/details/505/505-jornada
 -tecnica-sobre-solucions-schneider-en
SEQUENCE:0
SUMMARY:JORNADA T?CNICA SOBRE SOLUCIONS SCHNEIDER EN BAIXA TENSI? I CONTROL
UID:ET_Activitat_505
URL:https://www.enginyerstarragona.cathttps://www.enginyerstarragona.cat/a
 genda/details/505/505-jornada-tecnica-sobre-solucions-schneider-en
END:VEVENT
END:VCALENDAR
