BEGIN:VCALENDAR
PRODID:-//github.com/rianjs/ical.net//NONSGML ical.net 2.2//EN
VERSION:2.0
BEGIN:VEVENT
CATEGORIES:Activitats
CREATED;TZID=Europe/Madrid:20260420T092820
DESCRIPTION:S'ha organitzat una confer?ncia sobre la utilitzaci? de les TI
 C ( Tecnologies de la informaci? i comunicaci?) aplicades al DISSENY INDU
 STRIAL que tindr? lloc el proper dia 22 de juny de 2006 (dijous).<br><br>
 \n\nEst? dirigida a enginyers\, arquitectes i responsables de formaci? en
  empreses o centres d'ensenyament t?cnic. <br><br>\n\n<b>PONENT:</b> Fran
 cisco Hern?ndez Abad\, Catedr?tic d'Expressi? Gr?fica a l'Enginyeria UPC.
 <br><br>\n<b>\nLLOC DE REALITZACI?:</b> a la seu del CETIT a Tarragona\, 
 Av. de Roma\, 7.<br><br>\n\n<b>HORARI: </b>de 19.00 a 20.30 h.<br><br>\n\
 n<b>CONFIRMACI? D'ASSIST?NCIA:</b> ?s necessari confirmar l'assist?ncia a
  l'administraci? del Col?legi al  tel. 977 251 877 o 902 076 777 o a trav
 ?s de l'adre?a electr?nica formacio@cetit.org.<br><br>\n\n<b>INSCRIPCI? G
 RATU?TA.</b><br><br>\n\n
DTEND;TZID=Europe/Madrid;VALUE=DATE:20060622
DTSTAMP:20260420T072820Z
DTSTART;TZID=Europe/Madrid;VALUE=DATE:20060621
LOCATION:https://www.enginyerstarragona.cat/agenda/details/433/433-les-tic
 -aplicades-al-disseny-industrial
SEQUENCE:0
SUMMARY:LES TIC APLICADES AL DISSENY INDUSTRIAL
UID:ET_Activitat_433
URL:https://www.enginyerstarragona.cathttps://www.enginyerstarragona.cat/a
 genda/details/433/433-les-tic-aplicades-al-disseny-industrial
END:VEVENT
END:VCALENDAR
