BEGIN:VCALENDAR
PRODID:-//github.com/rianjs/ical.net//NONSGML ical.net 2.2//EN
VERSION:2.0
BEGIN:VEVENT
CATEGORIES:Activitats
CREATED;TZID=Europe/Madrid:20260421T095802
DESCRIPTION:<b>OBJECTIU: </b>Donar una visi? general sobre els principals 
 aspectes que desplegar? el proper Codi T?cnic d'Edificaci?. Les sessions 
 s'orienten vers les principals  novetats del projecte i de quina manera a
 questes modificaran la pr?ctica habitual dels professionals <br><br>\n\n<
 b>DATES I HORARI: </b>5 i 6 d'abril de 16 a 20 hores<br><br>\n<b>\nPROGRA
 MA: </b><br>\n<b>Dimecres 5 d'abril </b><br>\nEl CTE. Principals Aspectes
  i Documents b?sics <br>\nObjete del CTE. ?mbit d'aplicaci?. El mateix qu
 e la LOE <br>\nCondicions generals pel compliment del CTE<br>\nCondicions
  de projecte <br>\nDefinir els documents b?sics i els procediments que ga
 ranteixen l'acompliment del Codi <br>\nCondicions en l'execuci? de les ob
 res <br>\nCondicions de l'edifici <br>\nNormatives i exig?ncies que ha de
  contenir\, respecte al CTE<br>\nDocumentaci? obligat?ria del seguiment d
 'obra <br>\nEl control de qualitat <br><br>\n\n<b>Dijous 6 d'abril </b><b
 r>\nGeneralitats <br>\nExig?ncies b?siques de seguretat estructures -SE<b
 r>\nExig?ncies b?sicques de seguretat en cas d'incendi -SI <br>\nExig?nci
 es b?siques de seguretat d'utilitzaci? -SU<br>\nExig?ncies b?siques d'est
 alvvi d'energia -HE<br><br>\n\n<b>CERTIFICACI?: </b>Al finalitzar el curs
  es lliurar? als assistents\, que hagin assistit a un m?nim del 80 ? de l
 es hores lectives\, un certificat d'assist?ncia  i aprofitament em?s per 
 la Fundaci? Universitat Polit?cnica de Catalunya i el COAAT de Tarragona 
 <br><br>\n<b>\nPROFESSORAT: </b><br>\nFrancesc Jordana\, Director del Dep
 artament de Construccions Arquitect?niques II de la Escola Polit?cnica d'
 Edificaci? de Barcelona de la UPC<br>\nJoan Olona. Professor del Departam
 ent de Construccions Arquitect?niques II de la Escola Polit?cnica d'Edifi
 caci? de Barcelona de la UPC<br>\nMontserrat Bosch\, Sebasti? Messeguer i
  Francisco Ruiz. Professors del Departament de Construccions Arquitect?ni
 ques II de la Escola Polit?cnica d'Edificaci? de Barcelona de la UPC<br><
 br>\n\n<b><u>PREU COL?LEGIATS</u> DEL COL?LEGI D'ARQUITECTES T?CNICS DE T
 ARRAGONA:</b> 48 ? <br>\n<b><u>PREU NO COL?LEGIATS</u> DEL COL3LEGI D'ARQ
 UITECTES T?CNICS DE TARRAGONA: </b>72 ?<br><br>\n<b>LLOC DE REALITZACI?:<
 /b> Sala d'Actes del Col?legi d'Arquitectes T?cnics\, Avda. President  Ma
 ci? 6 1r. de Tarragona. Tel. 977 212 799 - 977 224 152
DTEND;TZID=Europe/Madrid;VALUE=DATE:20060406
DTSTAMP:20260421T075802Z
DTSTART;TZID=Europe/Madrid;VALUE=DATE:20060405
LOCATION:https://www.enginyerstarragona.cat/agenda/details/402/402-jornade
 s-de-divulgacio-sobre-el-codi-tecnic-d
SEQUENCE:0
SUMMARY:JORNADES DE  DIVULGACI? SOBRE EL CODI T?CNIC D'EDIFICACI?
UID:ET_Activitat_402
URL:https://www.enginyerstarragona.cathttps://www.enginyerstarragona.cat/a
 genda/details/402/402-jornades-de-divulgacio-sobre-el-codi-tecnic-d
END:VEVENT
END:VCALENDAR
