BEGIN:VCALENDAR
PRODID:-//github.com/rianjs/ical.net//NONSGML ical.net 2.2//EN
VERSION:2.0
BEGIN:VEVENT
CATEGORIES:Activitats
CREATED;TZID=Europe/Madrid:20260422T060743
DESCRIPTION:S'ha organitzat aquesta confer?ncia per tractar els NOUS REQUI
 SITS PER A L'ADEQUACI? D'ACTIVITATS A LA LLEI 3/1998 D'INTERVENCI? INTEGR
 AL DE L'ADMINISTRACI? AMBIENTAL\, SEGONS CRITERIS DEFINITS EN EL DECRET 5
 0/2005<br><br>\nL'objectiu <b>L'objectiu </b>d'aquesta ?s analitzar els d
 iferents requisits establerts en el Decret 50/2005 en la tramitaci? d'aut
 oritzaci? / llic?ncia ambiental i criteris interpretatius de l'entitat UT
 VA acreditada en l'adequaci? de les activitats de la Llei 3/1998\, de IIA
 A <br><br>\n<b>CONTINGUT </b><br>\n- An?lisi dels diferents requisits est
 ablerts en el Decret 50/2005<br>\n-	Programa esglaonat d'adequaci? d'acti
 vitats<br>\n-	Documentaci? a presentar a l'administraci?: documents d'ava
 luaci? ambiental\, nou document d'avaluaci? en mat?ria d'incendis i progr
 ama de correcci? en cas de detecci? d'incompliments legals<br>\n-	Documen
 t d'avaluaci? en mat?ria d'incendis. Sup?sits de tramitaci?: procediment 
 de verificaci? dels documents d'avaluaci? ambiental<br>\n-	Criteris inter
 pretatius de l'Entitat ICICT S.A acreditada com a UTVA en la tramitaci? d
 e l'adequaci? de les activitats<br><br>\n<b>PONENT</b> :Sra. Montserrat F
 reixas Mercad?\, Cap del Departament de Medi Ambient de ICICT S.A\, entit
 at acreditada coma a UTVA<br><br>\n\n<b>CALENDARI:</b> 15 de desembre de 
 2005\, de 18 a 20 hores\nLLOC DE REALITZACI?: A la Sala d'Actes de la seu
  del CETIT\, Av. de Roma\, 7 de Tarragona<br><br>\n\n<b>CONFIRMACI? D'ASS
 IST?NCIA</b>: ?s necessari confirmar l'assist?ncia a l'administraci? del 
 Col?legi al   977 251 877 o 902 076 777 i\, si ho prefereixes\, tamb? ho 
 pots fer a trav?s de la nova adre?a electr?nica formacio@cetit.org (la te
 va inscripci? no ser? efectiva fins que es rebi la confirmaci? per part d
 el Col?legi). \n\nINSCRIPCI? GRATU?TA\n\n
DTEND;TZID=Europe/Madrid;VALUE=DATE:20051215
DTSTAMP:20260422T040743Z
DTSTART;TZID=Europe/Madrid;VALUE=DATE:20051214
LOCATION:https://www.enginyerstarragona.cat/agenda/details/375/375-nous-re
 quisits-per-a-ladequacio-dactivitats-d
SEQUENCE:0
SUMMARY:NOUS REQUISITS PER A L'ADEQUACI? D'ACTIVITATS DE LA LLEI 3/1998 D'
 IIAA
UID:ET_Activitat_375
URL:https://www.enginyerstarragona.cathttps://www.enginyerstarragona.cat/a
 genda/details/375/375-nous-requisits-per-a-ladequacio-dactivitats-d
END:VEVENT
END:VCALENDAR
