BEGIN:VCALENDAR
PRODID:-//github.com/rianjs/ical.net//NONSGML ical.net 2.2//EN
VERSION:2.0
BEGIN:VEVENT
CATEGORIES:Activitats
CREATED;TZID=Europe/Madrid:20260426T000819
DESCRIPTION:<b>PROGRAMA</b><br><br>\n09.15 h Acreditaci? dels assistents <
 br>\n09.45 h Presentaci? de l'Acte d'inauguraci?. Sr. Jordi Carbonell  i 
 Sebarroja. Secretari General d'Ind?stria i Energia<br>\n10.00 h 1a Pon?nc
 ia <br>\n10.45 h Pausa<br>\n11.15 h 2a\, 3a i 4a Pon?ncies<br>\n14.15 h D
 inar de Treball<br>\n16.15 h 5a Pon?ncia <br>\n14.15 h Col?loqui. Deontol
 ogia Professional (Degans)<br>\n18.00 h Taula Rodona <br>\n19.30 h Clausu
 ra de l'acte. Sr. ?ngel Ros. Alcalde de Lleida<br><br>\n<b>PON?NCIES</b><
 br><br>\n1a. 10.00 h.: Defensa professional davant la responsabilitat civ
 il professional. <br>Sr. Josep M. Moragues\, Advocat. Assessor Jur?dic de
  CETILL <br><br>\n2a. 11.15 h.: Qu? ?s la responsabilitat civil? Concepte
 . Modalitats<br>\nSr. Albert Guilany? Foix. President de la Secci? 2a de 
 l'Audi?ncia provincial de Lleida<br><br>\n3a. 12.15 h.: La responsabilita
 t penal en els actes professionals. <br>\nSr. Juan Bon? Pina - Fiscal<br>
 <br>\n4a. 13.15 h.: La responsabilitat civil. Riscos que es poden cobrir 
 o no per una asseguran?a<br>\nCompanyia asseguradora Marsh <br><br> \n5a.
  16.15 h.: Perspectiva ?tica de la responsabilitat professional.<br>\nSr.
  Josep M. Terricabras. Director de la C?tedra Ferrater Mora de Pensament 
 Contemporani de la Universitat de Girona<br><br>\n\n<b>LLOC DE REALITZACI
 ?:</b> Sala Auditori del Centre de Cultures de Cooperaci? Transfronterera
  de la Udl. <br>\nc/Jaume II\, 67 . 25001 Lleida<br><br>\n\n\n<b>DESTINAT
  A: </b> <br>\nProfessionals lliures exercents <br>\nEmpreses professiona
 ls<br>\nProfessionals vinculats a empreses<br>\nFuncionaris/professionals
  educadors<br>\nEmpreses i professionals de l'asseguran?a<br><br>\n<b>PER
  A M?S INFORMACI?:</b><br>\nCol?legi d'Enginyers T?cnics Industrials de L
 leida<br>\ntel. 973 232 253\n\n\n
DTEND;TZID=Europe/Madrid;VALUE=DATE:20051011
DTSTAMP:20260426T220819Z
DTSTART;TZID=Europe/Madrid;VALUE=DATE:20051010
LOCATION:https://www.enginyerstarragona.cat/agenda/details/358/358-respons
 abilitat-civil-per-a-professionals
SEQUENCE:0
SUMMARY:RESPONSABILITAT CIVIL PER A PROFESSIONALS
UID:ET_Activitat_358
URL:https://www.enginyerstarragona.cathttps://www.enginyerstarragona.cat/a
 genda/details/358/358-responsabilitat-civil-per-a-professionals
END:VEVENT
END:VCALENDAR
