BEGIN:VCALENDAR
PRODID:-//github.com/rianjs/ical.net//NONSGML ical.net 2.2//EN
VERSION:2.0
BEGIN:VEVENT
CATEGORIES:Activitats
CREATED;TZID=Europe/Madrid:20260425T011032
DESCRIPTION:S'ha organitzat un  seminari per fer refer?ncia a les CERTIFIC
 ACIONS D'UNA ORGANITZACI? D'ACORD ALS REQUISISTS DE LA NORMA UNE-EN-ISO 1
 4001\, amb l'objectiu de poder analitzar els diferents requisits de la No
 rma i criteris interpretatius de l'Entitat Certificadora/Verificadora.<br
 >\n<br>\n\n\nAquest est? dirigit a tots els col?legiats i en particular a
 ls que exerceixen la professi? lliberal i per empresa.<br>\n<br>\n\n\n<b>
 CONTINGUT DEL SEMINARI:</b>\n Requisits de la Norma UNE-EN-ISO 14001/EMAS
  II i criteris interpretatius de l'Entitat Certificadora/Verificadora d'u
 na organitzaci?<br>\n<br>\n\n\n<b>PONENT:</b>\n Sra. Montserrat Freixas i
  Mercad?\, Auditora en Cap ICICT CERT\, Cap Departamaent      Medi Ambien
 t ICICT\, S.A. Tarragona<br>\n<br>\n\n\n<b>HORARI:</b>\n 19.00 a 21.00 ho
 res<br>\n<br>\n\n\n<b>LLOC DE REALITZACI?: </b>\nA la Sala d'Actes de la 
 seu del Col?legi\, Av. de Roma\, 7 de Tarragona.<br>\n<br>\n\n\n<b>TIPUS 
 DE DOC?NCIA:</b>\n Exposici? te?rica\n<br>\n<br>\n\n<b>DOCUMENTACI?:</b>\
 n Es lliurar? un dossier amb documentaci? referent al seminari<br>\n<br>\
 n\n \n \n<b>PREU: </b>\nGratu?t<br>\n<br>\n\n\n<b>CONFIRMACI? D'ASSIST?NC
 IA:</b>\n Cal confirmar assist?ncia a l'administraci? del Col?legi  902 0
 76 777\n
DTEND;TZID=Europe/Madrid;VALUE=DATE:20030508
DTSTAMP:20260425T231032Z
DTSTART;TZID=Europe/Madrid;VALUE=DATE:20030507
LOCATION:https://www.enginyerstarragona.cat/agenda/details/31/31-certifica
 cions-duna-organitzacio-dacord-als-r
SEQUENCE:0
SUMMARY:CERTIFICACIONS D'UNA ORGANITZACI? D'ACORD ALS REQUISITS DE LA NORM
 A UNE-EN-ISO 14001
UID:ET_Activitat_31
URL:https://www.enginyerstarragona.cathttps://www.enginyerstarragona.cat/a
 genda/details/31/31-certificacions-duna-organitzacio-dacord-als-r
END:VEVENT
END:VCALENDAR
