BEGIN:VCALENDAR
PRODID:-//github.com/rianjs/ical.net//NONSGML ical.net 2.2//EN
VERSION:2.0
BEGIN:VEVENT
CATEGORIES:Activitats
CREATED;TZID=Europe/Madrid:20260422T170423
DESCRIPTION:L' <b>Associaci?  Electrot?cnica Espanyola (AEE)</b>\n celebra
 r?\, els pr?xims dies 28 i 29 d'abril\, al Museu de la Ci?ncia i la T?cni
 ca de Manresa\, el III Simposi Electrot?cnic Catal?<br>\n<br>\nEs comptar
 ? amb la pres?ncia a l'acte de clausura el  <b>Conseller de Treball i Ind
 ?stria\, Honorable Sr. Josep M. Ra??</b>\n<br><br>\nAquesta tindr? com a 
  <b>objectiu</b>\n establir un punt de trobada amb els professionals del 
 sector electrot?cnic. Ser? una ocasi? perqu? prestigiosos t?cnics i entit
 ats aportin el seu punt de vista sobre temes d'inter?s\, aix? com oferir 
 un f?rum de debat i un espai adequat per contrastar experi?ncies<br>\n<br
 >\n<b>M?S INFORMACI?: </b>\n<u><a href="http://www.electrotecnia.org" tar
 get="_blank">http://www.electrotecnia.org</a></u>\n
DTEND;TZID=Europe/Madrid;VALUE=DATE:20050429
DTSTAMP:20260422T150423Z
DTSTART;TZID=Europe/Madrid;VALUE=DATE:20050428
LOCATION:https://www.enginyerstarragona.cat/agenda/details/261/261-iii-sim
 posi-electrotecnic-catala
SEQUENCE:0
SUMMARY:III SIMPOSI ELECTROT?CNIC CATAL?
UID:ET_Activitat_261
URL:https://www.enginyerstarragona.cathttps://www.enginyerstarragona.cat/a
 genda/details/261/261-iii-simposi-electrotecnic-catala
END:VEVENT
END:VCALENDAR
