BEGIN:VCALENDAR
PRODID:-//github.com/rianjs/ical.net//NONSGML ical.net 2.2//EN
VERSION:2.0
BEGIN:VEVENT
CATEGORIES:Activitats
CREATED;TZID=Europe/Madrid:20260421T050309
DESCRIPTION:<b>OBJECTIU: </b>\nDonar a con?ixer una visi? diferent i pr?ct
 ica del sistema de gesti? de la prevenci?. Millorar els resultats\, dismi
 nuint els riscos i aconseguint\, per tant\, reduir el nombre d'accidents.
  <br>\n<br>\n\n\n<b>DIRIGIDA: </b>\na t?cnics i/o empresaris que estiguin
  interessats en millorar el sistema de la prevenci? dins de la seva empre
 sa.\n<br>\n<br>\n\n<b>TEMES A TRACTAR: </b><br>\n\n\nI. Exposici? de la v
 isi? pr?ctica de com fer seguretat <br>\n\nII. Contrast de criteris i apo
 rtaci? participativa d'idees. <br>\n<br>\n\n\n<b>PONENT:</b>\n\n Manuel R
 old?n P?rez\, Enginyer T?cnic Industrial i Cap del Departament de ERCROS 
 INDUSTRIAL S.A<br>\n\n<b>DOCUEMNTACI?: </b>\nEs lliurar? una c?pia de la 
 presentaci? <br>\n\n<b>DATA I HORARI: </b><br>\n\nTARRAGONA: 14 d'octubre
  de 2004\, de 18 a 21 hores <br>\nTERRES DE L'EBRE: 27 d'octubre de 2004\
 , de 18 a 21 hores <br><br>\n\n\n<b>LLOC DE REALITZACI?: </b><br>\n\nTARR
 AGONA: A la Sala d'Actes de la seu del Col?legi\, Av. de Roma\, 7\, de Ta
 rragona<br>\n\nTERRES DE L'EBRE: A la seu del CETIT\, a les Terres de l'E
 bre\, C. Mercaders\, 2\, de Tortosa<br>\n\n<b>CONFIRMACI? D'ASSIST?NCIA:<
 /b>\n ?s necessari confirmar l'assist?ncia a l'administraci? del Col?legi
  al  977 251 877 o 902 076 777 i\, si ho prefereixes\, tamb? ho pots fer 
 a trav?s de la nova adre?a electr?nica formaci?@cetit.org (la teva inscri
 pci? no ser? efectiva fins que es rebi la confirmaci? per part del Col?le
 gi). <br>\n<br>\n\n\n<b>INSCRIPCI? GRATU?TA</b>\n\n
DTEND;TZID=Europe/Madrid;VALUE=DATE:20041028
DTSTAMP:20260421T030309Z
DTSTART;TZID=Europe/Madrid;VALUE=DATE:20041027
LOCATION:https://www.enginyerstarragona.cat/agenda/details/202/202-com-fer
 -eficac-un-sistema-de-gestio-de-la-pre
SEQUENCE:0
SUMMARY:COM FER EFICA? UN SISTEMA DE GESTI? DE LA PREVENCI? DE RISCOS\, TA
 RRAGONA I TERRES DE L'EBRE
UID:ET_Activitat_202
URL:https://www.enginyerstarragona.cathttps://www.enginyerstarragona.cat/a
 genda/details/202/202-com-fer-eficac-un-sistema-de-gestio-de-la-pre
END:VEVENT
END:VCALENDAR
