BEGIN:VCALENDAR
PRODID:-//github.com/rianjs/ical.net//NONSGML ical.net 2.2//EN
VERSION:2.0
BEGIN:VEVENT
CATEGORIES:Baixa Tensi?
CREATED;TZID=Europe/Madrid:20260425T031216
DESCRIPTION:<table class="table">\n	<tbody><tr><td style="width:100px\; te
 xt-align: left\;"><strong>Organitza:&nbsp\;</strong></td><td style="text-
 align: left\;">ENGINYERS BCN</td></tr><tr>\n		<td style="width:100px\; te
 xt-align: left\;"><strong>Dirigit a:</strong></td>\n		<td style="text-ali
 gn: left\;">Aquest curs compleix amb els requisits de formaci? continuada
  per certificar-se com Expert en Instal?lacions de Baixa Tensi?\, certifi
 caci? acreditada per ENAC segons la Norma ISO 17024:2012. Tota la informa
 ci? per poder accedir a la certificaci? est? disponible a&nbsp\;<a href="
 https://certificacioprofessional.cat/">https://certificacioprofessional.c
 at/</a></td>\n	</tr>\n	<tr>\n		<td style="width:100px\; text-align: left\
 ;"><strong>Dates:</strong></td>\n		<td style="text-align: left\;">8\, 10\
 , 15 i 17 d'abril (dilluns i dimecres)<br></td>\n	</tr>\n	<tr>\n		<td sty
 le="width:100px\; text-align: left\;"><strong>Horari:</strong></td>\n		<t
 d style="text-align: left\;">De les 17h a les 20h</td>\n	</tr>\n	\n	<tr>\
 n		<td style="width:100px\; text-align: left\;"><strong>Durada:</strong><
 /td>\n		<td style="text-align: left\;">12 hores</td>\n	</tr>\n	<tr>\n		<t
 d style="width:100px\; text-align: left\;"><strong>Programaci?:</strong><
 /td>\n		<td style="text-align: left\;"><p><strong>-Marc Reglamentari</str
 ong></p><p><strong><span style="background-color: transparent\;">-Verific
 aci? per examen</span></strong></p><p><strong>-Verificaci? per assaig seg
 ons GUIA-BT-ANNEX 4:&nbsp\;</strong></p><ul><li>Mesura de continu?tat del
 s conductors de protecci?</li><li>Mesura de la resist?ncia de posada a te
 rra</li><li>Mesura de la resist?ncia d'a?llament dels conductors</li><li>
 Mesura de la resist?ncia d'a?llament de sols i parets\, quan s'utilitzi a
 quest sistema de protecci?&nbsp\;</li><li>Mesura de la rigidesa diel?ctri
 ca</li><li>Mesura de les corrents de fuga</li><li>Mesura de la imped?ncia
  de bucle</li><li>Comprovaci? de la intensitat de dispar dels diferencial
 s</li><li>Comprovaci? de la seq??ncia de fases</li></ul><p><strong>-Ordre
  dels assaigs</strong></p><p><strong>-Periodicitat de les inspeccions</st
 rong></p><p><strong>-Mitjans t?cnics m?nims</strong></p><p><strong>-Conse
 lls de seguretat</strong></p><p><strong>Hi ha programada una sessi? pr?ct
 ica a les depend?ncies de l'Escola del Treball (Compte d'Urgell\, 187 edi
 fici 11 de Barcelona)\, prevista pel dia 17 d'abril de 2024 en horari de 
 17 a 20 h.&nbsp\;</strong></p></td>\n	</tr>\n	\n	\n	<tr>\n		<td style="wi
 dth:100px\; text-align: left\;"><strong>Objectius:</strong></td>\n		<td s
 tyle="text-align: left\;"><p style="text-align: justify\;">Dins de l?esqu
 ema de formaci? cont?nua d?ENGINYERS BCN\, les instal?lacions el?ctriques
  en Baixa Tensi? tenen una gran rellev?ncia. Per aquest motiu s?ha dissen
 yat un pla formatiu espec?fic per aprofundir en aspectes reglamentaris\, 
 de tramitaci?\, de responsabilitats\, de disseny\, c?lcul i execuci? aix?
  com verificacions d?aquesta tipologia d?instal?lacions. Aquest pla forma
 tiu ha de servir d'acompanyament per aquells t?cnics que vulguin comen?ar
  a desenvolupar la seva traject?ria professional dins aquest ?mbit d?actu
 aci?\, per? tamb? com a actualitzaci? i posta al dia d?aquells altres pro
 fessionals que venen desenvolupant tasques relacionades amb les instal?la
 cions de Baixa Tensi?.&nbsp\;</p><p style="text-align: justify\;">Aquest 
 m?dul ?s el tercer d'un total de 3 (independents entre ells)\, que permet
 ran als t?cnics que els cursin aprofundir ?mpliament en una tipologia d'i
 nstal?lacions que est? molt present dins l'?mbit professional dels enginy
 ers graduats i els enginyers t?cnics industrials.</p><p style="text-align
 : justify\;"><span style="background-color: transparent\;">En aquest m?du
 l es preten explicar de forma pr?ctica i amb exemples com portar a terme 
 les mesures i verificacions de baixa tensi? seguint la norma UNE-HD 60364
 -6:2009: Instal?lacions el?ctriques de baixa tensi?. Part 6: Verificaci?.
 </span></p></td>\n	</tr>\n	<tr>\n		<td style="width:100px\; text-align: l
 eft\;"><strong>Ponents:</strong></td>\n		<td style="text-align: left\;"><
 strong>Rub?n D?az\,</strong>&nbsp\;Enginyer T?cnic Industrial<br></td>\n	
 </tr>\n	<tr>\n		<td style="width:100px\; text-align: left\;"><strong>Moda
 litat:</strong></td>\n		<td style="text-align: left\;"><p><strong>Presenc
 ial: </strong>ENGINYERS BCN\,&nbsp\;Aula 2\, 3a planta del Col?legi Conse
 ll de Cent\, 365 08009 BARCELONA</p><p><strong>On line streaming.&nbsp\;<
 /strong>Permet la retransmissi? en directe del curs a trav?s de l'aula vi
 rtual<strong>.&nbsp\;</strong>\n</p></td>\n	</tr>\n\n	\n\n</tbody></table
 >
DTEND;TZID=Europe/Madrid:20240408T200000
DTSTAMP:20260425T011216Z
DTSTART;TZID=Europe/Madrid:20240408T170000
LOCATION:https://www.enginyerstarragona.cat/agenda/details/2001/2001-curs-
 verificacio-de-baixa-tensio-modalitat-hi
SEQUENCE:0
SUMMARY:[Curs] VERIFICACI? DE BAIXA TENSI?. Modalitat h?brida
UID:ET_Activitat_2001
URL:https://www.enginyerstarragona.cathttps://www.enginyerstarragona.cat/a
 genda/details/2001/2001-curs-verificacio-de-baixa-tensio-modalitat-hi
END:VEVENT
END:VCALENDAR
