BEGIN:VCALENDAR
PRODID:-//github.com/rianjs/ical.net//NONSGML ical.net 2.2//EN
VERSION:2.0
BEGIN:VEVENT
CATEGORIES:Altres
CREATED;TZID=Europe/Madrid:20260424T211410
DESCRIPTION:<table class="table">\n	<tbody><tr><td style="width:100px\; te
 xt-align: left\;">Modalitat:</td><td style="text-align: left\;">On line s
 treaming. Permet la retransmissi? en directe del curs a trav?s de l'aula 
 virtual amb la plataforma CISCO WEBEX. Es podr? realitzar des del lloc qu
 e desitgi\, amb ordinador\, m?bil o tableta\, i permet realitzar el segui
 ment del curs en directe amb el professor/a\, participar en la resoluci? 
 dels exercicis\, preguntar els dubtes in situ\, escoltar les consultes de
 ls altres assistents i seguir les anotacions del professor/a a la pissarr
 a. Una vegada finalitzada la formaci? els assistents podran consultar les
  gravacions del curs a la seva ?rea privada\, si aquestes han estat pr?vi
 ament autoritzades pel professor/a del curs o entitat gestora.&nbsp\;</td
 ></tr><tr>\n		<td style="width:100px\; text-align: left\;">Dirigit a:</td
 >\n		<td style="text-align: left\;">Aquest curs est? destinat a tots aque
 lls professionals i directius que busquen millorar les seves habilitats d
 e lideratge i de gesti? d'equips.</td>\n	</tr>\n	<tr>\n		<td style="width
 :100px\; text-align: left\;">Dates:</td>\n		<td style="text-align: left\;
 ">10\, 12\, 17 i 19 de maig (dimarts i dijous) de 2022</td>\n	</tr>\n	<tr
 >\n		<td style="width:100px\; text-align: left\;">Horari:</td>\n		<td sty
 le="text-align: left\;">De 16.00 a 19.00 hores</td>\n	</tr>\n	<tr>\n		<td
  style="width:100px\; text-align: left\;">Assistents:</td>\n		<td style="
 text-align: left\;">M?nim 8</td>\n	</tr>\n	<tr>\n		<td style="width:100px
 \; text-align: left\;">Durada:</td>\n		<td style="text-align: left\;">12 
 hores</td>\n	</tr>\n	<tr>\n		<td style="width:100px\; text-align: left\;"
 >Programaci?:</td>\n		<td style="text-align: left\;"><p>1. AUTOCONEIXEMEN
 T</p><p>\n? Autoconeixement: la mirada interior</p><p>\n? Intel?lig?ncia 
 intrapersonal i interpersonal</p><p>\n? Creixement personal</p><p>\n? Apr
 enent de el canvi</p><p>\n? La proactivitat i el desenvolupament professi
 onal</p><p>2.&nbsp\; LIDERATGE</p><p>\n? Els fonaments</p><p>\n? Estils d
 e lideratge</p><p>\n? Lideratge transformacional</p><p>\n? El treball en 
 equip</p><p>\n? El lideratge com a servei als altres</p><p>\n? La visi? c
 ompartida i els valors</p><p>\n3. COMUNICACI?</p><p>\n? L'escolta</p><p>\
 n? Escolta activa i escolta emp?tica</p><p>\n? L'assertivitat</p><p>\n? L
 es converses</p><p>\n? Comunicaci? No Violenta</p><p><span style="backgro
 und-color: transparent\;">4. GESTI? D'EQUIPS</span></p><p>\n? La direcci?
  de persones</p><p>\n? Les disfuncions d'un equip</p><p>\n? Gesti? de con
 flictes</p><p>\n? Comunicaci? emocional / racional</p><p>\n? Gesti? efica
 ? de reunions</p></td>\n	</tr>\n	\n	<tr>\n		<td style="width:100px\; text
 -align: left\;">Certificaci?:</td>\n		<td style="text-align: left\;">Una 
 vegada finalitzada l?acci? formativa\, els alumnes obtindran un certifica
 t d?assist?ncia que es podran descarregar a la plataforma.  </td>\n	</tr>
 \n	<tr>\n		<td style="width:100px\; text-align: left\;">Objectius:</td>\n
 		<td style="" class=""><p>L'objectiu d'aquesta curs ?s introduir els ass
 istents en el concepte de l'Autoconeixement\ncom una eina fonamental per 
 al creixement personal i professional.\n</p><p>En el moment actual estem 
 immersos en un canvi d'Era\, que ens porta des de l'Era\nIndustrial a l'E
 ra del coneixement. En aquest proc?s de transformaci? cobren especial\nim
 port?ncia les habilitats anomenades "toves" (soft-skills)\, enteses com l
 a\ncapacitat de lideratge\, la gesti? d'equips i les habilitats directive
 s en general.</p><p>\nAl llarg d'aquest curs els assistents aprendran a c
 on?ixer-se m?s en profunditat\, per aix?\npoder estar b? amb ells mateixo
 s. Aquest ?s el primer pas per estar b? amb els altres i\ndesenvolupar le
 s intel?lig?ncies Intrapersonal i Interpersonal\, que s?n fonamentals en 
 el\ndesenvolupament de l'lideratge i de la gesti? efica? d'equips.</p><p>
 \nEl lideratge ?s el factor cr?tic d'?xit en les organitzacions. Liderar 
 ?s alliberar el talent\,\ni per aix? s'han de crear les condicions favora
 bles perqu? els altres donin el millor de\nsi mateix. Per ser un bon l?de
 r s'ha de tenir vocaci? de servei.</p><p>\nEn aquest curs farem un rep?s 
 dels fonaments de l'lideratge\, els seus diferents estils i\nla relaci? q
 ue tenen la comunicaci? i la vocaci? de servei com a eixos principals per
 \nesdevenir un bon l?der.<br></p></td>\n	</tr>\n	\n	\n\n<tr><td style="wi
 dth:100px\; text-align: left\;">&nbsp\;Documentaci?:</td><td class="" sty
 le=""><p>&nbsp\;Documentaci?:Una vegada finalitzada l?acci? formativa\, e
 ls alumnes obtindran un certificat d?assist?ncia que es podran descarrega
 r a la plataforma.</p></td></tr><tr><td style="width:100px\; text-align: 
 left\;">&nbsp\;Bonificacions:</td><td class="" style=""><p>&nbsp\;Gestion
 em els tr?mits per tal que puguis beneficiar-te de la bonificaci? corresp
 onent per formaci?.</p></td></tr><tr><td style="width:100px\; text-align:
  left\;">&nbsp\;Instruccions per bonificar:</td><td class="" style=""><p>
 &nbsp\;1.&nbsp\;Sol?licita els impresos al CETIT a formacio@enginyerstarr
 agona.cat&nbsp\; &nbsp\;2. Aporta tota la informaci? 10 dies naturals aba
 ns de l'inici del curs.&nbsp\;3. NOTA IMPORTANT: les bonificacions es por
 ten a terme per mitj? d'una assessoria externa. Aquells que vulguin acoll
 ir-se a la bonificaci? de qualsevol acci? formativa\, el preu s'increment
 ar? en un 20 % ( que tamb? es podr? bonificar i recuperar).&nbsp\;</p></t
 d></tr><tr><td style="width:100px\; text-align: left\;">&nbsp\;Forma de p
 agament:</td><td class=""><p>&nbsp\;Cobrament a trav?s del seu n?mero de 
 compte\, que haur? de facilitar a l?hora de fer la inscripci?.</p></td></
 tr></tbody></table>
DTEND;TZID=Europe/Madrid:20220510T190000
DTSTAMP:20260424T191410Z
DTSTART;TZID=Europe/Madrid:20220510T160000
LOCATION:https://www.enginyerstarragona.cat/agenda/details/1818/1818-curs-
 on-line-streaming-curs-de-lideratge-i-ge
SEQUENCE:0
SUMMARY:[Curs on line streaming]  CURS DE LIDERATGE I GESTI? D'EQUIPS
UID:ET_Activitat_1818
URL:https://www.enginyerstarragona.cathttps://www.enginyerstarragona.cat/a
 genda/details/1818/1818-curs-on-line-streaming-curs-de-lideratge-i-ge
END:VEVENT
END:VCALENDAR
