BEGIN:VCALENDAR
PRODID:-//github.com/rianjs/ical.net//NONSGML ical.net 2.2//EN
VERSION:2.0
BEGIN:VEVENT
CATEGORIES:Altres
CREATED;TZID=Europe/Madrid:20260422T060931
DESCRIPTION:<table class="table">\n	<tbody><tr><td style="width:100px\; te
 xt-align: left\;">Organitza:&nbsp\;</td><td style="text-align: left\;">Im
 pulsat pel CETIT i impartit per &nbsp\;<a href="https://www.cogitiformaci
 on.es/index.php?r=site/mostrarcursos">Plataforma Formaci?n COGITI</a></td
 ></tr>\n	<tr>\n		<td style="width:100px\; text-align: left\;">Dates:</td>
 \n		<td style="text-align: left\;">Del 6&nbsp\; de desembre de 2021 al 2 
 de gener de 2022&nbsp\;</td>\n	</tr>\n	\n	\n	<tr>\n		<td style="width:100
 px\; text-align: left\;">Durada:</td>\n		<td style="text-align: left\;">6
 0 hores</td>\n	</tr>\n	<tr><td style="width:100px\; text-align: left\;">M
 odalitat:&nbsp\;</td><td style="text-align: left\;">On line\, al teu ritm
 e</td></tr><tr>\n		<td style="width:100px\; text-align: left\;">Programac
 i?:</td>\n		<td style="text-align: left\;"><div>1. Pla de viabilitat. Neg
 oci viable\n</div><ul><li>1.1. Introducci?\n</li><li>1.2. Viabilitat del 
 negoci\n</li><li>1.3. Quadre resum\n</li></ul><p>2. Marges de benefici i 
 el seu c?lcul\n</p><ul><li>2.1. Introducci?\n</li><li>2.2. El marge de be
 nefici\n</li><li>2.3. L'EBITDA\n</li><li>2.4. Com calculem el marge brut 
 d'un producte?\n</li><li>2.5. El marge est? en la comercialitzaci? i no e
 n la producci?\n</li><li>2.6. Conclusi?\n</li></ul><p>3. Negoci viable co
 mercialment\n</p><ul><li>3.1. Introducci?\n</li><li>3.2. Estudis previs\n
 </li><li>3.3. Planificaci?\n</li><li>3.4. Negoci viable comercialment\n</
 li></ul><p>4. Negoci viable econ?micament\n</p><ul><li>4.1. Generalitats\
 n</li><li>4.2. Viabilitat econ?mica\n</li><li>4.3. Negoci viable econ?mic
 ament\n</li></ul><p>5. Negoci viable financerament\n</p><ul><li>5.1. Gene
 ralitats\n</li><li>5.2. Finan?ament\n</li><li>5.3. Tresoreria\n</li><li>5
 .4. Flux de tresoreria\n</li><li>5.5. Liquidesa\n</li><li>5.6. El compte 
 de resultats\n</li><li>5.7. El balan?\n</li><li>5.8. R?tios financers\n</
 li><li>5.9. Conclusi? final. El negoci ?s viable\n</li></ul><p>6. Eina de
  c?lcul de la viabilitat\n</p><ul><li>6.1. Introducci?\n</li><li>6.2. Dad
 es dentrada\n</li><li>6.3. Dades de resultats\n</li><li>6.4. Full de c?lc
 ul Excel\n</li><li>6.5. P?gina n?m. 1 - Inversi? inicial\n</li><li>6.6. P
 ?gina n?m. 2 - Ingressos\n</li><li>6.7. P?gina n? 3 - Despeses fixes\n</l
 i><li>6.8. P?gina n?m. 4 - Resultats 1r any i p?gina n?m. 5 - Resultats a
  tres anys\n</li><li>6.9. P?gina n? 6 - balan?os\n</li></ul><p>7. Liquida
 ci? de l'empresa\n</p><ul><li>7.1. Introducci?\n</li><li>7.2. Liquidaci? 
 de l'empresa\n</li><li>7.3. Concurs de creditors\n</li><li>7.4. Proc?s de
 l concurs de prove?dors\n</li><li>7.5. Dissoluci?\n</li><li>7.6. Liquidac
 i?\n</li><li>7.7. Comunicaci?\n</li><li>7.8. Qu? fer davant d'un embargam
 ent?\n</li><li>7.9. Detalls\n</li><li>7.10. Embargament administratiu\n</
 li><li>7.11. Embargament judicial\n</li><li>7.12. Sol?licitud de concurs 
 de creditors\n</li></ul><p>Annexos\n</p><ul><li>C?lcul Pla Viabilitat\n</
 li></ul><ol><li>Guia Pla de Viabilitat\n</li><li>Pla Viabilitat exemple\n
 </li><li>Pla Viabilitat net\n</li><li>Taula d'amortitzacions comptables\n
 </li></ol><ul><li>Econ?mics - financers\n</li></ul><ol><li>(43 annexos)\n
 </li></ol><ul><li>V?deos\n</li></ul><ol><li>An?lisi economicofinancera d'
 un projecte\n</li><li>An?lisi viabilitat economicofinancera\n</li><li>Fit
 es d'un Pla de negoci IV\n</li><li>Fites d'un pla negoci II\n</li><li>Pla
  de Viabilitat per a emprenedors\n</li><li>Tutorial Pla de Viabilitat&nbs
 p\;<br></li></ol></td>\n	</tr>\n	\n	\n	<tr><td style="width:100px\; text-
 align: left\;">Objectius:&nbsp\;</td><td style="text-align: left\;"><p>L'
 objectiu principal del curs ?s donar una eina que:\n</p><ul><li>Un estudi
  de mercat i unes previsions documentades\n</li><li>Uns conceptes comerci
 als\, econ?mics i financers\n</li><li>Unes r?tios\n</li></ul><p>Li permet
 i:\n</p><ul><li>Obtenir uns resultats projectats a tres anys\, de l'estat
  del projecte a emprendre i determinar-ne la viabilitat sota el punt de v
 ista comercial\,\necon?mic i financer\n</li><li>Realitzar un Pla de Viabi
 litat de la seva idea ? projecte\, perqu? abans de comen?ar a invertir i 
 gastar en operacions\, s?piga si ho far? amb garanties d?xit o vegi que\n
 correccions pot fer\, modificant dades d'entrada al full de c?lcul\, i qu
 ines conseq??ncies tindran aquestes modificacions al compte d'explotaci?\
 , al\ntresoreria\, al punt d'equilibri i al balan? (actius i passius) pro
 jectats a tres anys\n</li><li>Com a objectiu secundari\, aprendre a fer l
 a planificaci? econ?mica i financera d'un projecte empresarial\, abans de
 l llan?ament d'un producte o servei\nnou ia utilitzar conceptes de compta
 bilitat. A m?s\, l'alumne es familiaritzar? en els conceptes empresarials
  de: punt d'equilibri\, EBITDA\, liquiditat\, solv?ncia\,\ntresoreria\, c
 omptes d'explotaci? i un llarg etc?tera<br></li></ul></td></tr>\n	\n	\n\n
 <tr><td style="width:100px\; text-align: left\;">&nbsp\;NOTA:&nbsp\;</td>
 <td style="text-align: left\;"><p>Les inscripcions es portem a terme i es
  gestionen des del COGITI. Tamb? pots sol?licitar la inscripci? al nostre
  web i posteriorment et farem arribar l'enlla? directe d'inscripci? defin
 itiva.</p></td></tr></tbody></table>
DTEND;TZID=Europe/Madrid:20211206T190000
DTSTAMP:20260422T040931Z
DTSTART;TZID=Europe/Madrid:20211206T170000
LOCATION:https://www.enginyerstarragona.cat/agenda/details/1762/1762-curs-
 on-line-pla-de-viabilitat-facil
SEQUENCE:0
SUMMARY:[Curs on line] PLA DE VIABILITAT F?CIL
UID:ET_Activitat_1762
URL:https://www.enginyerstarragona.cathttps://www.enginyerstarragona.cat/a
 genda/details/1762/1762-curs-on-line-pla-de-viabilitat-facil
END:VEVENT
END:VCALENDAR
