BEGIN:VCALENDAR
PRODID:-//github.com/rianjs/ical.net//NONSGML ical.net 2.2//EN
VERSION:2.0
BEGIN:VEVENT
CATEGORIES:Activitats
CREATED;TZID=Europe/Madrid:20260425T170605
DESCRIPTION:Haur?s de tenir en compte que aquest ?s l'?ltim any que es pod
 r? acreditar la certificaci? del curs de prevenci?: ?segons Reial Decret 
 1161/2001 del 26 d'octubre s'estableix\, com a t?tol corresponent a estud
 is de formaci? professional\, el t?tol de t?cnic superior de prevenci? de
  riscos professionals i els corresponents ensenyaments m?nims\, amb car?c
 ter oficial i validesa per tot el territori nacional  i que faculta per a
  exercir les funcions de nivell intermedi definides al Reial Decret 39/19
 97\, de 17 de gener?<p>\n<b>T?TOL </b><br>\nEs lliurar? el T?tol de Nivel
 l Intermedi en Prevenci? de Riscos Laborals i Certificaci? de Formaci? en
  mat?ria de Coordinador de Seguretat i Salut en Obres de Construcci? i In
 stal?lacions. <p>\n<b>OBJECTIUS</b><br>\nCapacitat  per afrontar l'avalua
 ci? i prevenci? de riscos dins el sector de les obres de construcci? i em
 preses d'aquest ?mbit en general. <br>\nCapacitat per dur a terme les fun
 cions de Coordinador de Seguretat  i Salut en Obres de Construcci? i Engi
 nyeria Civil\, segons el que estableix el RD 1627/97 i la Llei 38/99<br>\
 n<br>\n<b>METODOLOGIA </b><br>\nFormaci? a dist?ncia \n	Documentaci? escr
 ita\, CD de normativa  i guia de l'alumne<br>\n	Professors coordinadors p
 er m?dul que atendran les consultes i dubtes <br>\n	Acc?s a internet i co
 nsultes per e-mail <br>\n	Classes presencials (no s?n obligat?ries per? s
 i ?s  molt important assistir-hi)<br><br>\n \n\n<b>ADRE?AT A </b><br>\n\n
 \nTitulats T?cnics: Enginyers T?cnics Industrials\, Enginyers Industrials
 \, Arquitectes T?cnics i altres titulats capacitats segons la Llei 38/99 
 per dur a terme funcions de Coordinador de Seguretat<br>\n<br>\n\n\n<b>IN
 ICI DEL CURS</b><br>\n\n\n22 de maig de 2004 (dissabte) de 9.00 a 14.00 h
 ores a la seu del Col?legi . A l'inici del curs es lliurar? el calendari 
 amb tots els dies i horaris presencials <br><br>\n\n\n\n<b>PROGRAMA</b><b
 r>\n\n\n \nPrograma equivalent al nivell intermedi de 350 h  (annex VI de
 l RD  39/97\, part comuna del nivell superior). Aquests continguts oferei
 xen la possibilitat de continuar en qualsevol Centre autoritzat per l'aut
 oritat laboral competent la formaci? de riscos laborals. Es pot passar\, 
 un cop avaluat i Certificada la Formaci? de 350 hores d'aquest curs\, a r
 ealitzar la part d'especialitat (100 h) i la part de Projecte de Final de
  Formaci? necessaris per tenir t?tol de t?cnic de nivell superior en mat?
 ria de prevenci? de riscos laborals<br>\n<br>\n\n\nHi ha programades 3 es
 pecialitats: <br>\n\nSeguretat en el treball<br>\n\n	Higiene industrial <
 br>\n\n	Ergonomia i Psicosociologia aplicada\, amb les quals es podria en
 lla?ar els interessats en el nivell superior de prevenci? de riscos labor
 als<br><br>\n\n\n<b>PREU COL?LEGIAT: </b>\n950 ? <br>\n						    \n<b>PRE
 U NO COL?LEGIAT:</b>\n 1400 ?<br></b>\n\n\n			       		       \n<b>FORMA 
 DE PAGAMENT:</b> Transfer?ncia banc?ria o ingr?s en efectiu al n?mero de 
 compte 0081.0088.19.0001081810\, del Banc de Sabadell (?s necessari indic
 ar al document justificatiu de pagament el nom de la persona assistent i 
 el nom de l'activitat) <br>\n\nNOTA: No es considerar? ferma la inscripci
 ? fins que el pagament no sigui efectiu. Abans de realitzar el pagament c
 al verificar si resten places.<br>\n<br>\n\n<b>TERMINI D'INSCRIPCI?:</b>\
 n ?s necessari confirmar l'assist?ncia a l'administraci? del Col?legi\, t
 el. 902 076 777 ? 977 251 877 abans del 17 de maig de 2004.  S'adjunta fi
 txa d'inscripci? al curs que s'haur? d'omplir i enviar per fax al n?mero 
 977 234 152 junt amb la fotoc?pia del DNI\, i en el cas que siguis titula
 t tamb? haur?s d'adjuntar una fotoc?pia del t?tol. \n
DTEND;TZID=Europe/Madrid;VALUE=DATE:20041231
DTSTAMP:20260425T150605Z
DTSTART;TZID=Europe/Madrid;VALUE=DATE:20041230
LOCATION:https://www.enginyerstarragona.cat/agenda/details/173/173-curs-a-
 distancia-coordinador-de-seguretat-en
SEQUENCE:0
SUMMARY:CURS A DIST?NCIA COORDINADOR DE SEGURETAT EN CONSTRUCCI? I ENGINYE
 RIA CIVIL. NIVELL INTERMEDI
UID:ET_Activitat_173
URL:https://www.enginyerstarragona.cathttps://www.enginyerstarragona.cat/a
 genda/details/173/173-curs-a-distancia-coordinador-de-seguretat-en
END:VEVENT
END:VCALENDAR
