BEGIN:VCALENDAR
PRODID:-//github.com/rianjs/ical.net//NONSGML ical.net 2.2//EN
VERSION:2.0
BEGIN:VEVENT
CATEGORIES:Activitats
CREATED;TZID=Europe/Madrid:20260421T151723
DESCRIPTION:<table class="table">\n	<tbody>\n	<tr>\n		<td style="width:100
 px\; text-align: left\;"><strong>Dates:</strong></td>\n		<td style="text-
 align: left\;">Del 26 al 31 de juliol (6 dies)</td>\n	</tr>\n	\n	<tr>\n		
 <td style="width:100px\; text-align: left\;"><strong>Assistents:</strong>
 </td>\n		<td style="text-align: left\;">Si no s'arriba a un nombre m?nim 
 considerable com per poder fer un grup\, no es portar? a terme el viatge.
 <br></td>\n	</tr>\n	<tr>\n		<td style="width:100px\; text-align: left\;">
 <strong>Durada:</strong></td>\n		<td style="text-align: left\;">6 dies</t
 d>\n	</tr>\n	<tr>\n		<td style="width:100px\; text-align: left\;"><strong
 >Destinataris:</strong></td>\n		<td style="text-align: left\;">Col?legiat
 s\, familiars i amics.</td>\n	</tr>\n	\n	<tr>\n		<td style="width:100px\;
  text-align: left\;"><strong>Programaci?:</strong></td>\n		<td style="tex
 t-align: left\;"><p><a href="https://admin.enginyerstarragona.cat/assets/
 global/documents/shared/AST%C3%9ARIES%206d%20COL.pdf">Podeu consultar l'i
 tinerari&nbsp\;del viatge elaborat i programat per l'ag?ncia&nbsp\;</a></
 p><p><strong><span style="background-color: rgb(255\, 255\, 0)\;">Col?leg
 iats i familiars: 10 % DE DESCOMPTE RESPECTE EL PREU DE VENDA AL P?BLIC</
 span></strong></p></td>\n	</tr>\n	\n	\n	\n\n</tbody></table>
DTEND;TZID=Europe/Madrid:20210731T220000
DTSTAMP:20260421T131723Z
DTSTART;TZID=Europe/Madrid:20210726T090000
LOCATION:https://www.enginyerstarragona.cat/agenda/details/1695/1695-viatg
 e-a-asturies
SEQUENCE:0
SUMMARY:VIATGE A AST?RIES
UID:ET_Activitat_1695
URL:https://www.enginyerstarragona.cathttps://www.enginyerstarragona.cat/a
 genda/details/1695/1695-viatge-a-asturies
END:VEVENT
END:VCALENDAR
