BEGIN:VCALENDAR
PRODID:-//github.com/rianjs/ical.net//NONSGML ical.net 2.2//EN
VERSION:2.0
BEGIN:VEVENT
CATEGORIES:Activitats
CREATED;TZID=Europe/Madrid:20260420T174749
DESCRIPTION:<table class="table">\n	<tbody><tr><td style="width:100px\; te
 xt-align: left\;">Organitza:&nbsp\;</td><td style="text-align: left\;">CO
 GITI</td></tr>\n	<tr>\n		<td style="width:100px\; text-align: left\;">Dat
 es:</td>\n		<td style="text-align: left\;">19 de maig (dimecres)</td>\n	<
 /tr>\n	<tr>\n		<td style="width:100px\; text-align: left\;">Horari:</td>\
 n		<td style="text-align: left\;">De les 18.00 a 19.00 hores</td>\n	</tr>
 \n	\n	<tr>\n		<td style="width:100px\; text-align: left\;">Durada:</td>\n
 		<td style="text-align: left\;">1 hora</td>\n	</tr>\n	<tr>\n		<td style=
 "width:100px\; text-align: left\;">Programaci?:</td>\n		<td style="text-a
 lign: left\;"><p>?	Solucions digitals per a la gesti? i operaci? de la in
 fraestructura el?ctrica.&nbsp\;</p><p>?	Innovacions en protecci? el?ctric
 a:</p><p style="margin-left: 40px\;">o	Innovaci? en protecci? diferencial
 .</p><p style="margin-left: 40px\;">o	Protecci? contra sobretensions.</p>
 <p style="margin-left: 40px\;">o	Protecci? contra defectes d'arc el?ctric
 .</p><p style="margin-left: 40px\;">o	Seguretat en les connexions el?ctri
 ques.</p><p style="margin-left: 40px\;">o	Predicci? de focs el?ctrics.</p
 ><p>? Torn de preguntes.<br></p></td>\n	</tr>\n	\n	\n	<tr><td style="widt
 h:100px\; text-align: left\;">Objectius:&nbsp\;</td><td style="text-align
 : left\;"><p>L'objectiu d'aquest ser? que els/as assistents coneguin com 
 millorar la seguretat el?ctrica de les instal?lacions mitjan?ant les solu
 cions m?s innovadores de Schneider Electric\, que permeten aconseguir est
 alvis importants tant en l'explotaci? com en el manteniment de les instal
 ?lacions el?ctriques.<br></p></td></tr><tr>\n		<td style="width:100px\; t
 ext-align: left\;">Ponent:</td>\n		<td style="text-align: left\;"><p>En e
 l Webinar intervindran:</p><p>-<strong> Sr. Javier Barnils</strong>\, Res
 ponsable de Prescripci? d'Ib?ria en Schneider Electric.</p><p>- <strong>S
 r. Ra?l Romero</strong>\, Offer Manager de Baixa Tensi? Terminal d'Ib?ria
  en Schneider Electric.</p><p><strong>- Sr. Jaume Rubio\,</strong> Offer 
 Manager de Baixa Tensi? Pot?ncia d'Ib?ria en Schneider Electric.\n<br></p
 ></td>\n	</tr>\n	\n	\n\n<tr><td style="width:100px\; text-align: left\;">
 Nota:</td><td style="text-align: left\;"><p>El Webinar ser? transm?s en d
 irecte\, de manera online.</p><p> La inscripci? ?s externa\, pr?via sol?l
 icitud a la nostra web rebreu al correu de confirmaci?&nbsp\;l'enlla? per
  accedir\, on tamb? haureu de constatar les vostres dades per formalitzar
  la inscripci? definitiva.</p><p>En cas de no poder assistir en directe\,
  la jornada ser? gravada i carregada en l'apartat dels Webinars del Pla E
 nginya el futur per a la seva posterior visualitzaci?.</p><p>&nbsp\;</p><
 /td></tr></tbody></table>
DTEND;TZID=Europe/Madrid:20210427T190000
DTSTAMP:20260420T154749Z
DTSTART;TZID=Europe/Madrid:20210427T180000
LOCATION:https://www.enginyerstarragona.cat/agenda/details/1683/1683-webin
 ar-cogiti-solucions-avancades-per-a-la-s
SEQUENCE:0
SUMMARY:[Webinar COGITI] Solucions avan?ades per a la seguretat el?ctrica 
 de Schneider Electric
UID:ET_Activitat_1683
URL:https://www.enginyerstarragona.cathttps://www.enginyerstarragona.cat/a
 genda/details/1683/1683-webinar-cogiti-solucions-avancades-per-a-la-s
END:VEVENT
END:VCALENDAR
