BEGIN:VCALENDAR
PRODID:-//github.com/rianjs/ical.net//NONSGML ical.net 2.2//EN
VERSION:2.0
BEGIN:VEVENT
CATEGORIES:Activitats
CREATED;TZID=Europe/Madrid:20260422T153524
DESCRIPTION:<table class="table">\n	<tbody><tr>\n		<td style="width:100px\
 ; text-align: left\;">Organitza:</td>\n		<td style="text-align: left\;">C
 OGITI</td>\n	</tr>\n	<tr>\n		<td style="width:100px\; text-align: left\;"
 >Dates:</td>\n		<td style="text-align: left\;">17 de novembre (dimarts)</
 td>\n	</tr>\n	<tr>\n		<td style="width:100px\; text-align: left\;">Horari
 :</td>\n		<td style="text-align: left\;">De les 17.00 a les 18.30 hores</
 td>\n	</tr>\n	\n	<tr>\n		<td style="width:100px\; text-align: left\;">Dur
 ada:</td>\n		<td style="text-align: left\;">1'5 hores aproximadament</td>
 \n	</tr>\n	<tr>\n		<td style="width:100px\; text-align: left\;">Programac
 i?:</td>\n		<td style="text-align: left\;"><p><br>C?lcul d'instal?lacions
  el?ctriques Open BIM amb: AutoCAD\, Caneco BT i Caneco Implan </p><p>Gr?
 cies a la incorporaci? de les noves aplicacions de ALPI i AUTODESK (comer
 cialitzades conjuntament per contracte) en el Portal de Gesti? de Llic?nc
 ies TOOLBOX (https://toolbox.cogiti.es/)\, una demanda hist?rica del nost
 re col?lectiu donat l'elevat preu d'aquest programari\, que mant? al Port
 al com a referent a l'hora d'adquirir programari t?cnic\, posem a la vost
 ra disposici? les seg?ents suites:</p><p>CANECO BT + IMPLAN + AUTOCAD OEM
 </p><p>CANECO BT + IMPLAN + BIM + AUTOCAD OEM.</p><p>Per aquest motiu\, d
 es del Consell General i els Col?legis Oficials\, en col?laboraci? amb l'
 empresa ALPI International Programari Espanya\, s'ha preparat una s?rie d
 e tres Webinar amb l'objectiu de donar a con?ixer aquestes eines\, emmarc
 at dins del Pla Enginya el Futur.&nbsp\;</p><p>&nbsp\;</p></td>\n	</tr>\n
 	<tr>\n		<td style="width:100px\; text-align: left\;">Ponents:</td>\n		<t
 d style="text-align: left\;"><p>- Sr. Jes?s Su?rez\, Director comercial i
  Responsable de Desenvolupament de negoci en ALPI International Programar
 i Espanya.</p><p>- D. M?ximo Romero\, Director T?cnic i Responsable de Fo
 rmaci? en ALPI International Programari Espanya.<br></p></td>\n	</tr>\n	\
 n	<tr>\n		<td style="width:100px\; text-align: left\;">Objectius:</td><td
  style="text-align: left\;"><p>Que els/as assistents comprovin de primera
  m? com calcular i alimentar un model el?ctric Open BIM de par?metres com
 partits amb informaci? el?ctrica.&nbsp\;Tamb? podran veure la justificaci
 ? de c?lculs realitzats segons normativa\, esquemes unifilars\, fitxes de
  selectivitat i filiaci?\, aix? com el dimensionament autom?tic de les sa
 fates de cables\, generant tota aquesta documentaci? en diversos formats:
  DWG\, IFC\, Excel\, BD\, RVT. </p><p>Per a complir amb aquest objectiu\,
  durant el Webinar es realitzar? una demostraci? en viu\, en la qual es t
 reballar? un projecte el?ctric des de Caneco Implan amb AutoCAD? en forma
 t DWG. </p><p>Despr?s es crear? tota la instal?laci? el?ctrica\, els c?lc
 uls luminot?cnics\, es calcular? i dimensionar? completament\, per a fina
 lment\, enviar el model Caneco BT a format IFC\, a partir del DWG.</p></t
 d>\n	</tr>\n	<tr>\n		<td style="width:100px\; text-align: left\;">Nota:</
 td>\n		<td style="text-align: left\;"><p>El webinar ser? transm?s en dire
 cte\, de manera online.</p><p>La inscripci? ?s externa\, pr?via sol?licit
 ud a la nostra web rebreu al correu de confirmaci? l'enlla? per accedir\,
  on tamb? haureu de constatar les vostres dades per formalitzar la inscri
 pci? definitiva.</p><p>En cas de no poder assistir en directe\, la jornad
 a ser? gravada i carregada en l'apartat dels Webinars del Pla Enginya el 
 futur per a la seva posterior visualitzaci?.</p></td>\n	</tr>\n	\n\n</tbo
 dy></table>
DTEND;TZID=Europe/Madrid:20201110T190000
DTSTAMP:20260422T133524Z
DTSTART;TZID=Europe/Madrid:20201110T170000
LOCATION:https://www.enginyerstarragona.cat/agenda/details/1606/1606-webin
 ar-cogiti-calcul-dinstallacions-electriq
SEQUENCE:0
SUMMARY:[Webinar COGITI] C?lcul d'instal?lacions el?ctriques Open BIM amb:
  AutoCAD\, Caneco BT i Caneco Implan
UID:ET_Activitat_1606
URL:https://www.enginyerstarragona.cathttps://www.enginyerstarragona.cat/a
 genda/details/1606/1606-webinar-cogiti-calcul-dinstallacions-electriq
END:VEVENT
END:VCALENDAR
