BEGIN:VCALENDAR
PRODID:-//github.com/rianjs/ical.net//NONSGML ical.net 2.2//EN
VERSION:2.0
BEGIN:VEVENT
CATEGORIES:Activitats
CREATED;TZID=Europe/Madrid:20260422T090848
DESCRIPTION:<table class="table">\n	<tbody>\n	<tr><td style="width:100px\;
  text-align: left\;"><strong>&nbsp\;Modalitat:</strong></td><td style="te
 xt-align: left\;">On line streaming. Permet la retransmissi? en directe d
 el curs a trav?s de l'aula virtual amb la plataforma CISCO WEBEX. Es podr
 ? realitzar des del lloc que desitgi\, amb ordinador\, m?bil o tablet\, i
  permet realitzar el seguiment del curs en directe amb el professor/a\, p
 articipar en la resoluci? dels exercicis\, preguntar els dubtes in situ\,
  escoltar les consultes dels altres assistents i seguir les anotacions de
 l professor/a a la pissarra. Una vegada finalitzada la formaci? els assis
 tents podran consultar les gravacions del curs a la seva ?rea privada\, s
 i aquestes han estat pr?viament autoritzades pel professor/a del curs o e
 ntitat gestora.&nbsp\;&nbsp\;</td></tr><tr>\n		<td style="width:100px\; t
 ext-align: left\;"><strong>?Dates:</strong></td>\n		<td style="text-align
 : left\;">26 d'octubre (dilluns)</td>\n	</tr>\n	<tr>\n		<td style="width:
 100px\; text-align: left\;"><strong>?Horari:</strong></td>\n		<td style="
 text-align: left\;">De les 16.00 a les 20.00 h + 1 hora d'exercicis a cas
 a&nbsp\;</td>\n	</tr>\n	<tr>\n		<td style="width:100px\; text-align: left
 \;"><strong>????Assistents:</strong></td>\n		<td style="text-align: left\
 ;">6/25</td>\n	</tr>\n	<tr>\n		<td style="width:100px\; text-align: left\
 ;"><strong>?Durada:</strong></td>\n		<td style="text-align: left\;">5 h l
 ectives (4 hores de teoria + 1 d'exercicis pr?ctics)</td>\n	</tr>\n	<tr>\
 n		<td style="width:100px\; text-align: left\;"><strong>?Programaci?:</st
 rong></td>\n		<td style="text-align: left\;"><ul><li>M?todes de c?lcul ex
 istents.</li><li>?s dels m?todes de c?lcul.</li><li>Desenvolupament de la
  ISO 9613-2: ?Attenuation of sound during propagation outdoors </li><li>P
 art 2: General method of calculation?</li><li>Aplicaci? pr?ctica: estudi 
 d?impacte ac?stic d?una ind?stria.</li><li>?s de software comercial de c?
 lcul: demo<br></li></ul></td>\n	</tr>\n	<tr>\n		<td style="width:100px\; 
 text-align: left\;"><strong>?Documentaci?:</strong></td>\n		<td style="te
 xt-align: left\;">La documentaci? estar? disponible a la plataforma entre
  24 i 48 hores abans de l?inici de la formaci?. En el cas que hi hagi doc
 umentaci? addicional una vegada finalitzada la formaci?\, us la facilitar
 em posteriorment.</td>\n	</tr>\n	<tr>\n		<td style="width:100px\; text-al
 ign: left\;"><strong>?Certificaci?:</strong></td>\n		<td style="text-alig
 n: left\;">Una vegada finalitzada l?acci? formativa\, els alumnes obtindr
 an un certificat d?assist?ncia que es podran descarregar a la plataforma.
   </td>\n	</tr>\n	<tr>\n		<td style="width:100px\; text-align: left\;"><s
 trong>?Objectius:</strong></td>\n		<td style="text-align: left\;">Curs to
 talment online\, amb un part te?rica i una part pr?ctica\, on el que es p
 ret?n ?s lla resoluci? de diferents situacions reals ambla participaci? d
 els assistents al curs. </td>\n	</tr>\n	<tr>\n		<td style="width:100px\; 
 text-align: left\;"><strong>?Bonificacions:</strong></td>\n		<td style="t
 ext-align: left\;">Gestionem els tr?mits per tal que puguis beneficiar-te
  de la bonificaci? corresponent per formaci?.</td>\n	</tr>\n	<tr>\n		<td 
 style="width:100px\; text-align: left\;"><strong>Instruccions per bonific
 ar:</strong></td>\n		<td style="text-align: left\;"><p>\n1. Sol?licita el
 s impresos al CETIT a formacio@enginyerstarragona.cat\n</p><p>2. Aporta t
 ota la informaci? 10 dies naturals abans de l'inici del curs.\n</p><p>3. 
 NOTA IMPORTANT:  les bonificacions es porten a terme per mitj? d'una asse
 ssoria externa. Aquells que vulguin acollir-se a la bonificaci? de qualse
 vol acci? formativa\, el preu s'incrementar? en un  20 % ( que tamb? es p
 odr? bonificar i recuperar).\n</p></td>\n	</tr>\n\n</tbody></table>
DTEND;TZID=Europe/Madrid:20201026T200000
DTSTAMP:20260422T070848Z
DTSTART;TZID=Europe/Madrid:20201026T160000
LOCATION:https://www.enginyerstarragona.cat/agenda/details/1582/1582-curs-
 on-line-streaming-introduccio-als-metode
SEQUENCE:0
SUMMARY:[Curs on line streaming]  INTRODUCCI? ALS M?TODES DE C?LCUL AC?STI
 C D'EXTERIORS
UID:ET_Activitat_1582
URL:https://www.enginyerstarragona.cathttps://www.enginyerstarragona.cat/a
 genda/details/1582/1582-curs-on-line-streaming-introduccio-als-metode
END:VEVENT
END:VCALENDAR
