BEGIN:VCALENDAR
PRODID:-//github.com/rianjs/ical.net//NONSGML ical.net 2.2//EN
VERSION:2.0
BEGIN:VEVENT
CATEGORIES:Activitats
CREATED;TZID=Europe/Madrid:20260421T183939
DESCRIPTION:<table class="table">\n	<tbody class="RadEDomMouseOver">\n	<tr
 ><td style="width:100px\; text-align: left\;"><strong>Organitza:&nbsp\;</
 strong></td><td style="text-align: left\;">Aquest Postgrau s'ha organitza
 t pel&nbsp\;Col?legi d'Enginyers Graduats i Enginyers T?cnics Industrials
  de Barcelona (ENGINYERS BCN)&nbsp\;amb la col?laboraci? d'ENGINYERS TARR
 AGONA)</td></tr><tr>\n		<td style="width:100px\; text-align: left\;"><str
 ong>?Dates:</strong></td>\n		<td style="text-align: left\;">Inici 2 d'oct
 ubre fins el 19 de juny de 2021</td>\n	</tr>\n	<tr>\n		<td style="width:1
 00px\; text-align: left\;"><strong>?Horari:</strong></td>\n		<td style="t
 ext-align: left\;">De les 16.00 a les 20.00 hores</td>\n	</tr>\n	\n	<tr>\
 n		<td style="width:100px\; text-align: left\;"><strong>?Durada:</strong>
 </td>\n		<td style="text-align: left\;">150 hores lectives&nbsp\;</td>\n	
 </tr>\n	<tr>\n		<td style="width:100px\; text-align: left\;"><strong>?Pro
 gramaci?:</strong></td>\n		<td style="text-align: left\;"><p>M?dul 1: IoT
  i rob?tica col?laborativa&nbsp\;</p><p>M?dul 2: Big Data i intel?lig?nci
 a artificial</p><p>M?dul 3: Ciberseguretat</p><p>M?dul 4: Manteniment pre
 dictiu</p><p>M?dul 5: Efici?ncia Energ?tica</p><p>EXERCICI FINAL DE POSTG
 RAU</p><p><a href="https://www.enginyersbcn.cat/serveis-colegiats/formaci
 o/cursos-activitats/3019/postgrau-en-gestio-de-la-industria-40-produccio-
 i-manteniment-aplicacions-clau-per-a-la-millora-de-la-competitivitat-prod
 uctivitat-i-mantenibilitat">Consulta el programa&nbsp\;</a></p></td>\n	</
 tr>\n	\n	\n	<tr><td style="width:100px\; text-align: left\;"><strong>Equi
 p docent:</strong></td><td style="text-align: left\;"><p><strong>Coordina
 ci?:</strong></p><p><strong>S?lvia Ferrer\,</strong>&nbsp\;Responsable de
  l??rea de Programes Superiors Eurecat Academy. Llicenciada en Periodisme
  per la Universitat Pompeu Fabra i Postgrau en Gesti? i Direcci? d'Empres
 es. M?s de 20 anys d'experi?ncia gestionant i coordinant projectes format
 ius amb empreses\, tant a nivell nacional\, com internacional: participan
 t i donant suport en el seu proc?s de detecci? de necessitats formatives 
 i coordinant el desenvolupament de la seva formaci?.</p><p><strong>Equip 
 docent:</strong></p><p><strong>Lali Soler</strong>\,&nbsp\;ead of Digital
  Product Management at Eurecat.&nbsp\;Especialitzada en intel?lig?ncia ar
 tificial per? dedicada a la seva aplicaci? en el camp dels negocis durant
  els darrers anys\, el meu perfil combina perfectament una forta capacita
 t anal?tica de fons amb una visi? de 360? del m?n empresarial.</p><p><str
 ong>Maddi Etxegarai\,</strong>&nbsp\;Investigadora de la unitat de Smart 
 Management System d?Eurecat. ?s Doctora en geomec?nica per la Universit? 
 Grenoble-Alps (Fran?a) i Llicenciada en F?siques per la Universitat Compl
 utense de Madrid (Espanya). A l'acabar la carrera feina dos anys a l'Euro
 pean Spallation Source (ESS\, ERIC)\, el centre punter de neutrons a Su?c
 ia\, on va participar en el disseny i desenvolupament dels detectors. El 
 doctorat va ser un projecte de col?laboraci? entre Su?cia i Fran?a en el 
 qual estudi les propietats hidromec?niques de les roques fent ?s d'imatge
 s tomogr?fiques de neutrons. La candidata treball en campanyes experiment
 als\, aix? com en l'an?lisi de les imatges 3D reconstru?des. Actualment\,
  participa en l'aplicaci? de tecnologies de Ci?ncia de Dades en la Ind?st
 ria 4.0\, com per exemple\, el control de processos i optimitzaci? de pl?
 stics o el manteniment predictiu per a la ind?stria del transport.</p><p>
 <strong>Llu?s Echeverria Rovira</strong>\,&nbsp\;Investigador de la unita
 t de Smart Management Systems (SMS) de Eurecat. ?s enginyer t?cnic Topogr
 ?fic per la UPC\, Graduat en Enginyeria Inform?tica\, especialitzat en Te
 cnologies de la Informaci?\, per la Universitat de Lleida (UdL) i M?ster 
 en Enginyeria Inform?tica\, especialitzat en BigData\, tamb? per la Unive
 rsitat de Lleida. Compta amb una llarga experi?ncia en l??mbit de la Ci?n
 cia de les dades tant en el desplegament i implementaci? d'arquitectures 
 h?brides BigData / Iot\, basades en tecnologies de refer?ncia per al proc
 essat de dades massius en temps real\, com en l'an?lisi i estudi mateix d
 e les dades mitjan?ant diferents t?cniques de mineria de dades i Intel?li
 g?ncia Artificial (aprenentatge autom?tic). Com a investigador est? invol
 ucrat en projectes de R + D\, tant a nivell europeu com nacional o privat
 \, relacionats amb temes d'anal?tica de dades\, Intel?lig?ncia Artificial
 \, IoT i BigData aplicats en els dominis de la Ind?stria 4.0 o la gesti? 
 eficient i intel?ligent de recursos\, principalment de l?aigua. Actualmen
 t est? desenvolupant una tesi doctoral sobre control ?ptim i aut?nom de p
 rocessos industrials mitjan?ant t?cniques d?aprenentatge per refor? (IA).
 </p><p><strong>Albert Merino</strong>\,&nbsp\;Investigador de la unitat d
 e Smart Management Systems (SMS) d?Eurecat. ?s Graduat en Enginyeria Info
 rm?tica\, menci? en Tecnologies de la informaci?\, per la Universitat de 
 Lleida (UdL)\, M?ster en Enginyeria Inform?tica\, especialitzat en Videoj
 ocs\, per la Universitat de Lleida (UdL)\, i actualment cursant M?ster en
  Ci?ncia de dades\, per la Universitat Oberta de Catalunya (UOC). Ha treb
 allat com a desenvolupador per a tota mena de solucions tecnol?giques amb
  diferents llenguatges de programaci? i format part del Grup de Recerca e
 n Interacci? Persona-Ordinador i Integraci? de Dades (Griho)\, de la UdL\
 , en el projecte bioinform?tic Scalextric inMind. Actualment col?laborant
  amb la C?tedra Desenvolupament d'Organitzacions i Territoris Saludables 
 (C?tedra DOTS) de la UdL. Com a investigador est? centrat en els ?mbits d
 e la Ci?ncia de les dades\, l?Aprenentatge autom?tic i IoT aplicats en el
  domini de la Ind?stria 4.0.</p><p><strong>Marc Ribalta\, </strong>Invest
 igador de la unitat de Smart Management Systems (SMS) d'Eurecat. ?s Engin
 yer Inform?tic\, especialitzat en Enginyeria del Software\, per la Univer
 sitat de Lleida (UdL) i ha cursat el M?ster en Enginyeria Inform?tica\, e
 specialitzat en Big Data\, tamb? per la Universitat de Lleida (UdL). Actu
 alment est? desenvolupant una tesi doctoral en detecci? d'anomalies i man
 teniment predictiu. Ha treballat com a cient?fic de dades per a tota mena
  de projectes tecnol?gics amb diferents solucions d'intel?lig?ncia artifi
 cial. En el passat\, va formar part del Grup de Recerca en Interacci? Per
 sona-Ordinador i Integraci? de Dades (Griho)\, de la Universitat de Lleid
 a\, treballant amb la integraci?\, optimitzaci? de consultes i visualitza
 ci? d'informaci? biol?gica. Actualment est? involucrat en projectes de de
 tecci? d'anomalies\, manteniment predictiu i sensors virtuals en els domi
 nis de la gesti? de l'aigua\, agricultura i automoci?.</p><p><strong>Juan
  Caubet</strong>\,&nbsp\;&nbsp\;Director de la unitat de seguretat de les
  IT d'Eurecat. Enginyer de telecomunicacions i doctor en seguretat inform
 ?tica per la UPC. Va completar la seva tesi doctoral en el grup de segure
 tat de la informaci? (ISG) de la UPC sobre gesti? d'identitats en xarxes 
 de peer-to-peer estructurades. El 2013 va fer una estada al centre d'inve
 stigaci? INRIA Nancy ? Grand Est (Fran?a) on va tenir l'oportunitat de fe
 r grans aven?os en la seva tesi. Del 2014 al 2017 va ser professor del M?
 ster de ciberseguretat de la Universitat la Salle (Universitat Ram?n Llul
 l). I des de fa m?s de 4 anys\, lidera la recerca d'Eurecat en el camp de
  la tecnologia Blockchain. Avui en dia\, la seva recerca est? orientada a
  la gesti? de la identitat digital (autenticaci? i autoritzaci?)\, cibers
 eguretat industrial\, criptografia i tecnologia Blockchain. Juan ha publi
 cat m?s d'una dotzena d'articles cient?fics relacionats amb la seva recer
 ca\, escriu freq?entment articles de divulgaci? a la premsa i actua com a
  ponent convidat en nombroses confer?ncies i confer?ncies.&nbsp\;</p><p><
 strong>Sergi Baiges\,</strong>&nbsp\;Enginyer Mec?nic per la URV\, amb un
  M?ster en Rob?tica. Especialitzat en tecnologies d'impressi? 3D i en la 
 rob?tica industrial i col?laborativa\, amb 5 anys d'experi?ncia en l'?mbi
 t desenvolupant tasques de programaci?\, aix? com de disseny de cel?les r
 obotitzades i automatitzacions. Actualment\, seguint la mateixa l?nea de 
 treball\, fundador de Global Robot Solutions\, oferint solucions de&nbsp\
 ; millora en la ind?stria 4.0 a nivell d'automatitzacions\, acompanyant a
  les empreses en aquests processos i paral?lelament impartint formacions 
 espec?fiques.</p><p><strong>Miquel Rovira</strong>\,&nbsp\;Sustainability
  Director. Enginyer qu?mic per la Universitat de Barcelona i doctor en Qu
 ?mica per la Universitat Polit?cnica de Catalunya.&nbsp\;Des de fa m?s de
  15 anys\, dirigeix projectes de sostenibilitat\, primer a CTM com manage
 r de l'?rea de Medi Ambient\, i despr?s com a director de l'?rea de Soste
 nibilitat d?Eurecat en la seva fusi? amb CTM.</p></td></tr><tr>\n		<td st
 yle="width:100px\; text-align: left\;"><strong>?Objectius:</strong></td>\
 n		<td style="text-align: left\;"><p>Aquest postgrau proporcionar? els co
 neixements necessaris per deixar de ser reactius i poder fer prevenci? de
  l'equipament de la f?brica. Construir una infraestructura que permeti tr
 actar tota la informaci? que hi ha a la f?brica o dins de l?entorn concre
 t. Analitzar la informaci? i poder prendre decisions que facin que no sol
 s sigui m?s f?cil realitzar el manteniment sin? que permetin millorar pro
 cessos i en conseq??ncia millorar la productivitat i l'efici?ncia energ?t
 ica de la f?brica. Que els professionals que assisteixin al postgrau sigu
 in capa?os de dissenyar un sistema que permeti realitzar un manteniment p
 redictiu en una ind?stria aprenent l??s del big data anal?tics.</p><p><sp
 an style="background-color: transparent\;">Els objectius del Postgrau\, s
 ?n els seg?ents:&nbsp\;</span></p><ul><li><span style="background-color: 
 transparent\;">Construir una infraestructura que serveixi per utilitzar l
 a informaci? proporcionada pels sensors i altres instruments i per aporta
 r un valor qualitatiu al conjunt del sistema productiu.</span></li><li><s
 pan style="background-color: transparent\;">Aprendre a observar el compor
 tament de les m?quines\, el tipus de producci?\, els processos on hi ha i
 nvolucrats tant persones com m?quines...\, a fi i efecte que els permeti 
 proposar canvis per millorar la productivitat de l'empresa.</span></li><l
 i><span style="background-color: transparent\;">Que tecnol?gicament parla
 nt\, siguin capa?os de mantenir al dia les diferents tecnologies de l'emp
 resa perqu? l'entorn de producci? no es quedi obsolet.</span></li><li><sp
 an style="background-color: transparent\;">Adquirir coneixements suficien
 ts per realitzar la gesti? eficient de l?energia en tots els seus ?mbits 
 i per aprofitar les possibilitats de les energies renovables\, aix? com d
 e l?Smart Energy.&nbsp\;</span></li></ul><p><span style="background-color
 : transparent\;">Amb l'objectiu de facilitar el seguiment del curs dels a
 lumnes residents fora de la prov?ncia de Barcelona i comarques\, aquest c
 urs ser? em?s mitjan?ant videoconfer?ncia\, permetent la retransmissi? en
  directe del curs a trav?s d'internet. Qualsevol usuari amb connexi? a In
 ternet\, podr? realitzar-ne el seguiment en directe\, des del lloc on des
 itgi. Aquesta tecnologia ?s compatible amb ordinadors\, tauletes\, m?bils
 \, etc. El seguiment per videoconfer?ncia permetr?:-Escoltar i veure en d
 irecte al professor-Participar en directe a la resoluci? dels exercicis-P
 reguntar directament els dubtes al professor-Escoltar les consultes dels 
 altres assistents-Seguir les anotacions del professor a la pissarra&nbsp\
 ;Es realitzar? l'enregistrament ?ntegre de totes les sessions per a poste
 rior visionat i/o consulta.&nbsp\;</span></p></td>\n	</tr>\n	\n	\n\n<tr><
 td style="width:100px\; text-align: left\;">&nbsp\;</td><td style="text-a
 lign: left\;">&nbsp\;</td></tr></tbody></table>
DTEND;TZID=Europe/Madrid:20201002T200000
DTSTAMP:20260421T163939Z
DTSTART;TZID=Europe/Madrid:20201002T160000
LOCATION:https://www.enginyerstarragona.cat/agenda/details/1575/1575-postg
 rau-en-gestio-de-la-industria-40-producc
SEQUENCE:0
SUMMARY:POSTGRAU EN GESTI? DE LA IND?STRIA 4.0: PRODUCCI? I MANTENIMENT. A
 PLICACIONS CLAU PER A LA MILLORA DE LA COMPETITIVITAT\, PRODUCTIVITAT I M
 ANTENIBILITAT
UID:ET_Activitat_1575
URL:https://www.enginyerstarragona.cathttps://www.enginyerstarragona.cat/a
 genda/details/1575/1575-postgrau-en-gestio-de-la-industria-40-producc
END:VEVENT
END:VCALENDAR
