BEGIN:VCALENDAR
PRODID:-//github.com/rianjs/ical.net//NONSGML ical.net 2.2//EN
VERSION:2.0
BEGIN:VEVENT
CATEGORIES:Activitats
CREATED;TZID=Europe/Madrid:20260419T174056
DESCRIPTION:<table class="table">\n	<tbody>\n	<tr>\n		<td style="width:100
 px\; text-align: left\;"><strong>Dates:</strong></td>\n		<td style="text-
 align: left\;">17 de juny (dimecres)</td>\n	</tr>\n	<tr>\n		<td style="wi
 dth:100px\; text-align: left\;"><strong>Horari:</strong></td>\n		<td styl
 e="text-align: left\;">A les 10.00 fins les 11.30h</td>\n	</tr>\n	\n	<tr>
 \n		<td style="width:100px\; text-align: left\;"><strong>Durada:</strong>
 </td>\n		<td style="text-align: left\;">1 .30 hores&nbsp\; aproximadament
 </td>\n	</tr>\n	<tr>\n		<td style="width:100px\; text-align: left\;"><str
 ong>Programaci?:</strong></td>\n		<td style="text-align: left\;"><ol><li>
 CANVIS NOU CTE</li><li>ESBORRANY NOU RITE</li><li>SISTEMES DE PRODUCCI? D
 'ACS</li><li>NOVES TECNOLOGIES</li></ol></td>\n	</tr>\n	\n	\n	<tr>\n		<td
  style="width:100px\; text-align: left\;"><strong>Objectius:</strong></td
 >\n		<td style="text-align: left\;">Donar a con?ixer els canvis m?s impor
 tants en l'aplicaci? de les energies renovables per la producci? d'ACS</t
 d>\n	</tr>\n	<tr>\n		<td style="width:100px\; text-align: left\;"><strong
 >Ponent:</strong></td>\n		<td style="text-align: left\;"><p>JOAN SAMPEDRO
 . Format en Enginyeria T?cnica PRODUCT LEADER BAETULENN.</p><p>INSCRIPCI?
  GRATU?TA.</p></td>\n	</tr>\n	\n\n</tbody></table>
DTEND;TZID=Europe/Madrid:20200617T120000
DTSTAMP:20260419T154056Z
DTSTART;TZID=Europe/Madrid:20200617T100000
LOCATION:https://www.enginyerstarragona.cat/agenda/details/1546/1546-webin
 ar-cetit-energies-renovables-aplicacio-c
SEQUENCE:0
SUMMARY:[WEBINAR CETIT] ENERGIES RENOVABLES APLICACI? CTE 2019 I RITE 2020
UID:ET_Activitat_1546
URL:https://www.enginyerstarragona.cathttps://www.enginyerstarragona.cat/a
 genda/details/1546/1546-webinar-cetit-energies-renovables-aplicacio-c
END:VEVENT
END:VCALENDAR
