BEGIN:VCALENDAR
PRODID:-//github.com/rianjs/ical.net//NONSGML ical.net 2.2//EN
VERSION:2.0
BEGIN:VEVENT
CATEGORIES:Activitats
CREATED;TZID=Europe/Madrid:20260422T061029
DESCRIPTION:<table class="table">\n	<tbody>\n	<tr>\n		<td style="width:100
 px\; text-align: left\;"><strong>Dates:&nbsp\;</strong></td>\n		<td style
 ="text-align: left\;">8 de maig (divendres)</td>\n	</tr>\n	<tr>\n		<td st
 yle="width:100px\; text-align: left\;"><strong>Horari:</strong></td>\n		<
 td style="text-align: left\;">A les 16.00 h</td>\n	</tr>\n	\n	<tr>\n		<td
  style="width:100px\; text-align: left\;"><strong>Durada:</strong></td>\n
 		<td style="text-align: left\;">1 hora</td>\n	</tr>\n	<tr>\n		<td style=
 "width:100px\; text-align: left\;"><strong>Programaci?:</strong></td>\n		
 <td style="text-align: left\;"><p>- Introducci? i breu explicaci? de tote
 s les seccions</p><p>- Exemples de generaci? de fitxes t?cniques\, compar
 atives i seleccionis</p><p>- ?s i exemples del m?dul de projectes</p><p>-
  Eines avan?ades:&nbsp\;multi?selecci?</p><p>- Trucs&nbsp\;QUICKFAN<br></
 p></td>\n	</tr>\n	\n	\n	\n	\n	\n\n<tr><td style="width:100px\; text-align
 : left\;"><strong>&nbsp\;Ponent:</strong></td><td style="text-align: left
 \;">&nbsp\;Aitor Morag?n\, SODECA</td></tr></tbody></table>
DTEND;TZID=Europe/Madrid:20200508T170000
DTSTAMP:20260422T041029Z
DTSTART;TZID=Europe/Madrid:20200508T160000
LOCATION:https://www.enginyerstarragona.cat/agenda/details/1535/1535-webin
 ar-sodeca-quickfan-de-les-funcions-basiq
SEQUENCE:0
SUMMARY:[WEBINAR SODECA] QUICKFAN DE LES FUNCIONS B?SIQUES A les M?S AVAN?
 ADES
UID:ET_Activitat_1535
URL:https://www.enginyerstarragona.cathttps://www.enginyerstarragona.cat/a
 genda/details/1535/1535-webinar-sodeca-quickfan-de-les-funcions-basiq
END:VEVENT
END:VCALENDAR
