BEGIN:VCALENDAR
PRODID:-//github.com/rianjs/ical.net//NONSGML ical.net 2.2//EN
VERSION:2.0
BEGIN:VEVENT
CATEGORIES:Activitats
CREATED;TZID=Europe/Madrid:20260420T091407
DESCRIPTION:<table class="table">\n	<tbody>\n	<tr>\n		<td style="width:100
 px\; text-align: left\;"><strong>Dates:</strong></td>\n		<td style="text-
 align: left\;">20 d'abril (dilluns)&nbsp\;</td>\n	</tr>\n	<tr>\n		<td sty
 le="width:100px\; text-align: left\;"><strong>Horari:</strong></td>\n		<t
 d style="text-align: left\;">A les 11.00 h</td>\n	</tr>\n	\n	<tr>\n		<td 
 style="width:100px\; text-align: left\;"><strong>Durada:</strong></td>\n	
 	<td style="text-align: left\;">1 hora</td>\n	</tr>\n	<tr>\n		<td style="
 width:100px\; text-align: left\;"><strong>Programaci?:</strong></td>\n		<
 td style="text-align: left\;"><ul><li>Qu? ?s l?aerotermia?&nbsp\;<span st
 yle="background-color: transparent\;">Origen i aplicacions.</span></li><l
 i>Evoluci? del mercat de l?aerotermia.&nbsp\;<span style="background-colo
 r: transparent\;">Per qu? ara?</span></li><li><span style="background-col
 or: transparent\;">Climatitzaci? d?edificis i producci? d?ACS. Entorn leg
 al\, CTE2019 i objectius europeus.</span></li><li><span style="background
 -color: transparent\;">Conceptes nZEB i Passivhaus.</span></li><li><span 
 style="background-color: transparent\;">Funcionament de les bombes de cal
 or. </span></li><li><span style="background-color: transparent\;">Diferen
 ts formats de bombes de calor. Gamma Aquarea.</span></li><li><span style=
 "background-color: transparent\;">Avantatges de l?aerotermia Panasonic.</
 span></li><li><span style="background-color: transparent\;">Adaptaci? de 
 l?aerotermia Aquarea a Passivhaus.</span></li><li><span style="background
 -color: transparent\;">Exemples de solucions segons necessitats del proje
 cte.&nbsp\;</span><span style="background-color: transparent\;">Instal?la
 cions de refer?ncia.</span></li><li><span style="background-color: transp
 arent\;">Conclusions.</span></li></ul></td>\n	</tr>\n	\n	\n	\n	\n	<tr>\n	
 	<td style="width:100px\; text-align: left\;"><strong>Tota la informaci?:
 </strong></td>\n		<td style="text-align: left\;"><a href="https://www.eng
 inyersbcn.cat/serveis-colegiats/formacio/cursos-activitats/2928/aerotermi
 a-nou-cte-2019-nzeb-i-passivhaus-aerotermia-nuevo-cte-2019-nzeb-y-passivh
 aus">Enginyers Barcelona</a></td>\n	</tr>\n\n<tr><td style="width:100px\;
  text-align: left\;">&nbsp\;</td><td style="text-align: left\;">&nbsp\;</
 td></tr></tbody></table>
DTEND;TZID=Europe/Madrid:20200420T120000
DTSTAMP:20260420T071407Z
DTSTART;TZID=Europe/Madrid:20200420T110000
LOCATION:https://www.enginyerstarragona.cat/agenda/details/1512/1512-webin
 ar-enginyers-barcelona-aerotermia-nou-ct
SEQUENCE:0
SUMMARY:[Webinar Enginyers Barcelona] Aerotermia\, nou CTE 2019\, nZEB i P
 assivhaus
UID:ET_Activitat_1512
URL:https://www.enginyerstarragona.cathttps://www.enginyerstarragona.cat/a
 genda/details/1512/1512-webinar-enginyers-barcelona-aerotermia-nou-ct
END:VEVENT
END:VCALENDAR
