BEGIN:VCALENDAR
PRODID:-//github.com/rianjs/ical.net//NONSGML ical.net 2.2//EN
VERSION:2.0
BEGIN:VEVENT
CATEGORIES:Activitats
CREATED;TZID=Europe/Madrid:20260422T205032
DESCRIPTION:<table class="table">\n        <tbody><tr>\n            <td st
 yle="width: 148px\;" valign="top" class="pivot">\n                Codi ci
 rcular:</td>\n            <td>48/18</td>\n        </tr>\n        <tr>\n  
           <td valign="top" class="pivot">\n                Dates:</td>\n 
            <td>26 de novembre (dilluns)&nbsp\; &nbsp\; &nbsp\; &nbsp\; &n
 bsp\; &nbsp\; &nbsp\; &nbsp\; &nbsp\;&nbsp\;</td>\n        </tr>\n       
  <tr>\n            <td valign="top" class="pivot">\n                Horar
 i:</td>\n            <td>De les 9 a les 18 hores (1 hora per dinar. El pr
 eu inclou el dinar)&nbsp\; &nbsp\; &nbsp\; &nbsp\; &nbsp\; &nbsp\; &nbsp\
 ; &nbsp\; &nbsp\;&nbsp\;</td>\n        </tr>\n    <tr>\n        <td valig
 n="top" class="pivot">\n            Lloc:\n        </td>\n        <td>Seu
  del CETIT\, Av. de Roma\, 7 de Tarragona.  \n        </td>\n    </tr>\n 
        <tr>\n            <td valign="top" class="pivot">\n               
  Assistents m?nim/m?xim:</td>\n            <td>6/25</td>\n        </tr>\n
         <tr>\n            <td valign="top" class="pivot">\n              
   Durada:</td>\n            <td>8 hores&nbsp\; &nbsp\; &nbsp\; &nbsp\; &n
 bsp\; &nbsp\; &nbsp\; &nbsp\; &nbsp\;&nbsp\;</td>\n        </tr>\n       
  <tr>\n            <td valign="top" class="pivot">\n                Profe
 ssorat:</td>\n            <td>Ricard Nogu?s Parra. Enginyer Consultor d?O
 rganitzaci? i Formador.<br>Soci Director d?ORGANIZE Enginyers Consultors 
 d?Organitzaci?.&nbsp\;&nbsp\; &nbsp\; &nbsp\; &nbsp\; &nbsp\; &nbsp\; &nb
 sp\; &nbsp\; &nbsp\;&nbsp\;</td>\n        </tr>\n        <tr>\n          
   <td valign="top" class="pivot">\n                Objectius:</td>\n     
        <td>La participaci? en aquest curs li permetr? capacitar-se com a 
 Enginyer de Producci? i disposar dels<br>coneixements necessaris per dese
 nvolupar amb ?xit la gesti? de la direcci? de la producci? del conjunt de
 <br>productes\, serveis o obres de qualsevol empresa\, des d'un punt de v
 ista d'an?lisi de costos\, per tal<br>d'aconseguir els compromisos empres
 arials previstos\, juntament amb l'equip hum? t?cnic al seu c?rrec.<br>Ta
 mb? es desenvolupen els sistemes de gesti? per con?ixer en profunditat la
  rendibilitat\, la productivitat i<br>la comprabilitat dels productes\, s
 erveis\, projectes i obres\, per ser competitius davant el seu mercat<br>
 objectiu.<br>El curs es transmet des d'un enfocament pedag?gic\, de debat
  i de di?leg\, a trav?s de la teoria\, el<br>brainstorming i la resoluci?
  de dos casos.<br></td>\n        </tr>\n        <tr>\n            <td val
 ign="top" class="pivot">\n                Continguts:&nbsp\;</td>\n      
       <td><strong>PROGRAMA DEL CURS.</strong><br><br><strong>1. CONCEPTES
  D'EMPRESA</strong>.<br>1.1. DEFINICI?.<br>1.2. ORGANIGRAMA GENERAL.<br>1
 .3. LES ?REES DE L'EMPRESA.<br>1.4. L'?REA DE PRODUCCI?.<br>1.5. ORGANIGR
 AMA INTERN.<br><br><strong>2. L'ENGINYER DE PRODUCCI?.</strong><br>2.1. P
 ERFIL PROFESSIONAL.<br>2.2. FUNCIONS PR?PIES DEL LLOC DE TREBALL.<br><br>
 <strong>3. GESTI? B?SICA DE LA PRODUCCI?.</strong><br>3.1. MODELS DE GEST
 I?.<br>3.2. CONCEPTES B?SICS.<br>3.3. PLANIFICACI? DE LA PRODUCCI?.<br>3.
 4. CONTROL DE LA PRODUCCI?.<br>3.5. EVOLUCI? DE L'ACTIVITAT.<br><br><stro
 ng>4. GESTI? ANAL?TICA DE LA PRODUCCI?.</strong><br>4.1. LA PRODUCTIVITAT
 .<br>4.2. LA COMPTABILITAT GENERAL.<br>4.3. LA COMPTABILITAT ANAL?TICA.<b
 r>&nbsp\; &nbsp\; &nbsp\; 4.3.1. MODEL ANAL?TIC.<br>&nbsp\; &nbsp\; &nbsp
 \; 4.3.2. DESENVOLUPAMENT DELS CONCEPTES.<br>&nbsp\; &nbsp\; &nbsp\; 4.3.
 3. R?TIOS DE LA GESTI? DE LA PRODUCCI?.<br>&nbsp\; &nbsp\; &nbsp\; 4.3.4.
  EL QUADRE DE COMANDAMENT.<br>4.4. COMPROMISOS DE LA DIRECCI? DE PRODUCCI
 ?.<br><br><strong>5. NORMATIVA GENERAL.</strong><br>5.1. NORMATIVA T?CNIC
 A.<br>5.2. NORMATIVA DE PREVENCI? DE RISCOS LABORALS.<br>5.3. NORMATIVA D
 E QUALITAT I MEDI AMBIENT.<br><br><strong>6. HABILITATS DIRECTIVES.</stro
 ng><br>6.1. DEFINICI?.<br>6.2. EL LIDERATGE.<br>6.3. LA COMUNICACI?.<br>6
 .4. LA NEGOCIACI?.<br><br><strong>7. AN?LISI I RESOLUCI? DE CASOS. RESUM 
 I CONCLUSIONS&nbsp\;</strong> &nbsp\; &nbsp\; &nbsp\; &nbsp\; &nbsp\; &nb
 sp\; &nbsp\; &nbsp\;&nbsp\;</td>\n        </tr>\n        <tr>\n          
   <td valign="top" class="pivot">\n                Destinataris:</td>\n  
           <td>Els assistents seran aquells enginyers o t?cnics en general
 \, a m?s d'arquitectes\, arquitectes t?cnics\, etc.<br>que tenen una nece
 ssitat de capacitar-se professionalment com a Enginyers de Producci?\, pe
 r tal d'adquirir<br>un coneixement especialitzat en l'?mbit de la gesti? 
 anal?tica de la producci?: productes\, serveis\, projectes<br>i obres\, e
 specialment aquells que exerceixen la seva professi? com t?cnics i volen 
 aprofundir en el<br>coneixement de la gesti? productiva.<br>El curs ?s mo
 lt adequat tamb? per a aquells t?cnics que tinguin funcions de responsabi
 litat intermitja:<br>Caps t?cnics\, Caps d'Obra\, Caps de Qualitat\, etc.
  que vulguin promocionar-se i adquirir coneixements de<br>gesti? producti
 va. Tamb? per aquells que formen part de l'empresa (t?cnics i no t?cnics)
  i vulguin ampliar<br>els seus coneixements en mat?ria de gesti? anal?tic
 a com a millor instrument per controlar la seva<br>empresa o divisi?\, de
 s d'un punt de vista de productivitat\, comprabilitat\, competitivitat i 
 rendibilitat.&nbsp\; &nbsp\; &nbsp\; &nbsp\; &nbsp\; &nbsp\; &nbsp\; &nbs
 p\; &nbsp\;&nbsp\;</td>\n        </tr>\n         <tr>\n            <td va
 lign="top" class="pivot">\n                Documentaci?:</td>\n          
   <td>Es lliurar? la documentaci? de seguiment en format digital\, per co
 rreu electr?nic\, uns dies abans de l'inici del curs.<br></td>\n        <
 /tr>\n         <tr><td valign="top" class="pivot">Bonificacions:&nbsp\;</
 td><td>&nbsp\;<br>Gestionem els tr?mits per tal que puguis beneficiar-te 
 de la bonificaci? corresponent per formaci?.<br></td></tr><tr>\n         
    <td valign="top" class="pivot">\n                Instruccions per boni
 ficar</td>\n            <td>\n            <ol>\n               <li>Sol?li
 cita els impresos al CETIT a formacio@enginyerstarragona.cat</li>\n      
           <li>Aporta tota la informaci? 10 dies naturals abans de l'inici
  del curs.</li>\n                <li><strong>NOTA IMPORTANT</strong>: a p
 artir de gener de 2017 les gestions de les bonificacions es porten a term
 e per mitj? d'una assessoria externa. Aquells que vulguin acollir-se a la
  bonificaci? de qualsevol acci? formativa\, el preu s'incrementar? en un 
  10-20 % ( que tamb? es podr? bonificar i recuperar).</li>\n            <
 /ol>\n                </td>\n        </tr>\n        \n         <tr>\n    
         <td valign="top" class="pivot">\n                Forma de pagamen
 t:</td>\n            <td>Cobrament a trav?s del seu n?mero de compte\, qu
 e haur? de facilitar a l?hora de \n                fer la inscripci?.</td
 >\n        </tr>\n         <tr>\n            <td valign="top" class="pivo
 t">\n                Certificaci?:</td>\n            <td>Es lliurar? un c
 ertificat d'acreditaci? i assist?ncia a la finalitzaci? de la \n         
        formaci?. Aquells que sol?licitin bonificar el cus a trav?s de la 
 Fundaci? \n                Tripartita para la Formaci?n en el Empleo\, ta
 mb? tindran un certificat em?s per \n                la FTFE.</td>\n     
    </tr>\n         <tr>\n            <td valign="top" class="pivot">\n   
              Acreditaci? Professional:</td>\n            <td>Aquesta form
 aci? ?s competent per acreditar davant del COGITI la teva formaci?. <br>M
 es informaci?: <a href="http://www.acreditacioncogitidpc.es" target="_bla
 nk">http://www.acreditacioncogitidpc.es</a></td>\n        </tr>\n        
 <tr><td valign="top" class="pivot">IMPORTANT:</td><td>La no assist?ncia a
  l'activitat no suposa la devoluci? de l'import . Per tal de poder fer el
  retorn de l' import\, cal comunicar la no assist?ncia 72 hores abans al 
 c/e informaci?@enginyerstarragona.cat&nbsp\;&nbsp\;</td></tr></tbody></ta
 ble>
DTEND;TZID=Europe/Madrid:20181126T180000
DTSTAMP:20260422T185032Z
DTSTART;TZID=Europe/Madrid:20181126T090000
LOCATION:https://www.enginyerstarragona.cat/agenda/details/1354/1354-curs-
 denginyer-de-produccio
SEQUENCE:0
SUMMARY:[Curs]  D'ENGINYER DE PRODUCCI?
UID:ET_Activitat_1354
URL:https://www.enginyerstarragona.cathttps://www.enginyerstarragona.cat/a
 genda/details/1354/1354-curs-denginyer-de-produccio
END:VEVENT
END:VCALENDAR
