BEGIN:VCALENDAR
PRODID:-//github.com/rianjs/ical.net//NONSGML ical.net 2.2//EN
VERSION:2.0
BEGIN:VEVENT
CATEGORIES:Activitats
CREATED;TZID=Europe/Madrid:20260425T185741
DESCRIPTION:<table class="agenda-tmpl" cellspacing="0" cellpadding="5">\n 
        <tbody><tr>\n            <td class="pivot" valign="top" style="wid
 th: 148px\;">\n                <span style="color: rgb(255\, 0\, 0)\;"></
 span>Codi circular:</td>\n            <td>&nbsp\; &nbsp\; &nbsp\; &nbsp\;
  &nbsp\; &nbsp\; &nbsp\; &nbsp\; &nbsp\; <br>44/16</td>\n        </tr>\n 
        <tr>\n            <td class="pivot" valign="top">\n               
  Dates:</td>\n            <td><del><br>1 i 8 d'octubre (dissabte)&nbsp\;<
 /del></td>\n        </tr>\n        <tr>\n            <td class="pivot" va
 lign="top">\n                Horari:</td>\n            <td>De les 9.00 a 
 les 14.30 hores&nbsp\;</td>\n        </tr>\n    <tr>\n        <td class="
 pivot" valign="top">\n            Lloc:\n        </td>\n        <td>Seu d
 el CETIT\, Av. de Roma\, 7 de Tarragona.<br>\n            Si el nombre de
  confirmacions d'assist?ncia de col?legiats a les Terres de l'Ebre\, ?s i
 gual o superior al m?nim estipulat a l'activitat\, el CETIT/ AETIGT organ
 itzar?\, en la mateixa modalitat\, l'acci? formativa a les instal?lacions
  de Tortosa.  \n        </td>\n    </tr>\n        <tr>\n            <td c
 lass="pivot" valign="top">\n                Assistents m?nim/m?xim:</td><
 td>10/25&nbsp\;</td>\n        </tr>\n        <tr>\n            <td class=
 "pivot" valign="top">\n                Durada:</td>\n            <td>11 h
 ores (9 teoria i 2 de projecte)&nbsp\;</td>\n        </tr>\n        <tr>\
 n            <td class="pivot" valign="top">\n                Professorat
 :</td>\n            <td>\n                <p><span style="color: rgb(153\
 , 153\, 153)\; font-size: 7pt\;"></span></p><p><span><br>Marc Sans Arment
 er. Enginyer Industrial\, M?ster en pol?tiques p?bliques de seguretat\, c
 ertificaci? t?cnica de nivell avan?at en prevenci? i seguretat en cas d'i
 ncendi per l?ISPC&nbsp\; i diplomat CFPA Europe per Ceprev?n. <br><br>Act
 ualment desenvolupant tasques de manteniment multi-t?cnic en edificis de 
 cossos operatius del Departament d?Interior de la Generalitat de Cataluny
 a des de l??rea de Planificaci? i Infraestructures. 7 anys i mig com a t?
 cnic del Servei de Prevenci? de Bombers de la Generalitat\, realitzant as
 sessorament t?cnic en mat?ria de seguretat en cas d?incendi i control pre
 ventiu sobre projectes d?acord amb el que estableix la Llei 3/2010. <br><
 br>Experi?ncia en formaci? en mat?ria de seguretat en cas d?incendi com a
  professor en el M?ster d?Incendis i Protecci? Civil de la UPC i d?altres
  cursos realitzats per entitats de reconegut prestigi.</span></p></td>\n 
        </tr>\n        <tr>\n            <td class="pivot" valign="top">\n
                 Objectius:</td>\n            <td><span><br>Introducci? al
  disseny i c?lcul de sistemes de ruixadors autom?tics d?aigua conforme a 
 la norma UNE-EN 12845 i d?abastament d?aigua segons la norma UNE 23500. E
 ls objectius s?n con?ixer les normes de disseny i c?lcul d?obligat compli
 ment per a la redacci? de projectes b?sics i executius en mat?ria de segu
 retat en cas d?incendi\, on s?hagin d?especificar els condicionants o dim
 ensionar els sistemes de ruixadors autom?tics d?aigua.</span>&nbsp\;</td>
 \n        </tr>\n        <tr>\n            <td class="pivot" valign="top"
 >\n                Continguts:</td>\n            <td>\n                <p
  style="text-align: justify\;"><b><span style="color: rgb(153\, 153\, 153
 )\; font-size: 7pt\;"></span></b></p><p><b><span><br><br>Abastament d?aig
 ua contra incendis<br></span></b>Conceptes d?hidr?ulica &nbsp\; &nbsp\; &
 nbsp\; &nbsp\; &nbsp\; &nbsp\; &nbsp\; &nbsp\; &nbsp\; &nbsp\; &nbsp\; &n
 bsp\; &nbsp\; &nbsp\; &nbsp\; &nbsp\; &nbsp\; &nbsp\; &nbsp\; &nbsp\; &nb
 sp\; &nbsp\; &nbsp\; &nbsp\; &nbsp\; &nbsp\; &nbsp\; &nbsp\; &nbsp\; &nbs
 p\; &nbsp\; &nbsp\; &nbsp\; &nbsp\; <br>Marc normatiu<br>Condicions gener
 als abastament<br>Components de l?abastament d?aigua<br>Classificaci?&nbs
 p\; de l?abastament<br>Proves en obra i assaigs de recepci?<br><br><b>Nor
 ma de disseny UNE-EN 12845<br></b>Exig?ncies norma UNE-EN 12845<br>Introd
 ucci? a la norma<br>Aplicaci? norma<br>C?lcul sistema de ruixadors</p><p>
 Exemple d?aplicaci? a resoldre a classe\, sistema precalculat segons UNE-
 EN 12845 de ruixadors autom?tics d?aigua&nbsp\;</p></td>\n        </tr>\n
         <tr>\n            <td class="pivot" valign="top">\n              
   Destinataris:</td>\n            <td>\n                <p><span>Enginyer
 s projectistes i personal t?cnic d?empreses instal?ladores i mantenidores
  d?instal?lacions de protecci? contra incendis.</span></p></td>\n        
 </tr>\n         <tr>\n            <td class="pivot" valign="top">\n      
           Documentaci?:</td>\n            <td>Es lliurar? documentaci? de
  seguiment.</td>\n        </tr>\n         <tr>\n            <td class="pi
 vot" valign="top">\n                Que ?s la FTFE?</td>\n            <td
 >La FUNDACI?N TRIPARTITA PARA LA FORMACI?N EN EL EMPLEO ?s l'?rgan que re
 gula\, \n                controla i administra el cr?dit anual que totes 
 les empreses disposen per formar \n                als seus treballadors.
  Amb aquest cr?dit les bonificacions es dedueixen a trav?s \n            
     dels pagaments a la Seguritat Social\, per mitj? dels TCs. Qui pot bo
 nificar? \n                Treballadors que cotitzin en el r?gim general.
 <br></td>\n        </tr>\n        <tr>\n            <td class="pivot" val
 ign="top">\n                Instruccions <br>per bonificar:</td>\n       
      <td>\n                <ol>\n                    <li>\n              
           Sol?licita els impresos al CETIT </li>\n                    <li
 >Aporta tota la informaci? 7 dies naturals abans de l'inici del curs.</li
 >\n                </ol>\n            </td>\n        </tr>\n         <tr>
 \n            <td class="pivot" valign="top">\n                Forma de p
 agament:</td>\n            <td>Cobrament a trav?s del seu n?mero de compt
 e\, que haur? de facilitar a l?hora de \n                fer la inscripci
 ?.</td>\n        </tr>\n         <tr>\n            <td class="pivot" vali
 gn="top">\n                Certificaci?:</td>\n            <td>Es lliurar
 ? un certificat d'acreditaci? i assist?ncia a la finalitzaci? de la \n   
              formaci?. Aquells que sol?licitin bonificar el cus a trav?s 
 de la Fundaci? \n                Tripartita para la Formaci?n en el Emple
 o\, tamb? tindran un certificat em?s per \n                la FTFE.</td>\
 n        </tr>\n         <tr>\n            <td class="pivot" valign="top"
 >\n                Acreditaci? Professional:</td>\n            <td>Aquest
 a formaci? ?s competent per acreditar davant del COGITI la teva formaci?.
  <br>Mes informaci?: <a href="http://www.acreditacioncogitidpc.es" target
 ="_blank">http://www.acreditacioncogitidpc.es</a></td>\n        </tr>\n  
       </tbody></table>
DTEND;TZID=Europe/Madrid:20161001T143000
DTSTAMP:20260425T165741Z
DTSTART;TZID=Europe/Madrid:20161001T090000
LOCATION:https://www.enginyerstarragona.cat/agenda/details/1215/1215-disse
 ny-i-calcul-de-sistemes-de-ruixadors-aut
SEQUENCE:0
SUMMARY:DISSENY I C?LCUL DE SISTEMES DE RUIXADORS AUTOM?TICS D?AIGUA I DEL
 S SISTEMES D?ABASTAMENT CONTRA INCENDIS
UID:ET_Activitat_1215
URL:https://www.enginyerstarragona.cathttps://www.enginyerstarragona.cat/a
 genda/details/1215/1215-disseny-i-calcul-de-sistemes-de-ruixadors-aut
END:VEVENT
END:VCALENDAR
