BEGIN:VCALENDAR
PRODID:-//github.com/rianjs/ical.net//NONSGML ical.net 2.2//EN
VERSION:2.0
BEGIN:VEVENT
CATEGORIES:Seguretat i salut
CREATED;TZID=Europe/Madrid:20260423T134308
DESCRIPTION:<table class="table">\n        <tbody><tr>\n            <td st
 yle="width: 148px\;" valign="top" class="pivot">\n                Codi ci
 rcular:</td>\n            <td>107/14&nbsp\;</td>\n        </tr>\n        
 <tr>\n            <td valign="top" class="pivot">\n                Dates:
 </td>\n            <td>Del 17 de novembre al 14 de desembre (4 setmanes)<
 /td>\n        </tr>\n        <tr>\n            <td valign="top" class="pi
 vot">\n                Horari:</td>\n            <td>on line</td>\n      
   </tr>\n    <tr>\n        <td valign="top" class="pivot">\n            L
 loc:\n        <br><br></td>\n        <td>PLATAFORMA on line ceformaci?</t
 d>\n    </tr>\n        \n        <tr>\n            <td valign="top" class
 ="pivot">\n                Durada:</td>\n            <td>75 hores</td>\n 
        </tr>\n        <tr>\n            <td valign="top" class="pivot">\n
                 Professorat:</td>\n            <td>\n                <p>J
 osep A. Viudez i Carricondo\, Enginyer T?cnic Industrial. Enginyer de pro
 jectes\, cap d?obres\, responsable de posada en marxa\, cap de mantenimen
 t i cap d?explotaci? (manteniment\, distribuci? i producci?) d?empresa di
 stribu?dora d?aigua\, a la prov?ncia de Tarragona.</p><p>Ha recollit en a
 quest curs tots els coneixements te?rics i pr?ctics que ha tingut que uti
 litzar en la seva vida professional\, eliminant tot all? innecessari.</p>
 </td>\n        </tr>\n        <tr>\n            <td valign="top" class="p
 ivot">\n                Objectius:</td>\n            <td><p class="">Arri
 bar  a dominar els sistemes neum?tics\, interpretant esquemes i coneixent
  els elements que intevenen  en automatismes de l'aire comprimit\, oelo h
 idr?ulics i de buit.</p> <p class=""><strong>L'alumne aprendr? a:</strong
 ></p> <ul style="list-style-type: disc\;"><li>Dissenyar i calcular les xa
 rxes d'aire comprimit.</li><li>El tractament d'aire comprimit per utilitz
 ar-lo correctament com a energia pels automatismes pneum?tics.</li><li>El
 s ?rgans motrius (cilindres i motors).</li><li>Els distribuidors (v?lvule
 s) i elements auxiliars.</li><li>Seq??ncies i circuits d'automatismes ole
 o hidr?ulics i de buit.</li><li>Disseny d'automatismes neum?tics independ
 ents i integrats amb automatismes oleo hidr?ulics i de  buit.</li><li>Int
 erpretar esquemes pneum?tics\, hidr?ulics i de buit aplicant la simbologi
 a segons norma CETOP. &nbsp\; &nbsp\; &nbsp\; &nbsp\; &nbsp\; &nbsp\; &nb
 sp\; &nbsp\;&nbsp\;</li></ul></td>\n        </tr>\n        <tr>\n        
     <td valign="top" class="pivot">\n                Continguts:</td>\n  
           <td>Vegeu enlla?os d'inter?s&nbsp\;</td>\n        </tr>\n      
   <tr>\n            <td valign="top" class="pivot">\n                Dest
 inataris:</td>\n            <td>Enginyers t?cnics industrials. Particular
 ment a t?cnics d'enginyeria del muntatge i posada en marxa d'instal?lacio
 ns de manteniment i explotaci? de maquin?ria amb automatismes penum?ticss
 \, oleo hidr?ulics i de buit.&nbsp\;</td>\n        </tr>\n         <tr>\n
             <td valign="top" class="pivot">\n                Documentaci?
 :</td>\n            <td>Disponible a la plataforma</td>\n        </tr>\n 
         <tr>\n            <td valign="top" class="pivot">\n              
   Que ?s la FTFE?</td>\n            <td>La FUNDACI?N TRIPARTITA PARA LA F
 ORMACI?N EN EL EMPLEO ?s l'?rgan que regula\, \n                controla 
 i administra el cr?dit anual que totes les empreses disposen per formar \
 n                als seus treballadors. Amb aquest cr?dit les bonificacio
 ns es dedueixen a trav?s \n                dels pagaments a la Seguritat 
 Social\, per mitj? dels TCs. Qui pot bonificar? \n                Treball
 adors que cotitzin en el r?gim general.<br></td>\n        </tr>\n        
 <tr>\n            <td valign="top" class="pivot">\n                Instru
 ccions per bonificar:</td>\n            <td>\n                <p>\n      
                   </p><ol><p>&nbsp\;</p><p>\n                    1. A l'h
 ora de fer la inscripci? marca la casella FTFE.&nbsp\;<br>2. El CETIT t'a
 djunta els impresos que haur?s de complimentar<br>3. Aporta tota la infor
 maci?&nbsp\;<strong><span style="color: rgb(255\, 0\, 0)\;">7 dies natura
 ls abans de l'inici del curs.</span></strong></p>\n                </ol>\
 n            </td>\n        </tr>\n         <tr>\n            <td valign=
 "top" class="pivot">\n                Forma de pagament:</td>\n          
   <td>Cobrament a trav?s del seu n?mero de compte\, que haur? de facilita
 r a l?hora de \n                fer la inscripci?.</td>\n        </tr>\n 
         <tr>\n            <td valign="top" class="pivot">\n              
   Certificaci?:</td>\n            <td>Es lliurar? un certificat d'acredit
 aci? i assist?ncia a la finalitzaci? de la \n                formaci?. Aq
 uells que sol?licitin bonificar el cus a trav?s de la Fundaci? \n        
         Tripartita para la Formaci?n en el Empleo\, tamb? tindran un cert
 ificat em?s per \n                la FTFE.</td>\n        </tr>\n         
 <tr>\n            <td valign="top" class="pivot">\n                Acredi
 taci? Professional:</td>\n            <td>Aquesta formaci? ?s competent p
 er acreditar davant del COGITI la teva formaci?. <br>Mes informaci?: <a h
 ref="http://www.acreditacioncogitidpc.es" target="_blank">http://www.acre
 ditacioncogitidpc.es</a></td>\n        </tr>\n        </tbody></table>
DTEND;TZID=Europe/Madrid:20141117T230000
DTSTAMP:20260423T114308Z
DTSTART;TZID=Europe/Madrid;VALUE=DATE:20141117
LOCATION:https://www.enginyerstarragona.cat/agenda/details/1103/1103-curs-
 on-line-sobre-automatismes-pneumatics-ol
SEQUENCE:0
SUMMARY:Curs ON LINE sobre AUTOMATISMES PNEUM?TICS\, OLEO HIDR?ULIC I DE V
 UIT
UID:ET_Activitat_1103
URL:https://www.enginyerstarragona.cathttps://www.enginyerstarragona.cat/a
 genda/details/1103/1103-curs-on-line-sobre-automatismes-pneumatics-ol
END:VEVENT
END:VCALENDAR
