BEGIN:VCALENDAR
PRODID:-//github.com/rianjs/ical.net//NONSGML ical.net 2.2//EN
VERSION:2.0
BEGIN:VEVENT
CATEGORIES:Activitats
CREATED;TZID=Europe/Madrid:20260423T115227
DESCRIPTION:<p style="margin-bottom: 0cm\; text-align: justify\;"><span st
 yle="font-size: 12px\; color: #333333\;">La\nDirectiva Europea 2010/31/CE
  obliga a expedir un certificat\nd'efici&egrave\;ncia energ&egrave\;tica 
 pels edificis o unitats d'aquests\, que es\nconstrueixin\, venguin o llog
 uin. Actualment aquesta Directiva est&agrave\;\nen proc&eacute\;s de tran
 sposici&oacute\; mitjan&ccedil\;ant un Real Decret que regular&agrave\;\n
 la certificaci&oacute\; energ&egrave\;tica d'edificis existents\, als que
  se'ls\nassignar&agrave\; una classe energ&egrave\;tica d'efici&egrave\;n
 cia\, des de la A\, a la G\nEl Ministeri d'Ind&uacute\;stria\, Energia i 
 Turisme i el de Foment\, com a\nresponsables d'aquesta transposici&oacute
 \;\, han encomanat a d'Institut per\na la Diversificaci&oacute\; i Estalv
 i de l'Energia (IDAE)\, posar a\ndisposici&oacute\; del p&uacute\;blic pr
 ogrames inform&agrave\;tics que qualificaci&oacute\;\nd'efici&egrave\;nci
 a energ&egrave\;tica per a edificis existents.</span></p>\n<p style="marg
 in-bottom: 0cm\; text-align: justify\;"><span style="font-size: 12px\;"><
 br />\n</span></p>\n<p style="margin-bottom: 0cm\; text-align: justify\;"
 ><span style="font-size: 12px\; color: #333333\;">L'IDAE\nest&agrave\; de
 senvolupant un Pla de Formaci&oacute\; en certificaci&oacute\; energ&egra
 ve\;tica\nd'edificis existents\, que s'est&agrave\; portant a terme mitja
 n&ccedil\;ant\nconvenis de col&middot\;laboraci&oacute\;\, i que en una p
 rimera fase compr&egrave\;n la\nrealitzaci&oacute\; de cursos dirigits al
 s t&egrave\;cnics certificadors\, per\nensenyar l'&uacute\;s i aplicaci&o
 acute\; dels programes inform&agrave\;tics CE3 i CE3X.\n</span></p>\n<p s
 tyle="margin-bottom: 0cm\; text-align: justify\;"><span style="font-size:
  12px\;"><br />\n</span></p>\n<p style="margin-bottom: 0cm\; text-align: 
 justify\;"><span style="font-size: 12px\; color: #333333\;">Els\ncursos e
 stan organitzats en col&middot\;laboraci&oacute\; amb les ag&egrave\;ncie
 s\nRegionals de l'Energia i Consells d'Organitzacions Professionals\,\nen
 tre els que es troba el "Consejo General de la Ingenier&iacute\;a\nT&eacu
 te\;cnica Industrial".</span></p>\n<p style="margin-bottom: 0cm\; text-al
 ign: justify\;"><span style="font-size: 12px\;"><br />\n</span></p>\n<p s
 tyle="margin-bottom: 0cm\; text-align: justify\;"><span style="font-size:
  12px\;"><a name="OLE_LINK3"></a><a name="OLE_LINK4"></a>\n<span style="f
 ont-size: 12px\; color: #333333\;">Aquest\ncurs\, que tindr&agrave\; inic
 i el proper mes d'abril i est&agrave\; enfocat amb\nl</span><span style="
 font-size: 12px\; color: #333333\;"><strong>'objectiu</strong></span><spa
 n style="font-size: 12px\; color: #333333\;">\nde donar a con&egrave\;ixe
 r a trav&eacute\;s de casos pr&agrave\;ctics la sistem&agrave\;tica\nd'op
 eraci&oacute\; dels programes t&egrave\;cnics CE3X.<br />\n<br />\n</span
 ></span></p>\n<p style="margin-bottom: 0cm\; text-align: justify\;"><span
  style="font-size: 12px\;"><span style="font-size: 12px\; color: #333333\
 ;"><strong>DIRIGIT\nA: </strong></span><span style="font-size: 12px\; col
 or: #333333\;">tot\naquell que vulgui realitzar certificacions energ&egra
 ve\;tiques d'edificis.</span></span></p>\n<p>\n</p>\n<p style="margin-bot
 tom: 0cm\; text-align: justify\;"><span style="font-size: 12px\;"><span s
 tyle="font-size: 12px\; color: #333333\;"><strong>PROGRAMA\nDEL CURS (12h
 ): </strong></span><span style="font-size: 12px\; color: #333333\;">s'adj
 unta.</span></span></p>\n<p style="margin-bottom: 0cm\; text-align: justi
 fy\;"><span style="font-size: 12px\;"><span style="font-size: 12px\; colo
 r: #333333\;"><strong>PROFESSORAT:</strong></span><span style="font-size:
  12px\; color: #333333\;">\nXavier Socias Julbe\, Secretari T&egrave\;cni
 c del CETIT. T&egrave\;cnic acreditat\nper IDAE.</span></span></p>\n<p>\n
 </p>\n<p style="margin-bottom: 0cm\; text-align: justify\;"><span style="
 font-size: 12px\;"><br />\n</span></p>\n<p>\n</p>\n<p style="margin-botto
 m: 0cm\; text-align: justify\;"><span style="font-size: 12px\;"><span sty
 le="font-size: 12px\; color: #333333\;"><strong>PREU:\n</strong></span><s
 pan style="font-size: 12px\; color: #333333\;">100\n&euro\;</span></span>
 </p>\n<p>\n</p>\n<p style="margin-bottom: 0cm\; text-align: justify\;"><s
 pan style="font-size: 12px\;"><span style="font-size: 12px\; color: #3333
 33\;"><strong><span style="background-color: #d9d9d9\;">COL&middot\;LEGIA
 TS\n/ ASSOCIATS:</span></strong></span><span style="font-size: 12px\; bac
 kground-color: #d9d9d9\; color: #333333\;">\n70 &euro\;</span></span></p>
 \n<p>\n</p>\n<p style="margin-bottom: 0cm\; background-color: #d9d9d9\; t
 ext-align: justify\;"><span style="font-size: 12px\;"><span style="font-s
 ize: 12px\; color: #333333\;"><strong>BONIFICACI&Oacute\;\nA TRAV&Eacute\
 ;S DE LA FTFE:</strong></span><span style="font-size: 12px\; color: #3333
 33\;">\n100 % </span>\n</span></p>\n<p>\n</p>\n<p style="margin-bottom: 0
 cm\; text-align: justify\;"><span style="font-size: 12px\;"><br />\n</spa
 n></p>\n<p>\n</p>\n<p style="margin-bottom: 0cm\; text-align: justify\;">
 <span style="font-size: 12px\;"><a name="OLE_LINK1"></a><a name="OLE_LINK
 2"></a>\n<span style="font-size: 12px\; color: #333333\;"><strong>CALENDA
 RI:</strong></span><span style="font-size: 12px\; color: #333333\;">\n23 
 i  24 d'octubre\, de les 09.00 a les 15.00 hores.</span></span></p>\n<p>\
 n</p>\n<p style="margin-bottom: 0cm\; text-align: justify\;"><span style=
 "font-size: 12px\;"><br />\n</span></p>\n<p>\n</p>\n<p style="margin-bott
 om: 0cm\; text-align: justify\;"><span style="font-size: 12px\;"><span st
 yle="font-size: 12px\; color: #333333\;"><strong>DOCUMENTACI&Oacute\;:\n<
 /strong></span><span style="font-size: 12px\; color: #333333\;">es\nlliur
 ar&agrave\; documentaci&oacute\; de seguiment del curs.</span></span></p>
 \n<p>\n</p>\n<p style="margin-bottom: 0cm\; text-align: justify\;"><span 
 style="font-size: 12px\;"><br />\n</span></p>\n<p>\n</p>\n<p style="margi
 n-bottom: 0cm\; text-align: justify\;"><span style="font-size: 12px\;"><s
 pan style="font-size: 12px\; color: #333333\;"><strong>LLOC:\n</strong></
 span><span style="font-size: 12px\; color: #333333\;">Avinguda\nde Roma\,
  7 de Tarragona.</span></span></p>\n<p>\n</p>\n<p style="margin-bottom: 0
 cm\; text-align: justify\;"><span style="font-size: 12px\;"><span style="
 font-size: 12px\; color: #333333\;"><strong>NOMBRE\nM&Iacute\;NIM / M&Agr
 ave\;XIM D&rsquo\;ASSISTENTS: </strong></span><span style="font-size: 12p
 x\; color: #333333\;">20/</span><span style="font-size: 12px\; color: #33
 3333\;">25</span></span></p>\n<p>\n</p>\n<p style="margin-bottom: 0cm\; t
 ext-align: justify\;"><span style="font-size: 12px\;"><br />\n</span></p>
 \n<p>\n</p>\n<p style="margin-bottom: 0cm\; text-align: justify\;"><span 
 style="font-size: 12px\;"><span style="font-size: 12px\; color: #333333\;
 "><strong>CERTIFICACI&Oacute\;:\n</strong></span><span style="font-size: 
 12px\; color: #333333\;">es\nlliurar&agrave\; un certificat d'acreditaci&
 oacute\; i assist&egrave\;ncia a la\nfinalitzaci&oacute\; de la formaci&o
 acute\;. Aquells que sol&middot\;licitin bonificar el\ncus a trav&eacute\
 ;s de la </span><span style="font-size: 12px\; color: #333333\;"><em>Fund
 aci&oacute\;\nTripartita para la Formaci&oacute\;n en el Empleo\, </em></
 span><span style="font-size: 12px\; color: #333333\;">tamb&eacute\;\ntind
 ran un certificat em&egrave\;s per la </span><span style="font-size: 12px
 \; color: #333333\;"><em>FTFE.</em></span></span></p>\n<p>\n</p>\n<p styl
 e="margin-bottom: 0cm\; text-align: justify\;"><span style="font-size: 12
 px\;"><br />\n</span></p>\n<p>\n</p>\n<p lang="es-ES" style="margin-botto
 m: 0cm\; text-align: justify\;"><span style="font-size: 12px\;"><span lan
 g="ca-ES" style="font-size: 12px\; color: #333333\;"><strong>ACREDITACI&O
 acute\;\nPROFESSIONAL DPC DEL COGITI: </strong></span><span lang="ca-ES" 
 style="font-size: 12px\; color: #333333\;">aquesta\nformaci&oacute\; &eac
 ute\;s competent per acreditar davant del COGITI la teva\nformaci&oacute\
 ;.</span></span></p>\n<p><span style="font-size: 12px\;"><br />\n</span><
 /p>\n<p lang="es-ES" style="text-align: justify\;"><span style="font-size
 : 12px\; color: #000000\;"><span lang="ca-ES" style="font-size: 12px\; co
 lor: #333333\;">Mes\ninformaci&oacute\;: </span><span style="font-size: 1
 2px\; text-decoration: underline\; color: #0000ff\;"><a href="http://www.
 acreditacioncogitidpc.es/"><span style="font-size: 12px\; color: #333333\
 ;">http://www.acreditacioncogitidpc.es</span></a></span></span></p>\n<p c
 lass="western" style="text-align: justify\;"><span style="font-size: 12px
 \;"><br />\n</span></p>\n<p class="western" style="text-align: justify\;"
 ><span style="font-size: 12px\; color: #000000\;"><span style="font-size:
  12px\; color: #333333\;"><strong>FORMA\nDE PAGAMENT:</strong></span><spa
 n style="font-size: 12px\; color: #333333\;">\nTransfer&egrave\;ncia banc
 &agrave\;ria o ingr&eacute\;s en efectiu al n&uacute\;mero de compte de\n
 </span><span style="font-size: 12px\; color: #2d2d2d\;">0081.0088.19.0001
 081810\n</span><span style="font-size: 12px\; color: #333333\;">del\nBanc
  Sabadell (cal indicar al document justificatiu de pagament el\nnom de la
 </span><span style="font-size: 12px\; text-decoration: underline\; color:
  #333333\;">\npersona assistent i el nom de l&rsquo\;activitat</span><spa
 n style="font-size: 12px\; color: #333333\;">).\n</span>\n</span></p>\n<p
  class="western"><span style="font-size: 12px\;"><br />\n</span></p>\n<p 
 class="western"><span style="font-size: 12px\;">En\nefectiu o cobrament a
  trav&eacute\;s del seu n&uacute\;mero de compte\, que haur&agrave\;\nde 
 facilitar a l&rsquo\;hora de fer la inscripci&oacute\;.</span></p>\n<p cl
 ass="western">&nbsp\;</p>\n<p class="western" style="text-align: justify\
 ;"><span style="font-size: 12px\;"><br />\n</span></p>\n<p class="western
 " style="text-align: justify\;"><span style="font-size: 12px\; color: #00
 0000\;"><span style="font-size: 12px\; color: #333333\;"><strong>TERMINI\
 nD&rsquo\;INSCRIPCI&Oacute\; I DE PAGAMENT: </strong></span><span style="
 font-size: 12px\; color: #333333\;">abans\ndel 16 d'octubre </span><span 
 style="font-size: 12px\; color: #333333\;">o\nfins arribar al m&agrave\;x
 im d&rsquo\;inscripcions si &eacute\;s abans del termini.</span></span></
 p>
DTEND;TZID=Europe/Madrid:20131023T150000
DTSTAMP:20260423T095227Z
DTSTART;TZID=Europe/Madrid:20131023T090000
LOCATION:https://www.enginyerstarragona.cat/agenda/details/1010/1010-viii-
 edicio-curs-bonificat-certificacio-energ
SEQUENCE:0
SUMMARY:VIII EDICI? CURS BONIFICAT CERTIFICACI? ENERG?TICA D'EDIFICIS CE3X
UID:ET_Activitat_1010
URL:https://www.enginyerstarragona.cathttps://www.enginyerstarragona.cat/a
 genda/details/1010/1010-viii-edicio-curs-bonificat-certificacio-energ
END:VEVENT
END:VCALENDAR
