BEGIN:VCALENDAR
PRODID:-//github.com/rianjs/ical.net//NONSGML ical.net 2.2//EN
VERSION:2.0
BEGIN:VEVENT
CATEGORIES:Protecci? contraincendis
CREATED;TZID=Europe/Madrid:20260422T010007
DESCRIPTION:<span style="font-size: 12px\; font-family: Arial\; color: #7f
 7f7f\;"><strong>CODI CIRCULAR: 16/03 A<br />\n<br />\nOBJECTIUS DEL CURS:
 &nbsp\;</strong><br />\n</span><span style="font-size: 12px\; font-family
 : Arial\; color: #7f7f7f\;">&bull\;</span><span class="Apple-tab-span" st
 yle="font-size: 12px\; white-space: pre\; font-family: Arial\; color: #7f
 7f7f\;">	</span><span style="font-size: 12px\; font-family: Arial\; color
 : #7f7f7f\;">Establir el marc de coneixements i legislatiu en que se&rsqu
 o\;n desenvolupa la Prevenci&oacute\; de Riscos Laborals en el nostre pa&
 iacute\;s. L&rsquo\;alumne rebr&agrave\; una guia resum amb la legislaci&
 oacute\; que s&rsquo\;aplica en la majoria de casos i empreses\, incloent
  els tr&agrave\;mits requerits per a compliment dels requisits legals</sp
 an><span style="font-size: 12px\; font-family: Arial\; color: #7f7f7f\;">
 <br />\n&bull\;<span class="Apple-tab-span" style="white-space: pre\;">	<
 /span>Obtenir els coneixements necessaris per a tenir el Nivell B&agrave\
 ;sic de PRL establert en el RD 39/97. Al final del curs i amb un examen\,
  si s&rsquo\;aprova\, s&rsquo\;obtindr&agrave\; l'esmentat t&iacute\;tol<
 br />\n&bull\;<span class="Apple-tab-span" style="white-space: pre\;">	</
 span>Obtenir el coneixements suficients per actuar com a recurs preventiu
  en treballs perillosos &nbsp\;en la majoria d&rsquo\; empresa i treballs
  amb riscos especials (obres de construcci&oacute\;\, el&egrave\;ctrics\,
 espais confinats\, al&ccedil\;ada\, soldadura\, ATEX\, vehicles industria
 ls especial\, ..) la qual cosa cobreix els empresaris i comandaments del 
 requisit legal de la presencia constant del recurs preventiu durant tasqu
 es i treballs amb riscos especials<br />\n&bull\;<span class="Apple-tab-s
 pan" style="white-space: pre\;">	</span>L&rsquo\;alumne tindr&agrave\; en
  les seves mans un manual de 146 p&agrave\;gines\, que li cobrir&agrave\;
  el 95 % de les dubtes que si li presentin a nivell b&agrave\;sic\, en la
  seva empresa i en el seu entorn laboral.</span><br />\n<br />\n<span sty
 le="font-size: 12px\; font-family: Arial\; color: #7f7f7f\;"><strong>DIRI
 GIT A:&nbsp\;<br />\n</strong>&bull\;<span class="Apple-tab-span" style="
 white-space: pre\;">	</span>A empresaris de PYMES<br />\n&bull\;<span cla
 ss="Apple-tab-span" style="white-space: pre\;">	</span>T&egrave\;cnics i 
 treballadors en general.<br />\n&bull\;<span class="Apple-tab-span" style
 ="white-space: pre\;">	</span>En particular directius\, professionals de 
 recursos humans\, comandaments entremitjos\, i qualsevol persona amb resp
 onsabilitats dintre d&rsquo\;una organitzaci&oacute\; empresarial que vul
 gui con&egrave\;ixer la Prevenci&oacute\; de Riscos Laborals i obtenir el
  t&iacute\;tol de NIVELL B&Agrave\;SIC en PRL.<br />\n<br />\n<strong>PRO
 FESSOR: </strong>Josep A. Viudez i Carricondo\, Enginyer T&egrave\;cnic I
 ndustrial. M&agrave\;ster en Sistemes de Gesti&oacute\; Integral de Quali
 tat\, Medi Ambient i Seguretat. M&agrave\;ster en Prevenci&oacute\; de Ri
 scos laborals. T&egrave\;cnic Especialista en Seguretat en el Treball per
  la fundaci&oacute\; Bosch i Gimpera de la UNIVERSITAT DE BARCELONA. &Agr
 ave\;mplia experi&egrave\;ncia en la mat&egrave\;ria a impartir.<br />\n<
 br />\n<strong>PROGRAMA DEL CURS (50 hores del nivell b&agrave\;sic i 10 
 hores d'extensi&oacute\;):</strong> s&rsquo\;adjunta.<br />\n<br />\n<str
 ong>PREU:</strong> 120 &euro\;<br />\n</span><strong style="font-size: 12
 px\; color: #7f7f7f\; font-family: Arial\;">COL&bull\;LEGIATS / ASSOCIATS
 : </strong><span style="font-size: 12px\; font-family: Arial\; color: #7f
 7f7f\;">85 &euro\;</span><span style="font-size: 12px\; font-family: Aria
 l\; color: #7f7f7f\;"><br />\n</span><strong style="font-size: 12px\; col
 or: #7f7f7f\; font-family: Arial\;">BONIFICACI&Oacute\; A TRAV&Eacute\;S 
 DE LA FTFE:</strong><span style="font-size: 12px\; font-family: Arial\; c
 olor: #7f7f7f\;"> 100 %&nbsp\;</span><span style="font-size: 12px\; font-
 family: Arial\; color: #7f7f7f\;"><br />\n</span><span style="font-size: 
 12px\; font-family: Arial\; color: #7f7f7f\;"><br />\n<strong>CALENDARI: 
 </strong></span><span style="font-size: 12px\; font-family: Arial\; color
 : #7f7f7f\;">el curs tindr&agrave\; inici el 18 de febrer i s'establir&ag
 rave\; una classes presencial no obligat&ograve\;ria per a resoluci&oacut
 e\; de dubtes que tindr&agrave\; lloc el 11 d'abril a les 18.30 h.</span>
 <span style="font-size: 12px\; font-family: Arial\; color: #7f7f7f\;"><br
  />\n<br />\n<strong>ACC&Eacute\;S A LA PLATAFORMA: </strong>18 de febrer
 .<br />\n<br />\n<strong>DOCUMENTACI&Oacute\;:</strong> es publicar&agrav
 e\; la documentaci&oacute\; de seguiment del curs.<br />\n<br />\n<strong
 >TUTORIA (contestats amb un m&agrave\;xim de 48 hores):</strong><br />\n<
 /span><span style="font-size: 12px\; font-family: Arial\; color: #7f7f7f\
 ;">&bull\;</span><span class="Apple-tab-span" style="font-size: 12px\; wh
 ite-space: pre\; font-family: Arial\; color: #7f7f7f\;">	</span><span sty
 le="font-size: 12px\; font-family: Arial\; color: #7f7f7f\;"><strong>Ober
 t</strong>: preguntes i respostes via f&ograve\;rum obert a la participac
 i&oacute\; col&bull\;lectiva.</span><span style="font-size: 12px\; font-f
 amily: Arial\; color: #7f7f7f\;"><br />\n&bull\;<span class="Apple-tab-sp
 an" style="white-space: pre\;">	</span><strong>Tancat o personal:</strong
 > via correu electr&ograve\;nic directe al professor amb resposta exclusi
 va a&nbsp\;l&rsquo\;alumne.<br />\n<br />\n<strong>AVALUACI&Oacute\;</str
 ong>: a la finalitzaci&oacute\; del curs es far&agrave\; una avaluaci&oac
 ute\; del temari del curs\, que tindr&agrave\; lloc el 18 d'abril a les 1
 8.30 h<br />\n<br />\n<strong>NOMBRE M&Iacute\;NIM / M&Agrave\;XIM D&rsqu
 o\;ASSISTENTS:</strong> 6/25<br />\n<br />\n<strong>CERTIFICACI&Oacute\;<
 /strong>: es lliur&agrave\; un certificat d'acreditaci&oacute\; i assist&
 egrave\;ncia a la finalitzaci&oacute\; de la formaci&oacute\;. Aquells qu
 e sol&bull\;licitin bonificar el cus a trav&eacute\;s de la Fundaci&oacut
 e\; Tripartita para la Formaci&oacute\;n en el Empleo\, tamb&eacute\; tin
 dran un certificat em&egrave\;s per la FTFE.<br />\n<strong><br />\nACRED
 ITACI&Oacute\; PROFESSIONAL DPC DEL COGITI:</strong> aquesta formaci&oacu
 te\; &eacute\;s competent per acreditar davant del COGITI la teva formaci
 &oacute\;.<br />\n<br />\n<strong>Mes informaci&oacute\;:</strong> http:/
 /www.acreditacioncogitidpc.es<br />\n</span><span style="font-size: 12px\
 ; color: #7f7f7f\;"><span style="font-family: Arial\;"><br />\n</span><sp
 an style="font-family: arial\;"><strong><span style="text-decoration: und
 erline\;">PROCEDIMENT PER BONIFICAR EL CURS A TRAV&Eacute\;S DE LA FUNDAC
 I&Oacute\;N TRIPARTITA PARA LA FORMACI&Oacute\;N EN EL EMPLEO I EL FONDO 
 SOCIAL EUROPEO:</span></strong></span></span><span style="font-size: 12px
 \; text-decoration: underline\; font-family: Arial\; color: #7f7f7f\;">&n
 bsp\;<br />\n</span><span style="font-size: 12px\; font-family: Arial\; c
 olor: #7f7f7f\;"></span><span style="font-size: 12px\; color: #7f7f7f\;">
 <br />\n<span style="font-family: arial\;">DESCARREGA'T\,&nbsp\;DES D'AQU
 ESTA MATEIXA P&Agrave\;GINA TOTS ELS IMPRESOS (Adhesi&oacute\; al conveni
 \, informaci&oacute\; al RLT\, comprom&iacute\;s del participant i certif
 icat de costos) i segueix els seg&uuml\;ents passos i normes</span><span 
 style="font-family: Arial\;"><br />\n</span></span><span style="font-size
 : 12px\; font-family: Arial\; color: #7f7f7f\;"></span><span style="font-
 size: 12px\; font-family: arial\; color: #7f7f7f\;"><br />\nPer poder ges
 tionar la bonificaci&oacute\;&nbsp\;a trav&eacute\;s&nbsp\;</span><span s
 tyle="font-size: 12px\; color: #7f7f7f\;"><span style="font-family: arial
 \;">&nbsp\;</span><em style="font-family: arial\;">Fundaci&oacute\;n Trip
 artita Para la Formaci&oacute\;n en el Empleo</em><span style="color: #7f
 7f7f\;"><span style="font-family: arial\;">&nbsp\;a trav&eacute\;s&nbsp\;
 dels pagaments&nbsp\;a la Seguretat Social en el TC2\, s'haur&agrave\; de
  complimentar&nbsp\;els tots els impresos que s'adjunten.&nbsp\;Ser&agrav
 e\; requisit indispensable que TOTS estiguin firmats y complimentats&nbsp
 \;amb bol&iacute\;graf de color BLAU\, y que la firma&nbsp\;sigui ORIGINA
 L.</span><span style="font-family: Arial\;"><br />\n</span></span></span>
 <span style="font-size: 12px\; font-family: Arial\; color: #7f7f7f\;"></s
 pan><span style="font-size: 12px\; font-family: arial\; color: #7f7f7f\;"
 ><br />\nSi ho prefereix\,&nbsp\;ho pot adelantar per correo&nbsp\;electr
 &ograve\;nic (</span><span style="font-size: 12px\; font-family: arial\; 
 color: #7f7f7f\;">&nbsp\;</span><span style="font-size: 12px\;"><a href="
 mailto:formacio@cetit.org" style="font-family: arial\; color: #7f7f7f\;">
 formacio@cetit.org</a><span style="font-family: arial\; color: #7f7f7f\;"
 >) amb el comprom&iacute\;s que els ORIGINALS&nbsp\;</span><span style="c
 olor: #7f7f7f\;"><span style="font-family: arial\;">com a molt tard el pr
 imer dia de clase els presenti.</span><span style="font-family: Arial\;">
 <br />\n</span></span></span><strong style="color: #ff0000\; font-family:
  arial\; font-size: 12px\;"><br />\n&Uacute\;L</strong><span style="font-
 size: 12px\; font-family: arial\; color: #ff0000\;"><strong>TIM DIA DE LL
 IURAMENT DELS IMPRESOS: 7&nbsp\;dies naturals abans de l'inici del curs</
 strong></span><span style="font-size: 12px\; font-family: arial\; color: 
 #7f7f7f\;"><br />\n</span><span style="font-size: 12px\; font-family: Ari
 al\; color: #7f7f7f\;"><br />\n</span>\n<div><br />\n</div>
DTEND;TZID=Europe/Madrid:20130218T230000
DTSTAMP:20260422T230007Z
DTSTART;TZID=Europe/Madrid:20130218T080000
LOCATION:https://www.enginyerstarragona.cat/agenda/details/966/966-curs-bo
 nificat-on-line-de-prevencio-de-riscos
SEQUENCE:0
SUMMARY:Curs BONIFICAT ON LINE DE PREVENCI? DE RISCOS LABORALS. NIVELL B?S
 IC
UID:ET_Activitat_966
URL:https://www.enginyerstarragona.cathttps://www.enginyerstarragona.cat/a
 genda/details/966/966-curs-bonificat-on-line-de-prevencio-de-riscos
END:VEVENT
END:VCALENDAR
