BEGIN:VCALENDAR
PRODID:-//github.com/rianjs/ical.net//NONSGML ical.net 2.2//EN
VERSION:2.0
BEGIN:VEVENT
CATEGORIES:Activitats
CREATED;TZID=Europe/Madrid:20260421T015601
DESCRIPTION:<p style="text-align: justify\;"><span style="color: #7f7f7f\;
 "><strong style="font-size: 12px\;">CODI CIRCULAR: &nbsp\;35/12</strong><
 /span><span style="font-size: 12px\; color: #7f7f7f\;"> <br />\n<br />\n<
 span style="font-family: arial\; font-size: 12px\;">Les noves enginyeries
  de grau\, degut a la reforma de Bolonya\, tenen una durada de quatre any
 s i substitueixen les actuals titulacions de primer i segon cicle amb l'o
 bjectiu de convalidar els estudis i facilitar la mobilitat dins l'&agrave
 \;mbit europeu.\n</span></span></p>\n<p style="text-align: justify\;"><sp
 an style="font-family: arial\; font-size: 12px\; color: #7f7f7f\;">Per aq
 uest motiu el proper mes de maig\, tindr&agrave\; lloc una confer&egrave\
 ;ncia informativa sobre com es pot obtenir <strong>LA NOVA TITULACI&Oacut
 e\; D'ENGINYERIA DE GRAU</strong>. La facultat de l'ETSE de la Universita
 t Rovira i Virgili&nbsp\; informar&agrave\; per les especialitats <strong
 >el&egrave\;ctrica i electr&ograve\;nica.<br />\n</strong></span></p>\n<p
  style="text-align: justify\;"><span style="font-family: arial\; font-siz
 e: 12px\;"><strong><span style="font-size: 12px\; color: #7f7f7f\;">CALEN
 DARI:</span></strong><span style="font-size: 12px\; color: #7f7f7f\;"> 3 
 de maig a les 19 hores.</span></span></p>\n<p style="text-align: justify\
 ;"><span style="font-family: arial\; font-size: 12px\; color: #7f7f7f\;">
 <strong>PONENT</strong>: Xavier Maix&eacute\;\, Director de l'ETSE.</span
 ></p>\n<p><span style="font-family: arial\; font-size: 12px\; color: #7f7
 f7f\;">S'est&agrave\; organitzant una confer&egrave\;ncia sobre el mateix
  tema\, per&ograve\; de les especialitats qu&iacute\;mica i mec&agrave\;n
 ica\, que properament informarem i que anir&agrave\; a c&agrave\;rrec del
  Director de la ETEQ\, el Sr. Josep Bonet.</span></p>\n<p><span style="fo
 nt-size: 12px\; color: #7f7f7f\;"><span style="font-family: arial\; font-
 size: 12px\;"><strong>LLOC: </strong>A la seu del CETIT\, Av. de Roma\, 7
  de Tarragona i transm&egrave\;s per videoconfer&egrave\;ncia a les insta
 l&middot\;lacions de les Terres de l&rsquo\;Ebre\, carrer Mercaders\, 2 d
 e Tortosa.<br />\n<br />\n<strong>INSCRIPCI&Oacute\; GRATU<span style="fo
 nt-size: 12px\; color: #7f7f7f\;">&Iuml\;TA</span></strong></span>\n<br /
 >\n</span></p>
DTEND;TZID=Europe/Madrid:20120503T200000
DTSTAMP:20260421T235601Z
DTSTART;TZID=Europe/Madrid:20120503T190000
LOCATION:https://www.enginyerstarragona.cat/agenda/details/903/903-obtenci
 o-de-la-titulacio-de-grau-de-leginyeri
SEQUENCE:0
SUMMARY:OBTENCI? DE LA TITULACI? DE GRAU DE L'EGINYERIA T?CNICA INDUSTRIAL.
UID:ET_Activitat_903
URL:https://www.enginyerstarragona.cathttps://www.enginyerstarragona.cat/a
 genda/details/903/903-obtencio-de-la-titulacio-de-grau-de-leginyeri
END:VEVENT
END:VCALENDAR
