BEGIN:VCALENDAR
PRODID:-//github.com/rianjs/ical.net//NONSGML ical.net 2.2//EN
VERSION:2.0
BEGIN:VEVENT
CATEGORIES:Activitats
CREATED;TZID=Europe/Madrid:20260420T174614
DESCRIPTION:<p style="text-align: justify\;"><span style="font-size: 12px\
 ;"><span style="font-size: 12px\; color: #7f7f7f\;"><strong>CODI CIRCULAR
 : 26/12 A</strong><br />\n<br />\nL'AETIGT organitza un curs b&agrave\;si
 c sobre <strong>LA GESTI&Oacute\; DEL</strong><strong> TEMPS</strong><str
 ong> I L'OPTIMITZACI&Oacute\; DEL CORREU ELECTR&Ograve\;NIC </strong>amb 
 l'objectiu de desenvolupar t&egrave\;cniques\, analitzar processos i unif
 icar criteris per aconseguir gestionar el temps d'una manera efica&ccedil
 \;.<br />\n</span><span style="font-size: 12px\; color: #7f7f7f\;"><br />
 \n<strong>OBJECTIUS:</strong></span></span></p>\n<p style="text-align: ju
 stify\;"><strong><span style="font-size: 12px\; color: #7f7f7f\;"> </span
 ></strong></p>\n<ul style="margin-top: 0cm\; list-style-type: disc\;">\n 
    <li style="text-align: justify\;"><span style="font-size: 12px\; color
 : #7f7f7f\;">Desenvolupar t&egrave\;cniques efectives per millorar l'orga
 nitzaci&oacute\; del treball i les funcions normalitzades de la paperassa
 .</span></li>\n    <li style="text-align: justify\;"><span style="font-si
 ze: 12px\; color: #7f7f7f\;">Analitzar el proc&eacute\;s de gesti&oacute\
 ; del temps i elaborar objectius\, procediments i m&egrave\;todes per opt
 imitzar resultats.</span></li>\n    <li style="text-align: justify\;"><sp
 an style="font-size: 12px\; color: #7f7f7f\;">Unificar criteris per simpl
 ificar les tasques i millorar les t&egrave\;cniques per treballar en equi
 p.</span></li>\n</ul>\n<div>\n<p style="text-align: justify\;"><span styl
 e="font-size: 12px\; color: #7f7f7f\;"><strong><span style="font-size: 12
 px\;">PROGRAMA (16 hores):</span></strong> </span></p>\n<p style="text-al
 ign: justify\;"> </p>\n<p style="vertical-align: top\;"><strong><span sty
 le="font-size: 12px\; color: #7f7f7f\;">1. Planificaci&oacute\; del temps
 .</span></strong></p>\n<p style="vertical-align: top\;"><span style="font
 -size: 12px\; color: #7f7f7f\;">Conceptes generals.<br />\nCaracter&iacut
 e\;stiques i components del temps.<br />\nRegla de les 4 "I"<br />\nLleis
  i principis de la gesti&oacute\; del temps.</span></p>\n<p style="vertic
 al-align: top\;"><span style="font-size: 12px\; color: #7f7f7f\;"><strong
 >2. T&egrave\;cniques de planificaci&oacute\; del temps.</strong></span><
 /p>\n<p style="vertical-align: top\;"><span style="font-size: 12px\; colo
 r: #7f7f7f\;"><span style="font-size: 12px\;">Establiment de prioritats.<
 br />\nDelegar responsabilitats.<br />\nGesti&oacute\; del temps.<br />\n
 Causes de les p&egrave\;rdues de temps.<br />\nInterrupcions\, el tel&egr
 ave\;fon.<br />\n</span><span style="font-size: 12px\;">Normes per progra
 mar el tem</span><span style="font-size: 12px\;">ps.</span></span></p>\n<
 p style="vertical-align: top\;"><span><strong><span style="font-size: 12p
 x\; color: #7f7f7f\;">3. L'organitzaci&oacute\; del treball.</span></stro
 ng></span></p>\n<p style="vertical-align: top\;"><span style="font-size: 
 12px\;"><span style="font-size: 12px\; color: #7f7f7f\;">L'efic&agrave\;c
 ia en l'organitzaci&oacute\;<br />\nRegla de les tres "E".<br />\nPlanifi
 caci&oacute\; i programaci&oacute\;.&nbsp\;</span><span style="font-size:
  12px\;"><span style="font-size: 12px\; color: #7f7f7f\;">Pla diari.<br /
 >\n</span><span style="font-size: 12px\;"><br />\n<span style="font-size:
  12px\; color: #7f7f7f\;"><strong>4. Procediments de simplificaci&oacute\
 ; del treball.</strong></span></span></span></span></p>\n<p style="vertic
 al-align: top\;"><span style="font-size: 12px\; color: #7f7f7f\;">Entorn 
 f&iacute\;sic\, l'agenda\, formularis</span></p>\n<p style="vertical-alig
 n: top\;"><span style="font-size: 12px\; color: #7f7f7f\;"><strong>5. Dis
 tribuci&oacute\; del treball</strong></span></p>\n<p style="vertical-alig
 n: top\;"><span style="font-size: 12px\;"><span style="font-size: 12px\; 
 color: #7f7f7f\;">Curs de rendiment<br />\nAvaluaci&oacute\; i control de
  resultat</span><br />\n<span style="font-size: 12px\;"><br />\n<strong s
 tyle="color: #7f7f7f\;">Organitzaci&oacute\; del correu Electr&ograve\;ni
 c</strong></span><span style="font-size: 12px\; color: #7f7f7f\;">&nbsp\;
 </span></span></p>\n<p style="vertical-align: top\;"><span style="font-si
 ze: 12px\; color: #7f7f7f\;"><strong><span style="font-size: 12px\;"><br 
 />\n</span></strong><span style="font-size: 12px\;">1. Definir la seva ma
 nera d'organitzaci&oacute\; personal.<br />\n2. Dominar les funcions avan
 &ccedil\;ades d'Outlook.<br />\n3. Adaptar Outlook a la seva organitzaci&
 oacute\; personal.</span></span></p>\n<p style="text-align: justify\;"> <
 /p>\n<p style="text-align: justify\;"><span style="font-size: 12px\;"><st
 rong><span style="font-size: 12px\; color: #7f7f7f\;">PONENT: </span></st
 rong><span style="font-size: 12px\;"><span style="font-size: 12px\; color
 : #7f7f7f\;">Felip Santolalla\, consultor de RRHH y coacher.</span><stron
 g> </strong></span></span></p>\n<p style="text-align: justify\;"> </p>\n<
 p style="text-align: justify\;"><span style="font-size: 12px\; color: #7f
 7f7f\;"><strong><span style="font-size: 12px\;">PREU:</span></strong><spa
 n style="font-size: 12px\;">135 &euro\;</span></span></p>\n<p style="text
 -align: justify\;"><strong><span style="font-size: 12px\; color: #7f7f7f\
 ;"> </span></strong></p>\n<p style="text-align: justify\;"><span style="f
 ont-size: 12px\; color: #7f7f7f\;"><strong><span style="font-size: 12px\;
 ">COL&middot\;LEGIATS/ ASSOCIATS: </span></strong><span style="font-size:
  12px\;">95 &euro\;</span></span></p>\n<p style="background-color: #ccccc
 c\; text-align: justify\;"><span style="font-size: 12px\; color: #7f7f7f\
 ;"><a name="OLE_LINK2"></a><a name="OLE_LINK1"><strong><span style="font-
 size: 12px\;">*** FORMACI&Oacute\; 100 % BONIFICADA A TRAV&Eacute\;S DE <
 /span></strong></a><strong><span style="font-size: 12px\;">LA <em>FUNDACI
 &Oacute\;</em></span></strong><strong><em><span style="font-size: 12px\;"
 > TRIPARTITA</span></em></strong><strong><em><span style="font-size: 12px
 \;"> FORMACI&Oacute\;N</span></em></strong><strong><em><span style="font-
 size: 12px\;"> EN EL EMPLEO</span></em></strong><strong><span style="font
 -size: 12px\;">\, SEGONS EL CR&Egrave\;DIT DE LA SEVA EMPRESA ***</span><
 /strong></span></p>\n<p style="text-align: justify\;"></p>\n<p style="tex
 t-align: justify\;"><span style="font-size: 12px\; color: #7f7f7f\;">\n</
 span></p>\n<p><span style="font-size: 12px\; color: #7f7f7f\;"><strong>FO
 RMA DE PAGAMENT:</strong> Transfer&egrave\;ncia banc&agrave\;ria o ingr&e
 acute\;s en efectiu al n&uacute\;mero de compte 0081.0088.16.0001793085 d
 el Banc de Sabadell (cal indicar al document justificatiu de pagament el 
 nom de la<span style="text-decoration: underline\; font-size: 12px\;"> pe
 rsona assistent i el nom de l&rsquo\;activitat</span>). </span></p>\n<p s
 tyle="font-weight: bold\;"> </p>\n<p><span style="font-size: 12px\; color
 : #7f7f7f\;">En efectiu o cobrament a trav&eacute\;s del seu n&uacute\;me
 ro de compte\, que haur&agrave\; de facilitar a l&rsquo\;hora de fer la i
 nscripci&oacute\;.</span></p>\n<span style="font-weight: bold\; font-size
 : 12px\; color: #7f7f7f\;">NOMBRE M&Iacute\;NIM / M&Agrave\;XIM D&rsquo\;
 ALUMNES:&nbsp\;</span><span style="font-weight: bold\;"><span style="font
 -size: 12px\; color: #7f7f7f\;">&nbsp\;6/ 25</span><strong></strong></spa
 n>\n<p><strong style="font-weight: bold\;"><span style="color: #7f7f7f\;"
 >CALENDARI:</span></strong><span style="color: #7f7f7f\;"><strong>&nbsp\;
 </strong>del 17 al 26 d'abril\, dimarts i dijous\, de 16 a 20 h.</span></
 p>\n<p style="font-weight: bold\; color: #7f7f7f\; text-align: justify\;"
 ></p>\n<p style="color: #7f7f7f\; text-align: justify\;"><span><strong st
 yle="font-size: 12px\; font-weight: bold\;"><span style="font-size: 12px\
 ;">LLOC:&nbsp\;</span></strong>Avinguda de Roma\, 7 de Tarragona.<br />\n
 <br />\n</span></p>\n<div style="color: #696969\; background-color: #ffff
 ff\; text-align: justify\;"><strong><span style="font-size: 11px\;"><br /
 >\n<hr />\nPROCEDIMENT PER BONIFICAR EL CURS A TRAV&Eacute\;S DE LA FUNDA
 CI&Oacute\;N TRIPARTITA PARA LA FORMACI&Oacute\;N EN EL EMPLEO I EL FONDO
  SOCIAL EUROPEO:</span></strong><br />\n<br />\n<strong style="color: #7f
 7f7f\; font-size: 11px\; font-weight: bold\;">DESCARREGA'T\,&nbsp\;DES D'
 AQUESTA MATEIXA P&Agrave\;GINA\,&nbsp\;TOTS ELS IMPRESOS (Adhesi&oacute\;
  al conveni\, informaci&oacute\; al RLT\, comprom&iacute\;s del participa
 nt i certificat de costos) i segueix els seg&uuml\;ents passos i normes:<
 br />\n<br />\n</strong><span style="font-weight: bold\; font-size: 11px\
 ; color: #7f7f7f\;">Per poder gestionar la bonificaci&oacute\;&nbsp\;a tr
 av&eacute\;s&nbsp\;</span><em style="color: #7f7f7f\; font-size: 11px\; f
 ont-weight: bold\;">Fundaci&oacute\;n Tripartita Para la Formaci&oacute\;
 n en el Empleo</em><span style="font-weight: bold\; font-size: 11px\; col
 or: #7f7f7f\;">&nbsp\;a trav&eacute\;s&nbsp\;dels pagaments&nbsp\;a la Se
 guretat Social en el TC2\, s'haur&agrave\; de complimentar&nbsp\;els tots
  els impresos que s'adjunten.&nbsp\;Ser&agrave\; requisit indispensable q
 ue TOTS estiguin firmats y complimentats&nbsp\;amb bol&iacute\;graf de co
 lor BLAU\, y que la firma&nbsp\;sigui ORIGINAL.</span><br />\n<br />\n<sp
 an style="font-weight: bold\; font-size: 11px\; color: #7f7f7f\;">Si ho p
 refereix\,&nbsp\;ho pot adelantar per correo&nbsp\;electr&ograve\;nic (</
 span><a href="mailto:formacio@cetit.org" style="color: #7f7f7f\; font-siz
 e: 11px\; font-weight: bold\;">formacio@cetit.org</a><span style="font-we
 ight: bold\; font-size: 11px\; color: #7f7f7f\;">) amb el comprom&iacute\
 ;s que els ORIGINALS&nbsp\;</span><strong style="color: #7f7f7f\; font-si
 ze: 11px\; font-weight: bold\;">com a molt tard el primer dia de clase el
 s presenti.<br />\n<br />\n</strong><strong style="font-size: 11px\; font
 -weight: bold\;"><span style="color: #ff0000\;">ULTIM DIA DE LLIURAMENT D
 ELS IMPRESOS: 7 dies naturals abans de l'inici del curs</span></strong><b
 r />\n<hr style="font-size: 11px\; font-weight: bold\;" />\n<hr style="fo
 nt-size: 11px\; font-weight: bold\;" />\n</div>\n<br style="text-align: j
 ustify\; color: #696969\; font-size: 11px\; background-color: #ffffff\;" 
 />\n<br />\n<br />\n<br />\n<p><br />\n</p>\n</div>
DTEND;TZID=Europe/Madrid:20120417T200000
DTSTAMP:20260420T154614Z
DTSTART;TZID=Europe/Madrid:20120417T160000
LOCATION:https://www.enginyerstarragona.cat/agenda/details/893/893-la-gest
 io-del-temps-i-loptimitzacio-del-corre
SEQUENCE:0
SUMMARY:LA GESTI? DEL TEMPS I L'OPTIMITZACI? DEL CORREU ELECTR?NIC
UID:ET_Activitat_893
URL:https://www.enginyerstarragona.cathttps://www.enginyerstarragona.cat/a
 genda/details/893/893-la-gestio-del-temps-i-loptimitzacio-del-corre
END:VEVENT
END:VCALENDAR
