BEGIN:VCALENDAR
PRODID:-//github.com/rianjs/ical.net//NONSGML ical.net 2.2//EN
VERSION:2.0
BEGIN:VEVENT
CATEGORIES:Activitats
CREATED;TZID=Europe/Madrid:20260425T150428
DESCRIPTION:<p>ALCAD S.L\, organitza el proper <strong>31 de mar&ccedil\; 
 de 2011</strong>\, dijous\, una jornada t&egrave\;cnica amb el se&uuml\;e
 nt programa:</p>\n<ul>\n    <li>Sistema de comunicaci&oacute\; i control 
 d'accessos (porter i videoporter) per mitj&agrave\; de 2 fils\, amb est&e
 grave\;tica iBLACK.&nbsp\;\n    <ul>\n        <li>Cat&agrave\;leg de prod
 uctes i instal&middot\;lacions tipus. </li>\n        <li>Gesti&oacute\; t
 &egrave\;cnica de la comunicaci&oacute\; per mitj&agrave\; de bus de 2 fi
 ls. </li>\n        <li>Mercat a desenvolupar en obra nova i vivenda habit
 ada. </li>\n    </ul>\n    </li>\n    <li>Nou Reglament ICT </li>\n</ul>\
 n<p><strong>HORARI:</strong> 18 a 20 hores<br />\n<br />\n<strong>LLOC:</
 strong> avinguda de Roma\, 7 de Tarragona.<br />\n<br />\n***Al finalitza
 r l'acte s'oferir&agrave\; un refrigeri ***<br />\n<br />\n<span><strong>
 CONFIRMACI&Oacute\; D&rsquo\;ASSIST&Egrave\;NCIA:</strong> a l&rsquo\;adm
 inistraci&oacute\; del Col&middot\;legi al </span><span style="font-famil
 y: arial\;"><span style="font-family: wingdings\; color: #333333\;">(</sp
 an><span style="color: #333333\;"> 977 251 877 a trav&eacute\;s de l&rsqu
 o\;adre&ccedil\;a electr&ograve\;nica <a href="mailto:formacio@cetit.org"
 ><span style="color: #333333\;">formacio@cetit.org</span></a>.</span></sp
 an></p>\n<p>&nbsp\;&nbsp\;&nbsp\;&nbsp\;</p>
DTEND;TZID=Europe/Madrid:20110331T200000
DTSTAMP:20260425T130428Z
DTSTART;TZID=Europe/Madrid:20110331T180000
LOCATION:https://www.enginyerstarragona.cat/agenda/details/815/815-jornada
 -tecnica-sobre-porters-i-videoporters
SEQUENCE:0
SUMMARY:JORNADA T?CNICA SOBRE PORTERS I VIDEOPORTERS
UID:ET_Activitat_815
URL:https://www.enginyerstarragona.cathttps://www.enginyerstarragona.cat/a
 genda/details/815/815-jornada-tecnica-sobre-porters-i-videoporters
END:VEVENT
END:VCALENDAR
