BEGIN:VCALENDAR
PRODID:-//github.com/rianjs/ical.net//NONSGML ical.net 2.2//EN
VERSION:2.0
BEGIN:VEVENT
CATEGORIES:Activitats
CREATED;TZID=Europe/Madrid:20260423T120802
DESCRIPTION:<b>CODI CIRCULAR: 66/10</b><br><b>ORGANITZA: CETIT</b><br><br>
 Donada la situaci? actual que s'entravessa\, el proper <b>15 de novembre 
 de 2010 (dilluns) a les 17 h</b>\, tindr? lloc una sessi? informativa del
 s programes que ofereix el SOC (Servei d'Ocupaci? de Catalunya) sobre ori
 entaci? laboral i recerca de feina.<br><br>\nSi et trobes en situaci? d'a
 tur\, o tens algun familiar que ho estigui\, us convidem a la sessi? info
 rmativa d'assessorament i orientaci? laboral per a la recerca de feina\, 
 que ser? impartida per t?cnics d'orientaci? del Servei d'Ocupaci? de Cata
 lunya.<br><br>\n<b>CONTINGUT DE LA CONFER?NCIA:</b><br><br>\n\n&#61607\;	
 Aules actives: aules de recerca intensiva de feina\, per internet amb sup
 ort tutorial.\n<br>&#61607\;	Portal de feina activa: Portal SOC per a ofe
 rtes de treball.\n<br>&#61607\;	Itineraris personals d'inserci?: programa
  IPI amb entitats col'laboradores.\n<br>&#61607\;	P?gina web del SOC: des
 cripci? d'altres programes i eines d'orientaci?.\n<br>&#61607\;	EURES: po
 rtal Europeu per a la mobilitat professional.\n&#61607\;	e-Formaci?: form
 aci? virtual per internet.<br>\n&#61607\;	Programes de formaci? per a l'o
 cupaci?.\n<br>&#61607\;	INICIA. Suport a la emprenedoria.\n<br>&#61607\;	
 L'entrevista de treball: comportaments i actuacions davant de l'entrevist
 ador.<br><br>\n\nLa sessi? informativa anir? <b>a c?rrec</b> del senyor X
 avier Viejo Vicente\, Cap del Servei Territorial del SOC a Tarragona i la
  senyora Enriqueta S?ez L?pes\, t?cnica d'orientaci? de l'Aula Activa de 
 Tarragona.<br><br>\n \n<b>LLOC:</b> A la seu del CETIT\, Av. de Roma\, 7 
 de Tarragona i a les instal'lacions de les Terres de l'Ebre\, carrer Merc
 aders\, 2 de Tortosa.<br><br>\n\n<b>CONFIRMACI? D'ASSIST?NCIA:</b> a l'ad
 ministraci? del Col'legi al 977 251 877 o 902 076 777 o a trav?s de l'adr
 e?a electr?nica formacio@cetit.org.<br><br>\n\n<b>TERMINI D'INSCRIPCI?</b
 >: 11 de novembre de 2010 o fins completar-se l'aforament m?xim de la Sal
 a d'Actes.<br><br>\n\n<b>INSCRIPCI? GRATU?TA.</b>
DTEND;TZID=Europe/Madrid;VALUE=DATE:20101116
DTSTAMP:20260423T100802Z
DTSTART;TZID=Europe/Madrid;VALUE=DATE:20101115
LOCATION:https://www.enginyerstarragona.cat/agenda/details/790/790-sessio-
 informativa-sobre-orientacio-laboral-i
SEQUENCE:0
SUMMARY:Sessi? informativa sobre ORIENTACI? LABORAL I RECERCA DE FEINA
UID:ET_Activitat_790
URL:https://www.enginyerstarragona.cathttps://www.enginyerstarragona.cat/a
 genda/details/790/790-sessio-informativa-sobre-orientacio-laboral-i
END:VEVENT
END:VCALENDAR
