BEGIN:VCALENDAR
PRODID:-//github.com/rianjs/ical.net//NONSGML ical.net 2.2//EN
VERSION:2.0
BEGIN:VEVENT
CATEGORIES:Activitats
CREATED;TZID=Europe/Madrid:20260419T190724
DESCRIPTION:<b>CODI CIRCULAR: 36/10-A</b><br><b>ORGANITZA: AETIGT</b><br><
 br><br><b>OBJECTIUS: </b><br><br>\n\n-	Con?ixer que s'ent?n per productes
  qu?mics perillosos.<br>\n-	Con?ixer els diferents productes qu?mics.<br>
 \n-	Con?ixer les vies d'entrada dels productes qu?mics a l'organisme\, ai
 x? com els efectes que poden ocasionar.<br>\n-	Identificar la perillosist
 at dels diferents tipus de productes qu?mics.<br>\n-	Aplicar els coneixem
 ents adquirits durant la realitzaci? de treballs assegurances en la manip
 ulaci?\, emmagatzematge i transvasament de productes qu?mics.<br><br>\n\n
 <b>PROGRAMA DEL CURS (24 hores): </b><br><br>\n\n1.	Presentaci?.<br>\n2.	
 La prevenci? de riscs en el maneig de productes qu?mics: Conceptualitzaci
 ?.<br>\n3.	Producte qu?mic perill?s: Classificaci?.<br>\n	Com penetren el
 s productes qu?mics en l'organisme?<br> Efectes.<br>\n4.	Les normes b?siq
 ues de seguretat per a l'emmagatzematge de productes qu?mics.<br>\n	Risco
 s espec?fics e la manipulaci? i transvasament de productes qu?mics.<br>\n
 	Principals caracter?stiques de l'etiquetatge de productes qu?mics perill
 osos.<br>\n5.	Principals caracter?stiques de la fitxa de dades de seguret
 at. <br>\n6.	Exercicis i casos pr?ctics.<br><br>\n\n<b>DOCUMENTACI?</b>: 
 es lliurar? documentaci? de seguiment.<br><br>\n\n<b>CERTIFICACI?:</b> el
  CETIT lliurar? un certificat d'assist?ncia al curs pr?via sol?licitud de
 l participant. Assist?ncia m?nima obligat?ria del 80 % de les hores lecti
 ves. <br><br>\n\n<b>LLOC:</b> Avinguda de Roma\, 7 de Tarragona. <br><br>
 \n\n<b>NOMBRE M?NIM / M?XIM D'ASSISTENTS:</b> 15<br><br>\n\n<b>PROFESSOR:
 </b> Alberto de Fuenmayor\, t?cnic de T?V RHEILAND especialista en la mat
 ?ria.<br><br>\n\n<b>PREU COL?LEGIAT/ ASSOCIAT:</b> 340 ?\n<br><b>PREU NO 
 ASSOCIAT/ NO COL?LEGIAT:</b> 455 ?\n<br><b>DESCOMPTE ESPECIAL SI REUNEIXE
 S LES DUES CONDICIONS (COL?LEGIAT I ASSOCIAT) </b><br><br>\n<b>A M?S AQUE
 ST CURS ES POT TRAMITAR:<br><br>\nFORMACI? SUBVENCIONADA per treballadors
  del r?gim general ( exclosos aut?noms i ETT)<br><br>\n\n<b>Bonifica't\, 
 a trav?s del cr?dit disponible de la seva empresa\, fins a 323 ?/ persona
 </b><br><br>\n\nNou servei gratu?t de la gesti? del cr?dit anual de les e
 mpreses per a la formaci? dels seus treballadors.\n<br><br>\n\n\n		\n\n\n
 \n\nCONTACTA'NS I T'INFORMAREM\, LA GESTI? ?S GRATU?TA!</b><br><br>\n\n<b
 >FORMA DE PAGAMENT:</b> Transfer?ncia banc?ria o ingr?s en efectiu al n?m
 ero de compte 0081.0088.16.0001793085 del Banc de Sabadell\, (cal indicar
  al document justificatiu de pagament el nom de la persona assistent i el
  nom de l'activitat).<br><br>\n\n<b>CONFIRMACI? D'ASSIST?NCIA:</b> a l'ad
 ministraci? del Col?legi al 977 251 877 o 902 076 777 o a trav?s de l'adr
 e?a electr?nica formacio@cetit.org.<br><br>\n\n<b>TERMINI D'INSCRIPCI? I 
 DE PAGAMENT:</b> 17 de maig 2010 o fins completar-se el nombre m?xim d'in
 scripcions si ?s abans del termini.\n\n\n
DTEND;TZID=Europe/Madrid;VALUE=DATE:20100524
DTSTAMP:20260419T170724Z
DTSTART;TZID=Europe/Madrid;VALUE=DATE:20100523
LOCATION:https://www.enginyerstarragona.cat/agenda/details/767/767-curs-em
 magatzematge-de-productes-quimics
SEQUENCE:0
SUMMARY:Curs EMMAGATZEMATGE DE PRODUCTES QU?MICS
UID:ET_Activitat_767
URL:https://www.enginyerstarragona.cathttps://www.enginyerstarragona.cat/a
 genda/details/767/767-curs-emmagatzematge-de-productes-quimics
END:VEVENT
END:VCALENDAR
