BEGIN:VCALENDAR
PRODID:-//github.com/rianjs/ical.net//NONSGML ical.net 2.2//EN
VERSION:2.0
BEGIN:VEVENT
CATEGORIES:Activitats
CREATED;TZID=Europe/Madrid:20260422T111214
DESCRIPTION:<b>CODI CIRCULAR: 37/10</b><br>\n<b>ORGANITZA: CETIT</b><br><b
 r>\nLa norma EN ISO 13849\, que quantifica la fiabilitat dels sistemes de
  comandament i substitueix la norma actual\, la EN 954-1\, que quedar? de
 finitivament anul?lada a finals de l'any 2011. La norma EN ISO 13849 perm
 et\, a m?s\, l'?s del software per a funcions de seguretat. <br><br>\n\nE
 l curs comen?ar? amb una breu exposici? del marc legal actual. Tot seguit
  entra en l'estrat?gia proposada per la identificaci?\, an?lisi i avaluac
 i? de risc\, aix? com les mesures de disseny inherentment segur\, protecc
 i? i informaci? adoptades en funci? de l'esmentada avaluaci?. <br><br>\n\
 nS'explicaran els diferents formularis que desenvolupen les normes harmon
 itzades\, alterant la part te?rica amb un cas pr?ctic que es proposa als 
 alumnes.<br><br>\n\n<b>DIRIGIT A: </b><br><br>\n\n?	Personal de fabricant
 s de maquin?ria que tingui la responsabilitat de redactar l'expedient t?c
 nic.<br>\n?	Personal d'empreses que utilitzin m?quines que sigui responsa
 ble de la seva adaptaci? o modificaci? per motius productius o necessitat
 s pr?pies de l'empresa.<br>\n?	Enginyeries i enginyers industrials i t?cn
 ics que assessorin els fabricants de maquin?ria.<br>\n?	T?cnics en preven
 ci? de riscos laborals.<br>\n?	Usuaris de maquin?ria industrial.<br>\n?	R
 esponsables de manteniment.<br><br>\n\n<b>PROGRAMA DEL CURS (24 hores): <
 /b><br><br>\n(Directiva de m?quines\, 2006/42/CE\; RD 1644/2008\, comerci
 alitzaci? i posada en servei de m?quines\; normes harmonitzades de la Dir
 ectiva de M?quines)<br><br>\n\n?	Breu exposici? del marc legal. <br>?	La 
 Directiva de m?quines i els requisits essencials de seguretat i salut.<br
 >\n?	L'expedient t?cnic\n<br>?	Normes harmonitzades de seguretat per a m?
 quines.<br>\n?	Com es construeix una m?quina d'acord amb la Directiva<br>
 \n?	L'expedient t?cnic de m?quines noves:<br><br>\n\no	Determinaci? dels 
 l?mits de la m?quina.<br>\no	Identificaci? de situacions perilloses.<br>\
 no	An?lisi i avaluaci? de riscos.<br>\no	Disseny inherentment segur.<br>\
 no	Protecci?.<br>\no	Funcions de seguretat.<br>\no	Els sistemes de comand
 ament.<br>\n\n\n\n\n\n\n\n\no	Categories de les parts del sistema de coma
 ndament responsables de les funcions de seguretat: redund?ncia i autocont
 rol. <br>o	Nivell de prestacions (PL\, Norma EN ISO 13849)<br><br>\n&#616
 07\;	Temps mitj? entre fallades perilloses (MTTFd)\n<br>&#61607\;	Cobertu
 ra del diagn?stic (DC)\n<br>&#61607\;	Fallades por causa comuna (CCF)\n<b
 r>&#61607\;	?s del software en funcions de seguretat<br><br>\no	Protecci?
  el?ctrica<br>\no	Criteris de selecci? de dispositius de protecci?<br>\no
 	Selecci? de dispositius de protecci? en funci? de l'an?lisi i avaluaci? 
 del risc<br><br>\n\n?	Informaci? als usuaris<br>\n?	Mesures preventives s
 uplement?ries<br>\n?	Parada d'emerg?ncia<br>\n?	Consignaci?<br>\n?	Evitac
 i? d'una posada en marxa intempestiva<br>\n?	Comprovaci? final del risc<b
 r><br>\n\n<b>PREU COL?LEGIAT:</b>  305 ? <br>\n<b>PREU NO COL?LEGIAT:</b>
   410 ?<br><br>\n\n<b>*** FORMACI? SUVENCIONADA A TRAV?S DE LA FUNDACI? T
 RIPARTITA\, SEGONS EL CR?DIT DE LA SEVA EMPRESA FINS A 315 ? ***</b><br><
 br><b>FORMACI? SUBVENCIONADA per treballadors del r?gim general ( excloso
 s aut?noms i ETT)<br><br>\nNou servei gratu?t de la gesti? del cr?dit anu
 al de les empreses per a la formaci? dels seus treballadors.<br><br>\n\nC
 ONTACTA'NS I T'INFORMAREM\, LA GESTI? ?S GRATU?TA!</b><br><br>\n\n<b>PROF
 ESSOR: </b>Alfons de Victoria\, enginyer industrial\, cap de seguretat de
  productes a la Subdirecci? general de seguretat industrial. Membre de do
 s comit?s t?cnics de normalitzaci? d'AENOR i de certificaci? d'APPLUS i B
 ureau Veritas\, amb llarga experi?ncia en el m?n de la ind?stria\, havent
  treballat en varis pa?sos.<br><br>\n<b>CALENDARI:</b> 7\, 8\, 10\, 14\, 
 15 i 17 de juny de 2010 (dilluns\, dimarts\, dijous)\, de 16 a 20 hores.<
 br><br>\n\n<b>DOCUMENTACI?:</b> es lliurar? documentaci? de seguiment.<br
 ><br>\n\n<b>CERTIFICACI?:</b> el CETIT lliurar? un certificat d'assist?nc
 ia al curs pr?via sol?licitud del participant. Assist?ncia m?nima obligat
 ?ria del 80 % de les hores lectives. <br><br>\n\n<b>LLOC:</b> Avinguda de
  Roma\, 7 de Tarragona. \n<br><br>\n<b>NOMBRE M?NIM / M?XIM D'ASSISTENTS:
  </b>15<br><br>\n\n<b>FORMA DE PAGAMENT:</b> Transfer?ncia banc?ria o ing
 r?s en efectiu al n?mero de compte 2073.0074.34.0110965962 de la Caixa de
  Tarragona\, (cal indicar al document justificatiu de pagament el nom de 
 la persona assistent i el nom de l'activitat).<br><br>\n\n<b>CONFIRMACI? 
 D'ASSIST?NCIA:</b> a l'administraci? del Col?legi al 977 251 877 a trav?s
  de l'adre?a electr?nica formacio@cetit.org.<br><br>\n\n<b>TERMINI D'INSC
 RIPCI? I DE PAGAMENT:</b>  31 de maig de 2010 o fins completar-se el nomb
 re m?xim d'inscripcions si ?s abans del termini.<br><br>\n\n\n\n\n		\n\n\
 n\n
DTEND;TZID=Europe/Madrid;VALUE=DATE:20100607
DTSTAMP:20260422T091214Z
DTSTART;TZID=Europe/Madrid;VALUE=DATE:20100606
LOCATION:https://www.enginyerstarragona.cat/agenda/details/761/761-curs-ma
 rcatge-ce-de-maquines-industrials
SEQUENCE:0
SUMMARY:Curs MARCATGE CE DE M?QUINES INDUSTRIALS
UID:ET_Activitat_761
URL:https://www.enginyerstarragona.cathttps://www.enginyerstarragona.cat/a
 genda/details/761/761-curs-marcatge-ce-de-maquines-industrials
END:VEVENT
END:VCALENDAR
