BEGIN:VCALENDAR
PRODID:-//github.com/rianjs/ical.net//NONSGML ical.net 2.2//EN
VERSION:2.0
BEGIN:VEVENT
CATEGORIES:Activitats
CREATED;TZID=Europe/Madrid:20260422T215648
DESCRIPTION:El nou virus ?s sens dubte un tipus de grip porcina\, ja que p
 rocedeix origin?riament d'una soca que infecta als porcs. Aquest origen h
 a donat lloc a la nomenclatura de "grip porcina"\, ?mpliament utilitzada 
 pels mitjans de comunicaci? en els primers dies de l'epid?mia.<br><br> \n
 \nL'Organitzaci? Mundial de la Salut va anunciar el dia 30 d'abril que d'
 ara en endavant es referiran a la malaltia com a grip A(H1N1) i al virus 
 com a "virus humans de la grip A(H1N1)" en lloc de "grip porcina"\, en un
  intent de no confondre el p?blic sobre els riscos dels productes de carn
  de porc.<br><br>\n\nLa confer?ncia s'estructura en dues parts: <br><br>\
 n\n- Informaci? t?cnica i m?dica sobre la pand?mia de la GRIP A. A c?rrec
  del Sr. Joan Guix i Oliver\, Director del Servei Regional al Camp de Tar
 ragona de l'Ag?ncia de Protecci? de la Salut de Catalunya.<br><br>\n- Con
 eixements necessaris per realitzar\, implantar\, gestionar i mantenir un 
 pla d'emerg?ncia  en cas de pand?mia de grip A a l'empresa. A c?rrec del 
 Sr. Josep A. Viudez i Carricondo\, T?cnic en Prevenci? de Riscos Laborals
  (seguretat en el treball). Coordinador del comit? de seguiment de la pan
 d?mia grip A i implantaci? del pla d'emerg?ncia  en la seva empresa.<br><
 br>\n\n<b>CALENDARI: </b>28 de setembre de 2009\, de 18.30 a 20 h.<br><br
 >\n<b>CONTINGUT DE LA CONFER?NCIA: </b>\n.<br><br>\n\n<b>?NDEX. PAND?MIA 
 GRIP A. PLA D'EMERG?NCIA </b><br><br>\n\n\n<b>A) INFORMACI? SOBRE LA PAND
 ?MIA GRIP A</b>-<br><br>	Informaci? important<br>\n-	Agent causal<br>\n-	
 Pand?mies del segle XX<br>\n-	Desenvolupament de la grip A al 2009-09-08<
 br>\n-	Definicions:epid?mia\,pand?mia i end?mia<br>\n-	Fases d'una pand?m
 ia<br>\n-	Origen del virus Grip A (H1N1)<br>\n-	Distribuci? de metges sen
 tinella a Catalunya<br>\n-	Signes i s?mptomes<br>\n-	Difer?ncies entre la
  grip estacional i la grip A<br>\n-	Algunes dades sobre la grip A<br>\n-	
 Eines<br>\n-	Acords del Consell Interterritorial. Grups diana<br>\n-	Reco
 manacions<br>\n-	Llocs de informaci?<br><br>\n\n\n<b>B) PLA D'EMERG?NCIA<
 /b><br><br>-	Objectiu<br>\n-	Per qu? un pla d'emerg?ncia:<br>\nLegislaci?
 <br>\nNormes internacionals<br>\nMotivacions<br>\n-	Gesti? del pla d'emer
 g?ncia<br>\n-	La pol?tica <br>\n-	Planificar<br>\n-	Dotar de recursos:<br
 >\nHumans<br>\nMaterials<br>\n-	Realitzar<br>\n-	Verificar i controlar<br
 >\n-	Actuar:<br>\nAccions correctives<br>\nAccions preventives<br>\n- Inf
 ormaci? b?sica sobre la pand?mia de grip A<br><br>\n\n<b>DOCUMENTACI?:</b
 > es lliurar? documentaci? de seguiment.<br><br>\n\n<b>LLOC: </b>A la seu
  del CETIT\, Av. de Roma\, 7 de Tarragona i transm?s per videoconfer?ncia
  a les instal?lacions de les Terres de l'Ebre\, carrer Mercaders\, 2 de T
 ortosa.<br><br>\n\n<b>NOTA: degut a la import?ncia del tema tractat sobre
  la pand?mia de la GRIP A\, tant pels mitjans de comunicacions de tot el 
 m?n com per les autoritats sanit?ries\, la Junta de Govern del CETIT i l'
 AETIGT han acordat cobrir les despeses d'aquesta confer?ncia esperant l'a
 ssist?ncia gatu?ta d'associats i col?legiats.<br><br> </b><b>PREU ASSOCIA
 T AETIGT: </b>6 ?<br><br>\n<b>PREU COL?LEGIAT CETIT:</b> 8 ?<br><br>\n<b>
 PREU NO COL?LEGIAT/ NO ASSOCIAT:</b> 10 ?<br><br>\n\n<b>CONFIRMACI? D'ASS
 IST?NCIA:</b> a l'administraci? del Col?legi al ( 977 251 877 o 902 076 7
 77 o a trav?s de l'adre?a electr?nica formacio@cetit.org.<br><br>\n<b>***
 NOTA ***: </b>Abans de fer el pagament cal verificar si resten places.<br
 ><br>\nLa confirmaci? d'assist?ncia implica l'obligaci? de pagament abans
  del termini.<br><br>\n<b>FORMA DE PAGAMENT:</b> Transfer?ncia banc?ria o
  ingr?s en efectiu al n?mero de compte 0081.0088.16.0001793085 del Banc d
 e Sabadell\, (cal indicar al document justificatiu de pagament el nom de 
 la persona assistent i el nom de l'activitat).<br><br>\n\n<b>TERMINI D'IN
 SCRIPCI?:</b> fins completar-se l'aforament m?xim de la Sala d'Actes.\n
DTEND;TZID=Europe/Madrid;VALUE=DATE:20090928
DTSTAMP:20260422T195648Z
DTSTART;TZID=Europe/Madrid;VALUE=DATE:20090927
LOCATION:https://www.enginyerstarragona.cat/agenda/details/721/721-confere
 ncia-sobre-la-grip-a-pla-demergencia-e
SEQUENCE:0
SUMMARY:Conferencia sobre LA GRIP A. PLA D'EMERG?NCIA EN CAS DE PAND?MIA D
 E GRIP A
UID:ET_Activitat_721
URL:https://www.enginyerstarragona.cathttps://www.enginyerstarragona.cat/a
 genda/details/721/721-conferencia-sobre-la-grip-a-pla-demergencia-e
END:VEVENT
END:VCALENDAR
