BEGIN:VCALENDAR
PRODID:-//github.com/rianjs/ical.net//NONSGML ical.net 2.2//EN
VERSION:2.0
BEGIN:VEVENT
CATEGORIES:Activitats
CREATED;TZID=Europe/Madrid:20260425T011132
DESCRIPTION:<b>CODI CIRCULAR: 52/09</b><br><br>S'ha organitzat una sortida
  de cap de setmana que tindr? lloc els propers dies <b>10\, 11 i 12 d'oct
 ubre de 2009</b>.<br><br>\n\nEs tracta d'una sortida cultural i gastron?m
 ica especial i exclusiva per col?legiats i/o associats que inclou l'assis
 t?ncia a una obra de teatre al<b> CORRAL DE LAS COMEDIAS </b>d'Almagro\, 
 un teatre conegut en tot el m?n ja que ?s l'?nic i m?s antic que roman ac
 tiu tal i com era fa casi quatre-cents anys (any 1628).<br><br>\n\nEl des
 pla?ament es far? en autocar i la <b>ruta</b> del viatge ?s la seg?ent: <
 br><br>\n\n<u>Primer dia:</u> Sortida des de Tarragona direcci? Ciudad Re
 al a l'hotel Paraiso 4*. Esmorzar en ruta (lliure). Arribada a Ciudad Rea
 l\, allotjament i dinar a l'hotel. A la tarda\, visita a la poblaci?. Sop
 ar a l'Hotel. <br><br>\n\n<u>Segon dia:</u> Esmorzar a l'hotel. Visita al
  Palau del Marqu?s de Santa Cruz (on es guarda l'arxiu de la Marina Espan
 yola) a la poblaci? El Viso del Marqu?s. Seguidament\, es visitar? la pob
 laci? de Las Virtudes\, on destaca el santuari del mateix nom i l'?nica p
 la?a de bous quadrada que hi ha a Espa?a. Dinar a l'hotel. A la tarda vis
 ita a la poblaci? d' Almagro. <br><br>\n\nA les 20.30 hores s'assistir? a
  una representaci? de teatre al <b>Corral de las Comedias</b>. Sopar a l'
 hotel. A la nit festa i ball a l'hotel.<br><br>\n\n<u>Tercer dia:</u> Esm
 orzar a l'hotel. Sortida cap a Ruidera\, llacunes d'aigua cristal?lina i 
 cascades transparents. Seguidament es visitar? el Castillo de Pe?arroya. 
 Dinar a la poblaci? d'Argamasilla de Alba. Arribada a casa sobre les 21 h
 ores.<br><br>\n\n<b>PREU COL?LEGIAT o FAMILIAR DIRECTE: </b>300 ?/ person
 a<br>\nSi resten places es podran inscriure persones no vinculades al CET
 IT/ AETIGT\, amb un increment del 30 %. <br><br>\n\n<u><b>El preu inclou:
 </b></u> transport amb autocar\, les 2 nits d'allotjament hotel de 4*\, r
 egim de pensi? complerta amb men?s gastron?mics i begudes incloses\, visi
 tes amb entrades i guies segons programa\, asseguran?a del viatge i guia 
 acompanyant.<br><br>\n\n<b>NOMBRE M?NIM D'ASSISTENTS:</b> 30.<br><br>\n\n
 <b>NOTA: </b>Si no s'arrib?s al m?nim d'assist?ncia necessari per realitz
 ar el viatge existeix la possibilitat d'adherir-se amb un altre grup de p
 ersones no vinculades al CETIT/ AETIGT.<br><br>\n\n<b>TERMINI D'INSCRIPCI
 ? I DE PAGAMENT:</b> 25 de setembre de 2009.<br><br>\n\n<b>***NOTA ***: <
 /b>Abans de fer el pagament cal verificar si resten places.<br><br>\nLa c
 onfirmaci? d'assist?ncia implica l'obligaci? de pagament abans del termin
 i.<br>\n\n<b>FORMA DE PAGAMENT:</b> Transfer?ncia banc?ria o ingr?s en ef
 ectiu al n?mero de compte 2073.0074.34.0110965962 de la Caixa de Tarragon
 a\, (cal indicar al document justificatiu de pagament el nom de la person
 a assistent i el nom de l'activitat).<br><br>\n\n<b>CONFIRMACI? D'ASSIST?
 NCIA:</b> a l'administraci? del Col?legi al  977 251 877 o 902 076 777 o 
 a trav?s de l'adre?a electr?nica formacio@cetit.org.\n<br><br>
DTEND;TZID=Europe/Madrid;VALUE=DATE:20091010
DTSTAMP:20260425T231132Z
DTSTART;TZID=Europe/Madrid;VALUE=DATE:20091009
LOCATION:https://www.enginyerstarragona.cat/agenda/details/720/720-sortida
 -a-la-tierra-del-quijote
SEQUENCE:0
SUMMARY:Sortida a LA TIERRA DEL QUIJOTE
UID:ET_Activitat_720
URL:https://www.enginyerstarragona.cathttps://www.enginyerstarragona.cat/a
 genda/details/720/720-sortida-a-la-tierra-del-quijote
END:VEVENT
END:VCALENDAR
