BEGIN:VCALENDAR
PRODID:-//github.com/rianjs/ical.net//NONSGML ical.net 2.2//EN
VERSION:2.0
BEGIN:VEVENT
CATEGORIES:Activitats
CREATED;TZID=Europe/Madrid:20260421T203656
DESCRIPTION:<b>CODI CIRCULAR: 50/09</b><br><br><br>\nEs parlar? del Reglam
 ent i la seva afectaci? amb l'objectiu d'aconseguir un consens de criteri
 s m?nims i de resoldre problem?tiques de la nostra feina del dia a dia\, 
 des de la redacci? del projecte a l'execuci? de l'obra\, la legalitzaci? 
 de la instal?laci?\, el manteniment i les posteriors inspeccions peri?diq
 ues.<br><br>\n<b>DATA I HORARI:</b> 29 de setembre de 2009\, de 18 a 21 h
 ores.<br><br>\n<b>CONTINGUT DE LA JORNADA: </b><br><br>\n\n- Reglament d'
 Efici?ncia Energ?tica. Enllumenat exterior RD 1890/2008.<br>\n- Afectaci?
  del Reglament als fabricants de llums: producte i c?lculs luminot?cnics.
  Documentaci? a incloure al projecte. Cas pr?cti. <br>\n- Decret de conta
 minaci? lum?nica Llei 6/2001 de 31 de maig d'Ordenaci? ambiental de l'enl
 lumenat per a la protecci? del medi nocturn i el Decret 82/2005 del 3 de 
 maig pel qual s'aprova el Reglament de desplegament de la llei 6/2001.<br
 ><br>\n\n<b>DOCUMENTACI?:</b> es lliurar? documentaci? de seguiment.<br><
 br>\n\n<b>PONENTS:</b><br>\nManuel Diez\, Director T?cnic T?V RHEILAND IB
 ERICA INSPECTION & TESTING\, S.A. <br>\nFrancesc Cavaller\, Cap de projec
 tes de l'empresa Carandinni.<br>\nMontserrat Freixa\, Cap de la secci? de
  Medi Ambient d'ICICT.<br><br>\n		\n<b>LLOC: </b>instal?lacions de les Te
 rres de l'Ebre\, carrer Mercaders\, 2 de Tortosa i transm?s per videoconf
 er?ncia a la seu del CETIT\, a l'avinguda de Roma\, 7 de Tarragona.<br><b
 r>\n\n<b>CONFIRMACI? D'ASSIST?NCIA:</b> a l'administraci? del Col?legi al
  977 251 877 o 902 076 777 o a trav?s de l'adre?a electr?nica formacio@ce
 tit.org.<br><br>\n\n<b>TERMINI D'INSCRIPCI?:</b> 25 de setembre de 2009 o
  fins completar-se l'aforament m?xim de la Sala d'Actes.<br><br>\n\n<b>IN
 SCRIPCI? GRATU?TA.</b>
DTEND;TZID=Europe/Madrid;VALUE=DATE:20090929
DTSTAMP:20260421T183656Z
DTSTART;TZID=Europe/Madrid;VALUE=DATE:20090928
LOCATION:https://www.enginyerstarragona.cat/agenda/details/717/717-jornada
 -daplicacio-del-reglament-deficiencia
SEQUENCE:0
SUMMARY:Jornada d'aplicaci? del REGLAMENT D'EFICI?NCIA ENERG?TICA. ENLLUME
 NAT EXTERIOR (RD 1890/2008)
UID:ET_Activitat_717
URL:https://www.enginyerstarragona.cathttps://www.enginyerstarragona.cat/a
 genda/details/717/717-jornada-daplicacio-del-reglament-deficiencia
END:VEVENT
END:VCALENDAR
