BEGIN:VCALENDAR
PRODID:-//github.com/rianjs/ical.net//NONSGML ical.net 2.2//EN
VERSION:2.0
BEGIN:VEVENT
CATEGORIES:Activitats
CREATED;TZID=Europe/Madrid:20260424T084644
DESCRIPTION:La classificaci? d'empla?aments perillosos per gasos i vapors 
 es fa emprant la Norma EN 60079-10\, per? aquesta norma parteix del sup?s
 it de que s?n conegudes una s?rie de dades (taxa i grau d'escapament\, gr
 au de ventilaci?\, efic?cia de la ventilaci?\, etc) que sovint ofereixen 
 molts dubtes. \n<br><br>\nEl document Informe UNE 20207 IN-Guia d'aplicac
 i? de la Norma EN 60079-10 recull un bon nombre de f?rmules experimentals
 \, valors quantitatius i criteris de bones pr?ctiques per ajudar a precis
 ar els resultats de la classificaci? en zones.<br><br>\n\n?s per aix? que
  s'ha organitzat aquest curs amb l'objectiu de que l'alumne\, en acabar e
 l curs\, sigui capa? de: <br><br>\n\n- Identificar l'exist?ncia d'una atm
 osfera explosiva.<br>\n- Classificar l'?rea i quantificar-la (volum de l'
 atmosfera\, geometria\, durada\, etc).<br>\n- Decidir correctament sobre 
 l'eventual aplicaci? de sistemes de control de l'explosivitat de l'atmosf
 era.<br><br>\n\n<b>DIRIGIT A: </b>usuaris que puguin tenir una ATEX en el
 s seus locals o recintes\, projectistes d'instal?lacions que puguin estar
  en o generar una ATEX\, responsables de manteniment\, responsables de pr
 evenci? de riscos laborals\, responsables de serveis de prevenci?\, fabri
 cants de maquin?ria amb riscos d'incendi o explosi?\, fabricant de maquin
 ?ria que no presenti risc d'incendi o explosi? per? que estigui destinada
  a funcionar en zones classificades ATEX\, fabricants de qualsevol produc
 te destinat a zones classificades ATEX o que pugui crear-les\, enginyers\
 , enginyeries i consultories de tot l'anterior. <br><br>\n\n<b>DATES I HO
 RARI:</b> 7 i 8 de maig de 2008\, de 17 a 21 hores.<br><br>\n\n<b>PROGRAM
 A DEL CURS (8 hores):</b><br><br>\n\n- Determinaci? d'empla?aments.<br>\n
 - Control de l'explosivitat de l'atmosfera: criteris quantitatius.<br>\n-
  Casos pr?ctics: plantejament i resoluci? de varis casos pr?ctics.<br>\n-
 Col?loqui.<br><br>\n\n<b>NOTA:</b> els casos pr?ctics es resoldran amb l'
 ajut d'un programari que es lliura en CD. ?s recomanable (no imprescindib
 le) portar ordinador port?til a fi i efecte d'utilitzar el programari al 
 mateix temps que el ponent.<br><br>\n\n<b>DOCUMENTACI?:</b> es lliurar? d
 ocumentaci? de seguiment del curs i un CD amb el programari per realitzar
  el cas pr?ctic. <br><br>\n\n<b>PROFESSOR:</b> Alfons de Vict?ria i Pou\,
  Cap de Seguretat de productes industrials a la sotsdirecci? general de s
 eguretat industrial\, de la Generalitat de Catalunya. Membre de dos comit
 ?s t?cnics de normalitzaci? d'AENOR.<br><br>\n\n<b>CERTIFICACI?: </b>es l
 liurar? un certificat d'assist?ncia al curs. Assist?ncia m?nima obligat?r
 ia del 80 % de les hores lectives.<br><br>\n\n<b>LLOC: </b>Avinguda de Ro
 ma\, 7 de Tarragona.<br><br>\n\n<b>PREU COL?LEGIAT/ NO COL?LEGIAT:</b> 70
 / 100 ?<br><br>\n\n<b>NOMBRE M?NIM/ M?XIM D'ASSISTENTS: </b>20/30<br><br>
 \n\n<b>***NOTA***: </b>Abans de fer el pagament cal verificar si resten p
 laces. No es considerar? ferma la inscripci? si el pagament no es fa efec
 tiu abans del termini. <br><br>\n\n<b>FORMA DE PAGAMENT: </b>Transfer?nci
 a banc?ria o ingr?s en efectiu al n?mero de compte 2073.0074.34.011096596
 2 de la Caixa de Tarragona\, (cal indicar al document justificatiu de pag
 ament el nom de la persona assistent i el nom de l'activitat).<br><br>\n\
 n<b>CONFIRMACI? D'ASSIST?NCIA:</b> a l'administraci? del Col?legi al tel.
  977 251 877 o 902 076 777 o a trav?s de l'adre?a electr?nica formacio@ce
 tit.org.<br><br>\n\n<b>TERMINI D'INSCRIPCI?: </b>28 d'abril de 2008 o fin
 s completar-se el nombre m?xim d'assistents.\n\n
DTEND;TZID=Europe/Madrid;VALUE=DATE:20000805
DTSTAMP:20260424T064644Z
DTSTART;TZID=Europe/Madrid;VALUE=DATE:20000804
LOCATION:https://www.enginyerstarragona.cat/agenda/details/619/619-curs-so
 bre-informe-une-20207-in-guia-daplicac
SEQUENCE:0
SUMMARY:Curs sobre INFORME UNE 20207 IN-GUIA D'APLICACI? DE LA NORMA EN 60
 079-10  PER LA CLASSIFICACI? DE GASOS PERILLOSOS
UID:ET_Activitat_619
URL:https://www.enginyerstarragona.cathttps://www.enginyerstarragona.cat/a
 genda/details/619/619-curs-sobre-informe-une-20207-in-guia-daplicac
END:VEVENT
END:VCALENDAR
