BEGIN:VCALENDAR
PRODID:-//github.com/rianjs/ical.net//NONSGML ical.net 2.2//EN
VERSION:2.0
BEGIN:VEVENT
CATEGORIES:Activitats
CREATED;TZID=Europe/Madrid:20260422T060823
DESCRIPTION:S'ha organitzat un curs sobre el funcionament\, selecci? i ope
 raci? de bombes centr?fugues\, dirigit a enginyers t?cnics o supervisors 
 que estiguin involucrats amb bombes centr?fugues. <br><br>\n<b>OBJECTIU: 
 </b>optimitzar el sistema\, reduir costos\, estalvi energ?tic i disminuci
 ? de l'impacte ambiental. Con?ixer el funcionament\, l'adequada selecci? 
 de l'equip de bombeig aix? com identificar i resoldre els problemes t?pic
 s de l'operaci?. <br><br>\n<b>PROGRAMA DEL CURS: </b><br>\n1.	Introducci?
  a les m?quines hidr?uliques : hist?ria\, classificaci? (volum?triques\, 
 rotodin?miques). <br>\n2.	Termes hidr?ulics: definicions\, unitats i apar
 ells a mida.\nCasos pr?ctics: c?lcul de pressions aplicat a diferents tip
 us de l?quids i a sistemes de bombeig.<br>\n3.	Principis b?sics de les bo
 mbes.\nCasos pr?ctics: c?lcul de la corba del sistema i correcci? de la c
 orba per viscositat.<br>\n4.	Cavitaci?.\nCasos pr?ctics: c?lcul del NPHS 
 disponible.<br>\n5.	Control i operaci? de les bombes centr?fugues: v?lvul
 a de control\, bombes en paral?lel i en s?rie\, variacions de velocitat d
 e gir i del di?metre del rodet\, sistema ?bypass?.\nCasos pr?ctics: varis
 .<br>\n6.	Disseny hidr?ulic i mec?nic de les bombes centr?fugues.<br>\n7.
 	Tipus b?sics de bombes hidr?uliques d'enginyeria.<br>\n8.	Selecci? de bo
 mbes centr?fugues.<br><br><b>DOCUMENTACI?:</b> es lliurar? documentaci? d
 e seguiment del curs.<br><br>\n<b>PROFESSORA:  </b>Sra. Paloma Paleo Cage
 ao\, Enginyera Industrial\, amb m?s de nou anys d'experi?ncia en Flowserv
 e com a cap de projecte. Instructora de cursos i jornades sobre fonaments
  de bombes hidr?uliques\, sistemes i vibracions dels equips rotatius.<br>
 <br>\n\n<b>CALENDARI: </b>del 2 al 23 de maig\, dilluns\, dimecres i dijo
 us de 19 a 21 hores.<br><br>\n\n<b>LLOC: </b>Avinguda de Roma\, 7 de Tarr
 agona.<br><br>\n\n<b>PREU COL?LEGIAT / NO COL?LEGIAT: </b>70/90 ?<br><br>
 \n\n<b>NOMBRE M?NIM / M?XIM D'ASSITENTS: </b>15/30 <br><br>\n\n<b>TERMINI
  D'INSCRIPCI? I DE PAGAMENT:</b> 26 d'abril de 2007 o fins completar-se e
 l nombre m?xim d'assistents.<br><br>\n\n<b>***NOTA***:</b> Abans de fer e
 l pagament cal verificar si resten places. No es considerar? ferma la ins
 cripci? si el pagament no es fa efectiu abans del termini. <br><br>\n\n\n
 <b>FORMA DE PAGAMENT: </b>Transfer?ncia banc?ria o ingr?s en efectiu al n
 ?mero de compte 2073.0074.34.0110965962 de la Caixa de Tarragona\, (cal i
 ndicar al document justificatiu de pagament el nom de la persona assisten
 t i el nom de l'activitat).<br><br>\n\n<b>CONFIRMACI? D'ASSIST?NCIA:</b> 
 a l'administraci? del Col?legi al 977 251 877 o 902 076 777 o a l'adre?a 
 electr?nica formacio@cetit.org.<br><br>\n
DTEND;TZID=Europe/Madrid;VALUE=DATE:20070504
DTSTAMP:20260422T040823Z
DTSTART;TZID=Europe/Madrid;VALUE=DATE:20070503
LOCATION:https://www.enginyerstarragona.cat/agenda/details/519/519-curs-bo
 mbes-centrifugues-funcionament-selecci
SEQUENCE:0
SUMMARY:Curs BOMBES CENTR?FUGUES: FUNCIONAMENT\, SELECCI? I OPERACI?
UID:ET_Activitat_519
URL:https://www.enginyerstarragona.cathttps://www.enginyerstarragona.cat/a
 genda/details/519/519-curs-bombes-centrifugues-funcionament-selecci
END:VEVENT
END:VCALENDAR
