BEGIN:VCALENDAR
PRODID:-//github.com/rianjs/ical.net//NONSGML ical.net 2.2//EN
VERSION:2.0
BEGIN:VEVENT
CATEGORIES:Activitats
CREATED;TZID=Europe/Madrid:20260419T155709
DESCRIPTION:Aquesta aula t? coma  objectiu donar a con?ixer a arquitectes\
 , enginyers\, municipis i altres professionals\, eines i m?todes que perm
 etin desenvolupar models d'orientaci? territorial i urbana amb criteris a
 mbientals<br>\n<br>\n\n\nLes ciutats acullen el 80 %de la poblaci? d'una 
 regi?. ?s en elles on es desenvolupa la major part de l'activitat econ?mi
 ca i el desenvolupament regional. No obstant\, les necessitats d'una ciut
 at impliquen un gran consum energ?tic\, una acumulaci? de residus notable
 \, i contribueixen en bona mesura a la contaminaci? ambiental. <br>\n<br>
 \n\n\nExisteix un ampli ventall de conceptes i tecnologies que poden mill
 orar l'efici?ncia energ?tica dels adificis aix? com optimitzar-ne el cons
 um d'electricitat i aigua\, i reduir les emissions de CO2  i l'impacte am
 biental derivat de la seva construcci? \, gesti? i deconstrucci?. Si aix?
  s'aconsegueix\, tindrem ciutats que practicaran un bon ?s dels recursos\
 , i m?s respectuoses amb el medi ambient que ens permetran reduir les emi
 ssions del CO2 i d'altres gasos d'efecte hivernacle\, i complir aix? amb 
 els requisits del Protocol de Kyoto.<br>\n<br>\n\n\n<b>LLOC DE REALITZACI
 ?: </b>\nSala de Graus\, Facultat de Ci?ncies Jur?diques\, Av. Catalunya\
 , 35 de Tarragona<br>\n\n<b>PER A M?S INFORMACI?:</b>\n Fundaci? privada 
 T?rraco Energia Local\, 977 225460<br><br>\n\n\n\n<b>GRATU?T PER ALS COL?
 LEGIATS I ESTUDIANTS ADHERITS AL COL?LEGI D'ENGINYERS T?CNICS INDUSTRIALS
  DE TARRAGONA</b><br>\n\n\n<b>RECONEIXEMENT DE 1.5 CR?DITS DE LLIURE ELEC
 CI?</b>\n
DTEND;TZID=Europe/Madrid;VALUE=DATE:20050506
DTSTAMP:20260419T135709Z
DTSTART;TZID=Europe/Madrid;VALUE=DATE:20050505
LOCATION:https://www.enginyerstarragona.cat/agenda/details/286/286-7a-aula
 -decoconstruccio
SEQUENCE:0
SUMMARY:7a AULA D'ECOCONSTRUCCI?
UID:ET_Activitat_286
URL:https://www.enginyerstarragona.cathttps://www.enginyerstarragona.cat/a
 genda/details/286/286-7a-aula-decoconstruccio
END:VEVENT
END:VCALENDAR
