BEGIN:VCALENDAR
PRODID:-//github.com/rianjs/ical.net//NONSGML ical.net 2.2//EN
VERSION:2.0
BEGIN:VEVENT
CATEGORIES:Activitats
CREATED;TZID=Europe/Madrid:20260419T174008
DESCRIPTION:<b><i>CONDUCCI? D'EQUIPS DE TREBALL:  EL REPTE DE LIDERAR PERS
 ONES EN LES ORGANITZACIONS DEL SEGLE XXI</b></i><br>\n<br>\n\n\n<b>ADRE?A
 T:</b>\n A empresaris i t?cnics\, responsables d'equips de persones i/o r
 esponsables de projectes. <br>\n\n<b>OBJECTIUS</b>\n: Identificar i entre
 nar les compet?ncies essencials de lideratge\, en un entorn organitzatcio
 nal din?mic i incert <br>\n\n<b>DATES: </b>\n02/05/2005 AL 06/06/2005 de 
 17.30 a 21.458 h <br>\n\n<b>LLOC:</b>\n Centre de Formaci?  permanent de 
 la FURV: Mas Miarnau\, Avda. Once de Setembre\, 112 de Reus<br>\n\n<b>DUR
 ADA: </b>\n21 hores <br>\n\n<b>PREU: </b>\n119 ?<br>\n<br>\n<br>\n<b><i>M
 OTIVAR VERS UN PROJECTE EMPRESARIAL. T?CNIQUES A APLICAR</b></i><br>\n<br
 >\n<b>ADRE?AT:</b>\n T?cnics i directius responsables d'equips de persone
 s i projectes . <br>\n\n<b>OBJECTIUS</b>\n: Con?ixer les claus sobre la m
 otivaci? humana. Treballar la motivaci? interna i externa que estimulen l
 'activitat de les persones des d'una perspectiva emp?tica<br>\n\n<b>DATES
 : </b>\n08/06/2005 AL 29/06/2005\, dilluns i dimecres  de 18.30 a 21.30 h
  <br>\n\n<b>LLOC:</b>\n Centre de Transfer?ncia de Tecnologia de la FURV:
   Avda. Pa?sos Catalans\, 18 CAMPUS SESCELADES\, Tarragona<br>\n\n<b>DURA
 DA: </b>\n21 hores <br>\n\n<b>\nPREU:</b>\n 119 ?<br>\n<br>\n<br>\n\n<b>M
 ?S INFORMACI?: </b>\nPilar ?lvarez\, 977 558694 \n\n
DTEND;TZID=Europe/Madrid;VALUE=DATE:20050629
DTSTAMP:20260419T154008Z
DTSTART;TZID=Europe/Madrid;VALUE=DATE:20050628
LOCATION:https://www.enginyerstarragona.cat/agenda/details/279/279-cursos-
 ofertats-per-la-furv
SEQUENCE:0
SUMMARY:CURSOS OFERTATS PER LA FURV
UID:ET_Activitat_279
URL:https://www.enginyerstarragona.cathttps://www.enginyerstarragona.cat/a
 genda/details/279/279-cursos-ofertats-per-la-furv
END:VEVENT
END:VCALENDAR
