BEGIN:VCALENDAR
PRODID:-//github.com/rianjs/ical.net//NONSGML ical.net 2.2//EN
VERSION:2.0
BEGIN:VEVENT
CATEGORIES:Activitats
CREATED;TZID=Europe/Madrid:20260419T140547
DESCRIPTION:Un any m?s\, s&#8217\;organitza aquest curs i s&#8217\;adre?a 
 a tots aquells fabricants de maquin?ria que tinguin la responsabilitat de
  redactar l&#8217\;expedient t?cnic prescrit a la Directiva de m?quines\,
  al personal d&#8217\;empreses que utilitzin equips de treball amb respon
 sabilitat del projecte d&#8217\;adaptaci? de les m?quines antigues i llur
 s llocs de treball a les disposicions m?nimes\, i la seva justificaci? do
 cumental.  \n<br><br>\n\n\nAquest anir? a c?rrec del senyor Alfons de Vic
 t?ria i Pou\, Cap de la secci? de Certificaci? i Assaig\, de la Direcci? 
 General  de Consum i Seguretat Industrial\, del Departament d&#8217\;Ind?
 stria\, Comer? i Turisme de la Generalitat  de Catalunya.<br>\n<br>\n\n<b
 >PROGRAMA DEL CURS</b>\n<br><br>\n\n\n \n?	Breu exposici? del marc legal<
 br>\n\n?	Paral?lelisme entre la Directiva de m?quines i el R.D 1215/1997:
  els requisits essencials de la DM i les disposicions m?nimes del R.D  12
 15.<br>\n\n?	Paral?lelisme entre l&#8217\;expedient t?cnic del fabricant 
 de m?quines noves i el projecte de posada en  conformitat  (PPC) de l&#82
 17\;empresari usuari de m?quines antigues<br>\n\n?	Concepte de la posada 
 en conformitat segons el R.D 1215/1997<br>\n\n?	Normes harmonitzades de s
 eguretat per a m?quines<br>\n\n?	L&#8217\;expedient t?cnic de m?quines no
 ves i el projecte complet de posada en conformitat de m?quines usades<br>
 \n	\n?	Informaci? als usuaris<br>\n\n?	Precaucions addicionals <br>\n\n?	
 Comprovaci? final del risc<br><br>\n<b>HORARI: </b>\n de 17:00 a 21:00 ho
 res<br><br>\n\n<b>LLOC DE REALITZACI?:</b>\n A la Sala d&#8217\;Actes de 
 la seu del Col?legi\, Av. de Roma\, 7 de Tarragona<br>\n<br>\n\n<b>DOCUME
 NTACI?: </b>\nEs lliurar? documentaci? a l&#8217\;inici del curs<br>\n<br
 >\n\n<b>NOMBRE M?NIM/NO COL?LEGIATS: </b>\n150/200 ?<br>\n<br>\n\n<b>FORM
 A DE PAGAMENT: </b>\nTransfer?ncia banc?ria o ingr?s en efectiu al n?mero
  de compte 0081.0088.19.0001081810\, del Banc de Sabadell (?s necessari i
 ndicar al document justificatiu de pagament nom de la persona assistent i
  nom de l&#8217\;activitat)<br>\n<br>\n\n<b>CONFIRMACI? D&#8217\;ASSIST?N
 CIA:</b>\n Cal confirmar l&#8217\;assist?ncia a secretaria del Col?legi\,
  abans del termini d&#8217\;inscripci?\, al 977 251 877
DTEND;TZID=Europe/Madrid;VALUE=DATE:20030530
DTSTAMP:20260419T120547Z
DTSTART;TZID=Europe/Madrid;VALUE=DATE:20030529
LOCATION:https://www.enginyerstarragona.cat/agenda/details/24/24-curs-marc
 atge-ce-de-maquines-noves-i-adequaci
SEQUENCE:0
SUMMARY:CURS MARCATGE CE DE M?QUINES NOVES I ADEQUACI? DE M?QUINES ANTIGUE
 S AL R.D 1215/1997
UID:ET_Activitat_24
URL:https://www.enginyerstarragona.cathttps://www.enginyerstarragona.cat/a
 genda/details/24/24-curs-marcatge-ce-de-maquines-noves-i-adequaci
END:VEVENT
END:VCALENDAR
