BEGIN:VCALENDAR
PRODID:-//github.com/rianjs/ical.net//NONSGML ical.net 2.2//EN
VERSION:2.0
BEGIN:VEVENT
CATEGORIES:Protecci? contraincendis
CREATED;TZID=Europe/Madrid:20260420T093247
DESCRIPTION:<input type="hidden" style="width: 100px\; height: 22px\;"><st
 rong></strong><table class="table"><input type="hidden" style="width: 100
 px\; height: 22px\;">\n	<tbody><input type="hidden" style="width: 100px\;
  height: 22px\;"><tr>\n		<td style="width:100px\; text-align: left\;">Org
 anitza:&nbsp\;</td>\n		<td style="text-align: left\;">ENGINYERS TARRAGONA
 </td>\n	</tr>\n	<tr>\n		<td style="width:100px\; text-align: left\;">Date
 s:</td>\n		<td style="text-align: left\;">15\, 16 i 17 de desembre&nbsp\;
  (dilluns\, dimarts\, dimecres)<br></td>\n	</tr>\n	<tr>\n		<td style="wid
 th:100px\; text-align: left\;">Horari:</td>\n		<td style="text-align: lef
 t\;">De&nbsp\; les 15.00h a les 18.00h</td>\n	</tr>\n	\n	<tr>\n		<td styl
 e="width:100px\; text-align: left\;">Durada:</td><td style="text-align: l
 eft\;">9 hores lectives</td>\n	</tr>\n	<tr><td style="width:100px\; text-
 align: left\;">Dirigit a:</td><td style="text-align: justify\;">Enginyeri
 es i entitats de control.<br></td></tr><tr><td style="width:100px\; text-
 align: left\;">Objectius:</td><td style="text-align: justify\;">Que la ge
 nt entengui la situaci? reglament?ria avui dia a Catalunya sobre els sist
 emes de ruixadors autom?tics i l'?s de la norma UNE 12845 per a un apropa
 ment en el seu disseny i comprensi? de la norma.<br></td></tr>\n\n<tr><td
  style="width:100px\; text-align: left\;">Programa:</td><td style="text-a
 lign: justify\;"><ul><li><strong>Requisits&nbsp\;Normatius&nbsp\;(3h)</st
 rong><ul><li>CTE</li><li>RSCIEI</li><li>RIPCI</li><li>Normatives Internac
 ionals&nbsp\;NFPA&nbsp\;/ FM</li><li>Altres&nbsp\;Requisits&nbsp\;Locals<
 /li></ul></li></ul><ul><li><strong>Sistemes de Ruixadors segons UNE 12845
  (2h)</strong><ul><li>Definicions</li><li>Tipus de ruixadors</li><li>Tipu
 s d'instal?lacions</li><li>Classificaci? d'usos i classes de Riscos</li><
 li>Tipus d'Emmagatzematges.</li></ul></li></ul><ul><li><strong>Disseny de
  Ruixadors segons UNE 12845 (3h)</strong><ul><li>Disseny amb&nbsp\;CMDA</
 li><li>Disseny amb&nbsp\;CMDA&nbsp\;precalculat/ Hidr?ulic</li><li>Dissen
 y amb&nbsp\;CMSA&nbsp\;(Annex N)</li><li>Disseny amb&nbsp\;ESFR&nbsp\;(An
 nex P)</li></ul></li></ul><ul><li><strong>Exemples pr?ctics (1h)</strong>
 </li></ul></td></tr><tr><td style="width:100px\; text-align: left\;">Legi
 slaci? i normativa aplicable:</td><td style="text-align: left\;">CTE\,\nR
 SCIEI\, RIPCI\, SP i UNE 12845.<br></td></tr><tr><td style="width:100px\;
  text-align: left\;">Documentaci?:&nbsp\;</td><td style="text-align: left
 \;">La documentaci? estar? disponible a la plataforma entre 24 i 48 hores
  abans de l?inici de la formaci?. En el cas que hi hagi documentaci? addi
 cional una vegada finalitzada la formaci?\, us la facilitarem posteriorme
 nt.<br></td></tr><tr><td style="width:100px\; text-align: left\;">Certifi
 caci?:&nbsp\;</td><td style="text-align: left\;">Una vegada finalitzada l
 ?acci? formativa\, els alumnes obtindran un certificat d?assist?ncia que 
 es podran descarregar a la plataforma.<br></td></tr><tr><td style="width:
 100px\; text-align: left\;">Instruccions per bonificar:<br></td><td style
 ="text-align: left\;"><p>1. Sol?licita els impresos al CETIT a formacio@e
 nginyerstarragona.cat</p><p>2. Aporta tota la informaci? 10 dies naturals
  abans de l'inici del curs.</p><p>3. NOTA IMPORTANT: les bonificacions es
  porten a terme per mitj? d'una assessoria externa. Aquells que vulguin a
 collir-se a la bonificaci? de qualsevol acci? formativa\, el preu s'incre
 mentar? en un 20 % ( que tamb? es podr? bonificar i recuperar).</p><p><st
 rong>*Import m?xim 150 ? (per empresa sol?licitant\, independentment del 
 nombre de treballadors que bonifiquin)</strong><br></p></td></tr></tbody>
 </table>
DTEND;TZID=Europe/Madrid:20251215T180000
DTSTAMP:20260420T073247Z
DTSTART;TZID=Europe/Madrid:20251215T150000
LOCATION:https://www.enginyerstarragona.cat/agenda/details/2204/2204-curs-
 ruixadors-automatics-reglamentacio-disse
SEQUENCE:0
SUMMARY:[CURS] RUIXADORS AUTOM?TICS: REGLAMENTACI?\, DISSENY I ?S DE LA NO
 RMA UNE 12845. Modalitat streaming
UID:ET_Activitat_2204
URL:https://www.enginyerstarragona.cathttps://www.enginyerstarragona.cat/a
 genda/details/2204/2204-curs-ruixadors-automatics-reglamentacio-disse
END:VEVENT
BEGIN:VEVENT
CATEGORIES:Protecci? contraincendis
CREATED;TZID=Europe/Madrid:20260420T093247
DESCRIPTION:<input type="hidden" style="width: 100px\; height: 22px\;"><st
 rong></strong><table class="table"><input type="hidden" style="width: 100
 px\; height: 22px\;">\n	<tbody><input type="hidden" style="width: 100px\;
  height: 22px\;"><tr>\n		<td style="width:100px\; text-align: left\;">Org
 anitza:&nbsp\;</td>\n		<td style="text-align: left\;">ENGINYERS TARRAGONA
 </td>\n	</tr>\n	<tr>\n		<td style="width:100px\; text-align: left\;">Date
 s:</td>\n		<td style="text-align: left\;">15\, 16 i 17 de desembre&nbsp\;
  (dilluns\, dimarts\, dimecres)<br></td>\n	</tr>\n	<tr>\n		<td style="wid
 th:100px\; text-align: left\;">Horari:</td>\n		<td style="text-align: lef
 t\;">De&nbsp\; les 15.00h a les 18.00h</td>\n	</tr>\n	\n	<tr>\n		<td styl
 e="width:100px\; text-align: left\;">Durada:</td><td style="text-align: l
 eft\;">9 hores lectives</td>\n	</tr>\n	<tr><td style="width:100px\; text-
 align: left\;">Dirigit a:</td><td style="text-align: justify\;">Enginyeri
 es i entitats de control.<br></td></tr><tr><td style="width:100px\; text-
 align: left\;">Objectius:</td><td style="text-align: justify\;">Que la ge
 nt entengui la situaci? reglament?ria avui dia a Catalunya sobre els sist
 emes de ruixadors autom?tics i l'?s de la norma UNE 12845 per a un apropa
 ment en el seu disseny i comprensi? de la norma.<br></td></tr>\n\n<tr><td
  style="width:100px\; text-align: left\;">Programa:</td><td style="text-a
 lign: justify\;"><ul><li><strong>Requisits&nbsp\;Normatius&nbsp\;(3h)</st
 rong><ul><li>CTE</li><li>RSCIEI</li><li>RIPCI</li><li>Normatives Internac
 ionals&nbsp\;NFPA&nbsp\;/ FM</li><li>Altres&nbsp\;Requisits&nbsp\;Locals<
 /li></ul></li></ul><ul><li><strong>Sistemes de Ruixadors segons UNE 12845
  (2h)</strong><ul><li>Definicions</li><li>Tipus de ruixadors</li><li>Tipu
 s d'instal?lacions</li><li>Classificaci? d'usos i classes de Riscos</li><
 li>Tipus d'Emmagatzematges.</li></ul></li></ul><ul><li><strong>Disseny de
  Ruixadors segons UNE 12845 (3h)</strong><ul><li>Disseny amb&nbsp\;CMDA</
 li><li>Disseny amb&nbsp\;CMDA&nbsp\;precalculat/ Hidr?ulic</li><li>Dissen
 y amb&nbsp\;CMSA&nbsp\;(Annex N)</li><li>Disseny amb&nbsp\;ESFR&nbsp\;(An
 nex P)</li></ul></li></ul><ul><li><strong>Exemples pr?ctics (1h)</strong>
 </li></ul></td></tr><tr><td style="width:100px\; text-align: left\;">Legi
 slaci? i normativa aplicable:</td><td style="text-align: left\;">CTE\,\nR
 SCIEI\, RIPCI\, SP i UNE 12845.<br></td></tr><tr><td style="width:100px\;
  text-align: left\;">Documentaci?:&nbsp\;</td><td style="text-align: left
 \;">La documentaci? estar? disponible a la plataforma entre 24 i 48 hores
  abans de l?inici de la formaci?. En el cas que hi hagi documentaci? addi
 cional una vegada finalitzada la formaci?\, us la facilitarem posteriorme
 nt.<br></td></tr><tr><td style="width:100px\; text-align: left\;">Certifi
 caci?:&nbsp\;</td><td style="text-align: left\;">Una vegada finalitzada l
 ?acci? formativa\, els alumnes obtindran un certificat d?assist?ncia que 
 es podran descarregar a la plataforma.<br></td></tr><tr><td style="width:
 100px\; text-align: left\;">Instruccions per bonificar:<br></td><td style
 ="text-align: left\;"><p>1. Sol?licita els impresos al CETIT a formacio@e
 nginyerstarragona.cat</p><p>2. Aporta tota la informaci? 10 dies naturals
  abans de l'inici del curs.</p><p>3. NOTA IMPORTANT: les bonificacions es
  porten a terme per mitj? d'una assessoria externa. Aquells que vulguin a
 collir-se a la bonificaci? de qualsevol acci? formativa\, el preu s'incre
 mentar? en un 20 % ( que tamb? es podr? bonificar i recuperar).</p><p><st
 rong>*Import m?xim 150 ? (per empresa sol?licitant\, independentment del 
 nombre de treballadors que bonifiquin)</strong><br></p></td></tr></tbody>
 </table>
DTEND;TZID=Europe/Madrid:20251216T180000
DTSTAMP:20260420T073247Z
DTSTART;TZID=Europe/Madrid:20251216T150000
LOCATION:https://www.enginyerstarragona.cat/agenda/details/2204/2204-curs-
 ruixadors-automatics-reglamentacio-disse
SEQUENCE:0
SUMMARY:[CURS] RUIXADORS AUTOM?TICS: REGLAMENTACI?\, DISSENY I ?S DE LA NO
 RMA UNE 12845. Modalitat streaming
UID:ET_Activitat_2204
URL:https://www.enginyerstarragona.cathttps://www.enginyerstarragona.cat/a
 genda/details/2204/2204-curs-ruixadors-automatics-reglamentacio-disse
END:VEVENT
BEGIN:VEVENT
CATEGORIES:Protecci? contraincendis
CREATED;TZID=Europe/Madrid:20260420T093247
DESCRIPTION:<input type="hidden" style="width: 100px\; height: 22px\;"><st
 rong></strong><table class="table"><input type="hidden" style="width: 100
 px\; height: 22px\;">\n	<tbody><input type="hidden" style="width: 100px\;
  height: 22px\;"><tr>\n		<td style="width:100px\; text-align: left\;">Org
 anitza:&nbsp\;</td>\n		<td style="text-align: left\;">ENGINYERS TARRAGONA
 </td>\n	</tr>\n	<tr>\n		<td style="width:100px\; text-align: left\;">Date
 s:</td>\n		<td style="text-align: left\;">15\, 16 i 17 de desembre&nbsp\;
  (dilluns\, dimarts\, dimecres)<br></td>\n	</tr>\n	<tr>\n		<td style="wid
 th:100px\; text-align: left\;">Horari:</td>\n		<td style="text-align: lef
 t\;">De&nbsp\; les 15.00h a les 18.00h</td>\n	</tr>\n	\n	<tr>\n		<td styl
 e="width:100px\; text-align: left\;">Durada:</td><td style="text-align: l
 eft\;">9 hores lectives</td>\n	</tr>\n	<tr><td style="width:100px\; text-
 align: left\;">Dirigit a:</td><td style="text-align: justify\;">Enginyeri
 es i entitats de control.<br></td></tr><tr><td style="width:100px\; text-
 align: left\;">Objectius:</td><td style="text-align: justify\;">Que la ge
 nt entengui la situaci? reglament?ria avui dia a Catalunya sobre els sist
 emes de ruixadors autom?tics i l'?s de la norma UNE 12845 per a un apropa
 ment en el seu disseny i comprensi? de la norma.<br></td></tr>\n\n<tr><td
  style="width:100px\; text-align: left\;">Programa:</td><td style="text-a
 lign: justify\;"><ul><li><strong>Requisits&nbsp\;Normatius&nbsp\;(3h)</st
 rong><ul><li>CTE</li><li>RSCIEI</li><li>RIPCI</li><li>Normatives Internac
 ionals&nbsp\;NFPA&nbsp\;/ FM</li><li>Altres&nbsp\;Requisits&nbsp\;Locals<
 /li></ul></li></ul><ul><li><strong>Sistemes de Ruixadors segons UNE 12845
  (2h)</strong><ul><li>Definicions</li><li>Tipus de ruixadors</li><li>Tipu
 s d'instal?lacions</li><li>Classificaci? d'usos i classes de Riscos</li><
 li>Tipus d'Emmagatzematges.</li></ul></li></ul><ul><li><strong>Disseny de
  Ruixadors segons UNE 12845 (3h)</strong><ul><li>Disseny amb&nbsp\;CMDA</
 li><li>Disseny amb&nbsp\;CMDA&nbsp\;precalculat/ Hidr?ulic</li><li>Dissen
 y amb&nbsp\;CMSA&nbsp\;(Annex N)</li><li>Disseny amb&nbsp\;ESFR&nbsp\;(An
 nex P)</li></ul></li></ul><ul><li><strong>Exemples pr?ctics (1h)</strong>
 </li></ul></td></tr><tr><td style="width:100px\; text-align: left\;">Legi
 slaci? i normativa aplicable:</td><td style="text-align: left\;">CTE\,\nR
 SCIEI\, RIPCI\, SP i UNE 12845.<br></td></tr><tr><td style="width:100px\;
  text-align: left\;">Documentaci?:&nbsp\;</td><td style="text-align: left
 \;">La documentaci? estar? disponible a la plataforma entre 24 i 48 hores
  abans de l?inici de la formaci?. En el cas que hi hagi documentaci? addi
 cional una vegada finalitzada la formaci?\, us la facilitarem posteriorme
 nt.<br></td></tr><tr><td style="width:100px\; text-align: left\;">Certifi
 caci?:&nbsp\;</td><td style="text-align: left\;">Una vegada finalitzada l
 ?acci? formativa\, els alumnes obtindran un certificat d?assist?ncia que 
 es podran descarregar a la plataforma.<br></td></tr><tr><td style="width:
 100px\; text-align: left\;">Instruccions per bonificar:<br></td><td style
 ="text-align: left\;"><p>1. Sol?licita els impresos al CETIT a formacio@e
 nginyerstarragona.cat</p><p>2. Aporta tota la informaci? 10 dies naturals
  abans de l'inici del curs.</p><p>3. NOTA IMPORTANT: les bonificacions es
  porten a terme per mitj? d'una assessoria externa. Aquells que vulguin a
 collir-se a la bonificaci? de qualsevol acci? formativa\, el preu s'incre
 mentar? en un 20 % ( que tamb? es podr? bonificar i recuperar).</p><p><st
 rong>*Import m?xim 150 ? (per empresa sol?licitant\, independentment del 
 nombre de treballadors que bonifiquin)</strong><br></p></td></tr></tbody>
 </table>
DTEND;TZID=Europe/Madrid:20251217T180000
DTSTAMP:20260420T073247Z
DTSTART;TZID=Europe/Madrid:20251217T150000
LOCATION:https://www.enginyerstarragona.cat/agenda/details/2204/2204-curs-
 ruixadors-automatics-reglamentacio-disse
SEQUENCE:0
SUMMARY:[CURS] RUIXADORS AUTOM?TICS: REGLAMENTACI?\, DISSENY I ?S DE LA NO
 RMA UNE 12845. Modalitat streaming
UID:ET_Activitat_2204
URL:https://www.enginyerstarragona.cathttps://www.enginyerstarragona.cat/a
 genda/details/2204/2204-curs-ruixadors-automatics-reglamentacio-disse
END:VEVENT
END:VCALENDAR
