BEGIN:VCALENDAR
PRODID:-//github.com/rianjs/ical.net//NONSGML ical.net 2.2//EN
VERSION:2.0
BEGIN:VEVENT
CATEGORIES:Accidents Greus
CREATED;TZID=Europe/Madrid:20260420T040230
DESCRIPTION:<table class="table">\n	<tbody>\n	<tr><td style="width:100px\;
  text-align: left\;"><strong>Dirigt a:&nbsp\;</strong></td><td style="tex
 t-align: left\;"><p>Professionals en enginyeria\, estudiants d'enginyeria
  o ci?ncies qu?miques\, i grau superior de formaci? professional\, comand
 aments intermedis\, operaris dintre del seu pla de carrera i a tot aquell
  professional que tingui una activitat vinculada a la ind?stria on es gen
 era risc d'accidents greus.</p></td></tr><tr>\n		<td style="width:100px\;
  text-align: left\;"><strong>Dates:</strong></td>\n		<td style="text-alig
 n: left\;">8 d'abril de 2025 (dimarts)<br></td>\n	</tr>\n	<tr>\n		<td sty
 le="width:100px\; text-align: left\;"><strong>Horari:</strong></td>\n		<t
 d style="text-align: left\;">De les 09:00h a les 19:00h (inclou&nbsp\;cof
 fe break i dinar)<br></td>\n	</tr>\n	\n	\n	<tr><td style="width:100px\; t
 ext-align: left\;"><strong>Objectius:</strong></td><td style="text-align:
  justify\;">El programa donar? una visi? actualitzada vers la seguretat i
  el risc.Tamb? descriu com gestionar la seguretat en l'?mbit del treball.
 Es proporcionar? als participis una sistem?tica per analitzar els possibl
 es accidents i obtenir les conclusions necess?ries per evitar que puguin 
 arribar a produir-se.</td></tr><tr>\n		<td style="width:100px\; text-alig
 n: left\;"><strong>Programaci?:</strong></td>\n		<td style="text-align: l
 eft\;"><p><strong>- Concepte de seguretat</strong></p><p><strong>- An?lis
 i de risc</strong></p><p><strong>- Gesti? de la seguretat</strong></p><p>
 <strong>- Accidents de treball a l'ind?stria</strong></p><p><strong>- Inv
 estigaci? d'accidents</strong></p><p><strong>- Elements claus</strong></p
 ><ul><li><span style="background-color: transparent\;">Descripci? dels ac
 cidentso determinaci? de les causes</span></li><li><span style="backgroun
 d-color: transparent\;">Entrevistes als intervinents</span></li><li><span
  style="background-color: transparent\;">Actuacions inspectoreso obligaci
 ons de l'empresari</span></li></ul><p><strong style="background-color: tr
 ansparent\;">- Exemples&nbsp\;d'accidents&nbsp\;greus i la investigaci?</
 strong></p><p><strong style="background-color: transparent\;">- Auditorie
 s de seguretat</strong></p></td>\n	</tr>\n	<tr>\n		<td style="width:100px
 \; text-align: left\;"><strong>Documentaci?:</strong></td>\n		<td style="
 text-align: left\;">La documentaci? estar? disponible a la plataforma ent
 re 24 i 48 hores abans de l?inici de la formaci?. En el cas que hi hagi d
 ocumentaci? addicional una vegada finalitzada la formaci?\, us la facilit
 arem posteriorment.</td>\n	</tr>\n	<tr>\n		<td style="width:100px\; text-
 align: left\;"><strong>Certificaci?:</strong></td>\n		<td style="text-ali
 gn: left\;">Una vegada finalitzada l?acci? formativa\, els alumnes obtind
 ran un certificat d?assist?ncia que es podran descarregar a la plataforma
 .  </td>\n	</tr>\n	\n	<tr><td style="width:100px\; text-align: left\;"><s
 trong>Lloc:&nbsp\;</strong></td><td style="text-align: left\;"><p>A les i
 nstal?lacions Av. Roma\, n7\, 1r pis\, Tarragona&nbsp\; (presencial)</p><
 p>Per la plataforma Webex en l?nia per streaming.&nbsp\;&nbsp\;</p><p>*Ca
 ldr? especificar la modalitat a l'hora de fer la inscripci?.&nbsp\;<br></
 p></td></tr><tr>\n		<td style="width:100px\; text-align: left\;"><strong>
 Bonificacions:</strong></td>\n		<td style="text-align: left\;">Gestionem 
 els tr?mits per tal que puguis beneficiar-te de la bonificaci? correspone
 nt per formaci?.</td>\n	</tr>\n	\n\n	<tr>\n		<td style="width:100px\; tex
 t-align: left\;"><strong>Instruccions per bonificar:</strong></td>\n		<td
  style="text-align: left\;"><p>\n1. Sol?licita els impresos al CETIT a fo
 rmacio@enginyerstarragona.cat\n</p><p>2. Aporta tota la informaci? 10 die
 s naturals abans de l'inici del curs.\n</p><p>3. NOTA IMPORTANT:  les bon
 ificacions es porten a terme per mitj? d'una assessoria externa. </p><p>A
 quells que vulguin acollir-se a la bonificaci? de qualsevol acci? formati
 va\, el preu s'incrementar? en un  20 % ( que tamb? es podr? bonificar i 
 recuperar).\n</p></td>\n	</tr>\n\n</tbody></table>
DTEND;TZID=Europe/Madrid:20241210T190000
DTSTAMP:20260420T020230Z
DTSTART;TZID=Europe/Madrid:20241210T090000
LOCATION:https://www.enginyerstarragona.cat/agenda/details/2116/2116-curs-
 noves-tecniques-dinvestigacio-daccidents
SEQUENCE:0
SUMMARY:[CURS] NOVES T?CNIQUES D'INVESTIGACI? D'ACCIDENTS. Modalitat h?bri
 da
UID:ET_Activitat_2116
URL:https://www.enginyerstarragona.cathttps://www.enginyerstarragona.cat/a
 genda/details/2116/2116-curs-noves-tecniques-dinvestigacio-daccidents
END:VEVENT
END:VCALENDAR
