BEGIN:VCALENDAR
PRODID:-//github.com/rianjs/ical.net//NONSGML ical.net 2.2//EN
VERSION:2.0
BEGIN:VEVENT
CATEGORIES:Activitats
CREATED;TZID=Europe/Madrid:20260422T001746
DESCRIPTION:<b>PONENTS:</b><br>\n\n\nSr. Bjorn Thorbjorsen\, Director Gene
 ral <br>\n\nJosep Casanova\, Director servei posventa - motors de gas<br>
 \n\nAnselmo Fortes\, Director servei posventa- turbines de gas<br>\n\nJos
 ep Barber?\, Coordinador de contractes - motors de gas<br>\n<b>LLOC DE RE
 ALITZACI?:</b>\nA la Sala d\\\\\\\\\\\\\\\'Actes de la seu del Col?legi\,
  Av. de Roma\, 7 de Tarragona<br>\n\n<b>HORARI: </b>\n19.00 hores<br>\n\n
 <b>CONFIRMACI? D\\\\\\\'ASSIST?NCIA: </b>\nA l\\\\\\\'administraci? del C
 ol?legi al tel. 902 076 777\n\n\n
DTEND;TZID=Europe/Madrid;VALUE=DATE:20030606
DTSTAMP:20260422T221746Z
DTSTART;TZID=Europe/Madrid;VALUE=DATE:20030605
LOCATION:https://www.enginyerstarragona.cat/agenda/details/19/19-rolls-roy
 ce-solucions-en-cogeneracio
SEQUENCE:0
SUMMARY:ROLLS ROYCE\, SOLUCIONS EN COGENERACI?
UID:ET_Activitat_19
URL:https://www.enginyerstarragona.cathttps://www.enginyerstarragona.cat/a
 genda/details/19/19-rolls-royce-solucions-en-cogeneracio
END:VEVENT
END:VCALENDAR
